BEGIN:VCALENDAR
VERSION:2.0
PRODID:-//achurchnearyou.com//eventfeed//EN
CALSCALE:GREGORIAN
METHOD:PUBLISH
X-WR-TIMEZONE:UTC
BEGIN:VEVENT
SUMMARY:Holy Communion CW
DTSTART;TZID=Europe/London:20260402T190000
DTEND;TZID=Europe/London:20260402T200000
DTSTAMP:20260423T114201Z
UID:13006601775152800.0achurchnearyou
CATEGORIES:
DESCRIPTION:Maundy Thursday with Stripping of the Altar followed by a meal
GEO:0.788655;52.060459
LOCATION:Gt Waldingfield\, St Lawrence
URL:https://www.achurchnearyou.com/church/1933/service-and-events/events/1
 300660/
END:VEVENT
BEGIN:VEVENT
SUMMARY:Holy Communion CW
DTSTART;TZID=Europe/London:20260405T110000
DTEND;TZID=Europe/London:20260405T120000
DTSTAMP:20260423T114201Z
UID:13006631775383200.0achurchnearyou
CATEGORIES:
DESCRIPTION:EASTER SUNDAY SERVICE
GEO:0.788655;52.060459
LOCATION:Gt Waldingfield\, St Lawrence
URL:https://www.achurchnearyou.com/church/1933/service-and-events/events/1
 300663/
END:VEVENT
BEGIN:VEVENT
SUMMARY:Holy Communion CW
DTSTART;TZID=Europe/London:20260412T103000
DTEND;TZID=Europe/London:20260412T113000
DTSTAMP:20260423T114201Z
UID:13006641775986200.0achurchnearyou
CATEGORIES:
DESCRIPTION:Easter 2
GEO:0.788655;52.060459
LOCATION:Gt Waldingfield\, St Lawrence
URL:https://www.achurchnearyou.com/church/1933/service-and-events/events/1
 300664/
END:VEVENT
BEGIN:VEVENT
SUMMARY:Morning Worship
DTSTART;TZID=Europe/London:20260419T110000
DTEND;TZID=Europe/London:20260419T120000
DTSTAMP:20260423T114201Z
UID:13006661776592800.0achurchnearyou
CATEGORIES:
DESCRIPTION:Easter 3
GEO:0.788655;52.060459
LOCATION:Gt Waldingfield\, St Lawrence
URL:https://www.achurchnearyou.com/church/1933/service-and-events/events/1
 300666/
END:VEVENT
BEGIN:VEVENT
SUMMARY:Holy Communion CW
DTSTART;TZID=Europe/London:20260426T103000
DTEND;TZID=Europe/London:20260426T113000
DTSTAMP:20260423T114201Z
UID:13006671777195800.0achurchnearyou
CATEGORIES:
DESCRIPTION:Easter 4
GEO:0.788655;52.060459
LOCATION:Gt Waldingfield\, St Lawrence
URL:https://www.achurchnearyou.com/church/1933/service-and-events/events/1
 300667/
END:VEVENT
END:VCALENDAR
