BEGIN:VCALENDAR
VERSION:2.0
PRODID:-//achurchnearyou.com//eventfeed//EN
CALSCALE:GREGORIAN
METHOD:PUBLISH
X-WR-TIMEZONE:UTC
BEGIN:VEVENT
SUMMARY:Holy Communion for Christmas Day - BCP
DTSTART:20251225T083000Z
DTEND:20251225T090000Z
DTSTAMP:20260425T122803Z
UID:12740412025-12-25 08:30:00+00:00achurchnearyou
CATEGORIES:
DESCRIPTION:A said service of Holy Communion for Christmas Day - using the
  Book of Common Prayer
GEO:-1.141602;54.48986
LOCATION:Christ Church
URL:https://www.achurchnearyou.com/church/19337/service-and-events/events/
 1274041/
END:VEVENT
END:VCALENDAR
