BEGIN:VCALENDAR
VERSION:2.0
PRODID:-//achurchnearyou.com//eventfeed//EN
CALSCALE:GREGORIAN
METHOD:PUBLISH
X-WR-TIMEZONE:UTC
BEGIN:VEVENT
SUMMARY:The Chosen
DTSTART;TZID=Europe/London:20260216T183000
DTEND;TZID=Europe/London:20260216T194500
DTSTAMP:20260424T125646Z
UID:12941002026-02-16 18:30:00+00:00achurchnearyou
CATEGORIES:
DESCRIPTION:A weekly opportunity to view an episode of The Chosen and ask 
 questions
GEO:-1.141602;54.48986
LOCATION:Christ Church
URL:https://www.achurchnearyou.com/church/19337/service-and-events/events/
 1294100/
END:VEVENT
BEGIN:VEVENT
SUMMARY:The Chosen
DTSTART;TZID=Europe/London:20260223T183000
DTEND;TZID=Europe/London:20260223T194500
DTSTAMP:20260424T125646Z
UID:12941002026-02-23 18:30:00+00:00achurchnearyou
CATEGORIES:
DESCRIPTION:A weekly opportunity to view an episode of The Chosen and ask 
 questions
GEO:-1.141602;54.48986
LOCATION:Christ Church
URL:https://www.achurchnearyou.com/church/19337/service-and-events/events/
 1294100/
END:VEVENT
BEGIN:VEVENT
SUMMARY:The Chosen
DTSTART;TZID=Europe/London:20260302T183000
DTEND;TZID=Europe/London:20260302T194500
DTSTAMP:20260424T125646Z
UID:12941002026-03-02 18:30:00+00:00achurchnearyou
CATEGORIES:
DESCRIPTION:A weekly opportunity to view an episode of The Chosen and ask 
 questions
GEO:-1.141602;54.48986
LOCATION:Christ Church
URL:https://www.achurchnearyou.com/church/19337/service-and-events/events/
 1294100/
END:VEVENT
BEGIN:VEVENT
SUMMARY:The Chosen
DTSTART;TZID=Europe/London:20260309T183000
DTEND;TZID=Europe/London:20260309T194500
DTSTAMP:20260424T125646Z
UID:12941002026-03-09 18:30:00+00:00achurchnearyou
CATEGORIES:
DESCRIPTION:A weekly opportunity to view an episode of The Chosen and ask 
 questions
GEO:-1.141602;54.48986
LOCATION:Christ Church
URL:https://www.achurchnearyou.com/church/19337/service-and-events/events/
 1294100/
END:VEVENT
BEGIN:VEVENT
SUMMARY:The Chosen
DTSTART;TZID=Europe/London:20260316T183000
DTEND;TZID=Europe/London:20260316T194500
DTSTAMP:20260424T125646Z
UID:12941002026-03-16 18:30:00+00:00achurchnearyou
CATEGORIES:
DESCRIPTION:A weekly opportunity to view an episode of The Chosen and ask 
 questions
GEO:-1.141602;54.48986
LOCATION:Christ Church
URL:https://www.achurchnearyou.com/church/19337/service-and-events/events/
 1294100/
END:VEVENT
BEGIN:VEVENT
SUMMARY:The Chosen
DTSTART;TZID=Europe/London:20260323T183000
DTEND;TZID=Europe/London:20260323T194500
DTSTAMP:20260424T125646Z
UID:12941002026-03-23 18:30:00+00:00achurchnearyou
CATEGORIES:
DESCRIPTION:A weekly opportunity to view an episode of The Chosen and ask 
 questions
GEO:-1.141602;54.48986
LOCATION:Christ Church
URL:https://www.achurchnearyou.com/church/19337/service-and-events/events/
 1294100/
END:VEVENT
BEGIN:VEVENT
SUMMARY:The Chosen
DTSTART;TZID=Europe/London:20260330T183000
DTEND;TZID=Europe/London:20260330T194500
DTSTAMP:20260424T125646Z
UID:12941002026-03-30 18:30:00+01:00achurchnearyou
CATEGORIES:
DESCRIPTION:A weekly opportunity to view an episode of The Chosen and ask 
 questions
GEO:-1.141602;54.48986
LOCATION:Christ Church
URL:https://www.achurchnearyou.com/church/19337/service-and-events/events/
 1294100/
END:VEVENT
END:VCALENDAR
