BEGIN:VCALENDAR
VERSION:2.0
PRODID:-//achurchnearyou.com//eventfeed//EN
CALSCALE:GREGORIAN
METHOD:PUBLISH
X-WR-TIMEZONE:UTC
BEGIN:VEVENT
SUMMARY:Maundy Thursday Holy Communion with Stripping of the Sanctuary
DTSTART:20260402T183000Z
DTEND:20260402T194500Z
DTSTAMP:20260424T112841Z
UID:13210332026-04-02 18:30:00+00:00achurchnearyou
CATEGORIES:
DESCRIPTION:We remember the events of the Last Supper where Jesus gave us 
 the command to remember him in bread and wine when we come together as his
  friends.  Towards the end of the service the altar is stripped bare of al
 l decoration as we remember this is the evening he was betrayed and arrest
 ed.
GEO:-1.141602;54.48986
LOCATION:Christ Church
URL:https://www.achurchnearyou.com/church/19337/service-and-events/events/
 1321033/
END:VEVENT
END:VCALENDAR
