BEGIN:VCALENDAR
VERSION:2.0
PRODID:-//achurchnearyou.com//eventfeed//EN
CALSCALE:GREGORIAN
METHOD:PUBLISH
X-WR-TIMEZONE:UTC
BEGIN:VEVENT
SUMMARY:United Benefice Service for Palm Sunday
DTSTART:20260329T093000Z
DTEND:20260329T103000Z
DTSTAMP:20260423T235657Z
UID:10313712026-03-29 09:30:00+00:00achurchnearyou
CATEGORIES:
DESCRIPTION:The six churches in the two benefices join for a Palm Sunday s
 ervice at All Saints' Hawsker
LOCATION:All Saints
URL:https://www.achurchnearyou.com/church/19372/service-and-events/events/
 1031371/
END:VEVENT
END:VCALENDAR
