BEGIN:VCALENDAR
VERSION:2.0
PRODID:-//achurchnearyou.com//eventfeed//EN
CALSCALE:GREGORIAN
METHOD:PUBLISH
X-WR-TIMEZONE:UTC
BEGIN:VEVENT
SUMMARY:Holy Communion
DTSTART:20260222T103000Z
DTEND:20260222T113000Z
DTSTAMP:20260424T083415Z
UID:12913942026-02-22 10:30:00+00:00achurchnearyou
CATEGORIES:
DESCRIPTION:A service of Holy Communion at St Stephen's
GEO:-0.539092;54.434137
LOCATION:St. Stephen’s\, Fylingdales
URL:https://www.achurchnearyou.com/church/19372/service-and-events/events/
 1291394/
END:VEVENT
END:VCALENDAR
