BEGIN:VCALENDAR
VERSION:2.0
PRODID:-//achurchnearyou.com//eventfeed//EN
CALSCALE:GREGORIAN
METHOD:PUBLISH
X-WR-TIMEZONE:UTC
BEGIN:VEVENT
SUMMARY:EXPERIENCE AFTER EASTER
DTSTART:20260415T080000Z
DTEND:20260415T140000Z
DTSTAMP:20260423T173640Z
UID:13259742026-04-15 08:00:00+00:00achurchnearyou
CATEGORIES:
DESCRIPTION:A day of Exploration with our two schools of the events that f
 ollowed Easter\nMorning with Fyluingdales School at St Stephen's\nAfternoo
 n with Hawsker at All Saints'
GEO:-0.539092;54.434137
LOCATION:St. Stephen’s\, Fylingdales\nAll Saints
URL:https://www.achurchnearyou.com/church/19372/service-and-events/events/
 1325974/
END:VEVENT
END:VCALENDAR
