BEGIN:VCALENDAR
VERSION:2.0
PRODID:-//achurchnearyou.com//eventfeed//EN
CALSCALE:GREGORIAN
METHOD:PUBLISH
X-WR-TIMEZONE:UTC
BEGIN:VEVENT
SUMMARY:Christmas Tree Festival
DTSTART:20251206T100000Z
DTEND:20251206T170000Z
DTSTAMP:20260425T210042Z
UID:12633912025-12-06 10:00:00+00:00achurchnearyou
CATEGORIES:
DESCRIPTION:Christmas Tree Festival
LOCATION:All Saints
URL:https://www.achurchnearyou.com/church/19395/service-and-events/events/
 1263391/
END:VEVENT
END:VCALENDAR
