BEGIN:VCALENDAR
VERSION:2.0
PRODID:-//achurchnearyou.com//eventfeed//EN
CALSCALE:GREGORIAN
METHOD:PUBLISH
X-WR-TIMEZONE:UTC
BEGIN:VEVENT
SUMMARY:Easter Day Eucharist
DTSTART:20260405T100000Z
DTEND:20260405T111500Z
DTSTAMP:20260425T144607Z
UID:13051432026-04-05 10:00:00+00:00achurchnearyou
CATEGORIES:
DESCRIPTION:Eucharist with songs and hymns and sermon
LOCATION:All Saints
URL:https://www.achurchnearyou.com/church/19395/service-and-events/events/
 1305143/
END:VEVENT
END:VCALENDAR
