BEGIN:VCALENDAR
VERSION:2.0
PRODID:-//achurchnearyou.com//eventfeed//EN
CALSCALE:GREGORIAN
METHOD:PUBLISH
X-WR-TIMEZONE:UTC
BEGIN:VEVENT
SUMMARY:Remembrance Sunday
DTSTART:20251109T091500Z
DTEND:20251109T101500Z
DTSTAMP:20260422T063239Z
UID:12387682025-11-09 09:15:00+00:00achurchnearyou
CATEGORIES:
DESCRIPTION:We remember those who have given their life for our country in
  two world wars and conflicts since.  \nDuring the service in Church we ke
 ep two minutes silence.
LOCATION:St Michael and All Angels
URL:https://www.achurchnearyou.com/church/19399/service-and-events/events/
 1238768/
END:VEVENT
END:VCALENDAR
