BEGIN:VCALENDAR
VERSION:2.0
PRODID:-//achurchnearyou.com//eventfeed//EN
CALSCALE:GREGORIAN
METHOD:PUBLISH
X-WR-TIMEZONE:UTC
BEGIN:VEVENT
SUMMARY:Maundy Thursday Holy Communion with Foot Washing and Night Vigil
DTSTART:20260402T180000Z
DTEND:20260402T200000Z
DTSTAMP:20260423T121350Z
UID:13198842026-04-02 18:00:00+00:00achurchnearyou
CATEGORIES:
DESCRIPTION:Join us for a solemn and sacred Maundy Thursday service as we 
 gather to remember the final night Jesus shared with His disciples. Throug
 h the ancient traditions of Holy Communion and the washing of feet\, we st
 ep into the story of the Servant-King. We will reflect on the 'Mandatum'
 —the new commandment to love one another as He has loved us—and conclu
 de the evening in the hallowed silence of the stripping of the altar. Come
  prepared for a night of deep prayer and humble fellowship.
GEO:-0.208579;51.486988
LOCATION:St Andrew's Fulham Fields
URL:https://www.achurchnearyou.com/church/19471/service-and-events/events/
 1319884/
END:VEVENT
END:VCALENDAR
