BEGIN:VCALENDAR
VERSION:2.0
PRODID:-//achurchnearyou.com//eventfeed//EN
CALSCALE:GREGORIAN
METHOD:PUBLISH
X-WR-TIMEZONE:UTC
BEGIN:VEVENT
SUMMARY:BCP Service
DTSTART:20250209T113000Z
DTEND:20250209T123000Z
DTSTAMP:20260419T191017Z
UID:11521512025-02-09 11:30:00+00:00achurchnearyou
CATEGORIES:
DESCRIPTION:BCP  Service
LOCATION:St Helen\, Bilton in Ainsty
URL:https://www.achurchnearyou.com/church/19534/service-and-events/events/
 1152151/
END:VEVENT
END:VCALENDAR
