BEGIN:VCALENDAR
VERSION:2.0
PRODID:-//achurchnearyou.com//eventfeed//EN
CALSCALE:GREGORIAN
METHOD:PUBLISH
X-WR-TIMEZONE:UTC
BEGIN:VEVENT
SUMMARY:Morning worship
DTSTART:20250316T100000Z
DTEND:20250316T110000Z
DTSTAMP:20260419T172216Z
UID:11623062025-03-16 10:00:00+00:00achurchnearyou
CATEGORIES:
DESCRIPTION:Morning service for all ages
LOCATION:St John the Baptist\, Hessay
URL:https://www.achurchnearyou.com/church/19534/service-and-events/events/
 1162306/
END:VEVENT
END:VCALENDAR
