BEGIN:VCALENDAR
VERSION:2.0
PRODID:-//achurchnearyou.com//eventfeed//EN
CALSCALE:GREGORIAN
METHOD:PUBLISH
X-WR-TIMEZONE:UTC
BEGIN:VEVENT
SUMMARY:Lent Course: The Spiritual Journey of Coming Out
DTSTART;TZID=Europe/London:20250310T193000
DTEND;TZID=Europe/London:20250310T210000
DTSTAMP:20260421T233335Z
UID:11567182025-03-10 19:30:00+00:00achurchnearyou
CATEGORIES:
DESCRIPTION:Every Monday in Lent\n10th March\; 17th March\; 24th March\; 3
 1st March\; 7th April & 14th April 2025\n7.30pm @ St Bride’s Church Perc
 y St L8 7LT \n\nJoin with us this Lent exploring Barbara Glasson's book Ex
 uberant Church. This groundbreaking book explores what the spiritual journ
 ey of coming out can offer everyone. Barbara is a Patron of the Open Table
  Network and was a Methodist Minister here in Liverpool and served as Pres
 ident of Methodist Union in 2019/2020. \n\nEVERYONE is #morethanwelcome. I
 t is free to attend though we recommend you purchase a copy of the book.  
  Please email Warren on liverpool@opentable.lgbt to register for your free
  place.\n\nSecond hand copies of the book are readily available online or 
 pop into the wonderful News from Nowehere bookshop on Bold Street who will
  gladly order it in for you . If you can’t get hold of a copy for whatev
 er reason\, get in touch as we have spare copies we can share.
GEO:-2.969334;53.397148
LOCATION:St Bride's
URL:https://stbridesliverpool.org.uk/our-events/2025/lentcourse
END:VEVENT
BEGIN:VEVENT
SUMMARY:Lent Course: The Spiritual Journey of Coming Out
DTSTART;TZID=Europe/London:20250317T193000
DTEND;TZID=Europe/London:20250317T210000
DTSTAMP:20260421T233335Z
UID:11567182025-03-17 19:30:00+00:00achurchnearyou
CATEGORIES:
DESCRIPTION:Every Monday in Lent\n10th March\; 17th March\; 24th March\; 3
 1st March\; 7th April & 14th April 2025\n7.30pm @ St Bride’s Church Perc
 y St L8 7LT \n\nJoin with us this Lent exploring Barbara Glasson's book Ex
 uberant Church. This groundbreaking book explores what the spiritual journ
 ey of coming out can offer everyone. Barbara is a Patron of the Open Table
  Network and was a Methodist Minister here in Liverpool and served as Pres
 ident of Methodist Union in 2019/2020. \n\nEVERYONE is #morethanwelcome. I
 t is free to attend though we recommend you purchase a copy of the book.  
  Please email Warren on liverpool@opentable.lgbt to register for your free
  place.\n\nSecond hand copies of the book are readily available online or 
 pop into the wonderful News from Nowehere bookshop on Bold Street who will
  gladly order it in for you . If you can’t get hold of a copy for whatev
 er reason\, get in touch as we have spare copies we can share.
GEO:-2.969334;53.397148
LOCATION:St Bride's
URL:https://stbridesliverpool.org.uk/our-events/2025/lentcourse
END:VEVENT
BEGIN:VEVENT
SUMMARY:Lent Course: The Spiritual Journey of Coming Out
DTSTART;TZID=Europe/London:20250324T193000
DTEND;TZID=Europe/London:20250324T210000
DTSTAMP:20260421T233335Z
UID:11567182025-03-24 19:30:00+00:00achurchnearyou
CATEGORIES:
DESCRIPTION:Every Monday in Lent\n10th March\; 17th March\; 24th March\; 3
 1st March\; 7th April & 14th April 2025\n7.30pm @ St Bride’s Church Perc
 y St L8 7LT \n\nJoin with us this Lent exploring Barbara Glasson's book Ex
 uberant Church. This groundbreaking book explores what the spiritual journ
 ey of coming out can offer everyone. Barbara is a Patron of the Open Table
  Network and was a Methodist Minister here in Liverpool and served as Pres
 ident of Methodist Union in 2019/2020. \n\nEVERYONE is #morethanwelcome. I
 t is free to attend though we recommend you purchase a copy of the book.  
  Please email Warren on liverpool@opentable.lgbt to register for your free
  place.\n\nSecond hand copies of the book are readily available online or 
 pop into the wonderful News from Nowehere bookshop on Bold Street who will
  gladly order it in for you . If you can’t get hold of a copy for whatev
 er reason\, get in touch as we have spare copies we can share.
GEO:-2.969334;53.397148
LOCATION:St Bride's
URL:https://stbridesliverpool.org.uk/our-events/2025/lentcourse
END:VEVENT
BEGIN:VEVENT
SUMMARY:Lent Course: The Spiritual Journey of Coming Out
DTSTART;TZID=Europe/London:20250331T193000
DTEND;TZID=Europe/London:20250331T210000
DTSTAMP:20260421T233335Z
UID:11567182025-03-31 19:30:00+01:00achurchnearyou
CATEGORIES:
DESCRIPTION:Every Monday in Lent\n10th March\; 17th March\; 24th March\; 3
 1st March\; 7th April & 14th April 2025\n7.30pm @ St Bride’s Church Perc
 y St L8 7LT \n\nJoin with us this Lent exploring Barbara Glasson's book Ex
 uberant Church. This groundbreaking book explores what the spiritual journ
 ey of coming out can offer everyone. Barbara is a Patron of the Open Table
  Network and was a Methodist Minister here in Liverpool and served as Pres
 ident of Methodist Union in 2019/2020. \n\nEVERYONE is #morethanwelcome. I
 t is free to attend though we recommend you purchase a copy of the book.  
  Please email Warren on liverpool@opentable.lgbt to register for your free
  place.\n\nSecond hand copies of the book are readily available online or 
 pop into the wonderful News from Nowehere bookshop on Bold Street who will
  gladly order it in for you . If you can’t get hold of a copy for whatev
 er reason\, get in touch as we have spare copies we can share.
GEO:-2.969334;53.397148
LOCATION:St Bride's
URL:https://stbridesliverpool.org.uk/our-events/2025/lentcourse
END:VEVENT
BEGIN:VEVENT
SUMMARY:Lent Course: The Spiritual Journey of Coming Out
DTSTART;TZID=Europe/London:20250407T193000
DTEND;TZID=Europe/London:20250407T210000
DTSTAMP:20260421T233335Z
UID:11567182025-04-07 19:30:00+01:00achurchnearyou
CATEGORIES:
DESCRIPTION:Every Monday in Lent\n10th March\; 17th March\; 24th March\; 3
 1st March\; 7th April & 14th April 2025\n7.30pm @ St Bride’s Church Perc
 y St L8 7LT \n\nJoin with us this Lent exploring Barbara Glasson's book Ex
 uberant Church. This groundbreaking book explores what the spiritual journ
 ey of coming out can offer everyone. Barbara is a Patron of the Open Table
  Network and was a Methodist Minister here in Liverpool and served as Pres
 ident of Methodist Union in 2019/2020. \n\nEVERYONE is #morethanwelcome. I
 t is free to attend though we recommend you purchase a copy of the book.  
  Please email Warren on liverpool@opentable.lgbt to register for your free
  place.\n\nSecond hand copies of the book are readily available online or 
 pop into the wonderful News from Nowehere bookshop on Bold Street who will
  gladly order it in for you . If you can’t get hold of a copy for whatev
 er reason\, get in touch as we have spare copies we can share.
GEO:-2.969334;53.397148
LOCATION:St Bride's
URL:https://stbridesliverpool.org.uk/our-events/2025/lentcourse
END:VEVENT
BEGIN:VEVENT
SUMMARY:Lent Course: The Spiritual Journey of Coming Out
DTSTART;TZID=Europe/London:20250414T193000
DTEND;TZID=Europe/London:20250414T210000
DTSTAMP:20260421T233335Z
UID:11567182025-04-14 19:30:00+01:00achurchnearyou
CATEGORIES:
DESCRIPTION:Every Monday in Lent\n10th March\; 17th March\; 24th March\; 3
 1st March\; 7th April & 14th April 2025\n7.30pm @ St Bride’s Church Perc
 y St L8 7LT \n\nJoin with us this Lent exploring Barbara Glasson's book Ex
 uberant Church. This groundbreaking book explores what the spiritual journ
 ey of coming out can offer everyone. Barbara is a Patron of the Open Table
  Network and was a Methodist Minister here in Liverpool and served as Pres
 ident of Methodist Union in 2019/2020. \n\nEVERYONE is #morethanwelcome. I
 t is free to attend though we recommend you purchase a copy of the book.  
  Please email Warren on liverpool@opentable.lgbt to register for your free
  place.\n\nSecond hand copies of the book are readily available online or 
 pop into the wonderful News from Nowehere bookshop on Bold Street who will
  gladly order it in for you . If you can’t get hold of a copy for whatev
 er reason\, get in touch as we have spare copies we can share.
GEO:-2.969334;53.397148
LOCATION:St Bride's
URL:https://stbridesliverpool.org.uk/our-events/2025/lentcourse
END:VEVENT
END:VCALENDAR
