BEGIN:VCALENDAR
VERSION:2.0
PRODID:-//achurchnearyou.com//eventfeed//EN
CALSCALE:GREGORIAN
METHOD:PUBLISH
X-WR-TIMEZONE:UTC
BEGIN:VEVENT
SUMMARY:Walking with integrity - Celebrating Open Table’s 15th birthday
DTSTART:20230618T173000Z
DTEND:20230618T183000Z
DTSTAMP:20260420T211612Z
UID:9521012023-06-18 17:30:00+00:00achurchnearyou
CATEGORIES:
DESCRIPTION:“No good thing will God withhold from those who walk with in
 tegrity”\n\n— Psalm 84:11\n\nSt Bride’s and Open Table Liverpool inv
 ites YOU to our fifteenth birthday celebration and communion service.\n\nY
 OU are more than welcome to come as you are.\n\nIn June 2008\, six people 
 gathered at the first Open Table service with a vision to start a regular 
 communion service for the LGBTQIA+ community. On the cover of the early or
 ders of service was the above quote from Psalm 84 from which this celebrat
 ion takes inspiration.\n\n15 years later\, the Liverpool community hosts a
 round 50 people each month\, and more than 30 other communities now meet a
 cross England and Wales\, hosting hundreds more each month\, and reaching 
 thousands online.\n\nWe have much to celebrate!\n\nJoin us for a celebrati
 on and thanksgiving communion service led by a member of our community\, t
 he Revd Cate Jacobs\, who was ordained last weekend at Liverpool Cathedral
  and the Open Table Network co-ordinator Kieran Bohann.\n\nDoors open at 6
 pm - refreshments will be served before the service at 6.30pm. The service
  will be followed by refreshments\, and of course rainbow cake!\n\nIf you 
 can’t join us in Liverpool\, you can also join us on Zoom\n\nJoin Zoom M
 eeting\n\nhttps://us02web.zoom.us/j/3487627488?pwd=WmVMU3N3NUd3a0tYMXhLSDl
 qaTJRQT09\n\nMeeting ID: 348 762 7488\n\nPasscode: 494498
GEO:-2.969334;53.397148
LOCATION:St Bride's
URL:https://stbridesliverpool.org.uk/our-events/2023/6/18/walking-with-int
 egrity-celebrating-open-tables-15th-birthday
END:VEVENT
END:VCALENDAR
