BEGIN:VCALENDAR
VERSION:2.0
PRODID:-//achurchnearyou.com//eventfeed//EN
CALSCALE:GREGORIAN
METHOD:PUBLISH
X-WR-TIMEZONE:UTC
BEGIN:VEVENT
SUMMARY:Easter Vigil
DTSTART:20260404T190000Z
DTEND:20260404T201500Z
DTSTAMP:20260423T101138Z
UID:13103132026-04-04 19:00:00+00:00achurchnearyou
CATEGORIES:
DESCRIPTION:We begin the celebrations of Christ's Resurrection\, blessing 
 a fire and lighting the new Paschal Candle. This beautiful service sees th
 e blessing of waters to cleanse and strengthen God's people.
GEO:-0.09631727605743601;51.63037842080315
LOCATION:Holy Trinity Winchmore Hill
URL:https://www.holytrinitywinchmorehill.org.uk/holyweekeaster.htm
END:VEVENT
END:VCALENDAR
