BEGIN:VCALENDAR
VERSION:2.0
PRODID:-//achurchnearyou.com//eventfeed//EN
CALSCALE:GREGORIAN
METHOD:PUBLISH
X-WR-TIMEZONE:UTC
BEGIN:VEVENT
SUMMARY:Free Summer Holiday Family Play Days
DTSTART;TZID=Europe/London:20250730T110000
DTEND;TZID=Europe/London:20250730T160000
DTSTAMP:20260420T003805Z
UID:12129542025-07-30 11:00:00+01:00achurchnearyou
CATEGORIES:
DESCRIPTION:Thanks to the support of The London Borough of Camden and the 
 Dragon Hall Trust we are delighted to offer a series of free family play d
 ays in the churchyard of St Giles-in-the-Fields run by our partners Make-D
 o-Play and Assemble Play. \n\nMake-Do-Play - Summer Play Days\nWednesday 3
 0th July 11am-4pm\nWednesday 6th August 11am-4pm\nWednesday 13th August 11
 am-4pm\nWednesday 20th August 11am-4pm\n\nJoin the Make-Do-Play team in St
  Giles Churchyard for our free Summer Play Days\, for all ages. Resources 
 provided for child directed outdoor play. Children must be accompanied by 
 an adult. \n\nAssemble Play - Play-in-the-Fields\nThursday 21st August 11a
 m-4pm\nFriday 22nd August 11am-4pm\n\nThe team at Assemble Play invite you
  to Play-in-the-Fields in the historic churchyard of St Giles-in-the-Field
 s. Children must be accompanied by an adult. Lunch will be provided. All a
 re very welcome.
GEO:-0.128446;51.515286
LOCATION:St Giles in the Fields (in the West End of London)
URL:https://www.stgilesonline.org/post/free-summer-holiday-family-play-day
 s
END:VEVENT
BEGIN:VEVENT
SUMMARY:Free Summer Holiday Family Play Days
DTSTART;TZID=Europe/London:20250806T110000
DTEND;TZID=Europe/London:20250806T160000
DTSTAMP:20260420T003805Z
UID:12129542025-08-06 11:00:00+01:00achurchnearyou
CATEGORIES:
DESCRIPTION:Thanks to the support of The London Borough of Camden and the 
 Dragon Hall Trust we are delighted to offer a series of free family play d
 ays in the churchyard of St Giles-in-the-Fields run by our partners Make-D
 o-Play and Assemble Play. \n\nMake-Do-Play - Summer Play Days\nWednesday 3
 0th July 11am-4pm\nWednesday 6th August 11am-4pm\nWednesday 13th August 11
 am-4pm\nWednesday 20th August 11am-4pm\n\nJoin the Make-Do-Play team in St
  Giles Churchyard for our free Summer Play Days\, for all ages. Resources 
 provided for child directed outdoor play. Children must be accompanied by 
 an adult. \n\nAssemble Play - Play-in-the-Fields\nThursday 21st August 11a
 m-4pm\nFriday 22nd August 11am-4pm\n\nThe team at Assemble Play invite you
  to Play-in-the-Fields in the historic churchyard of St Giles-in-the-Field
 s. Children must be accompanied by an adult. Lunch will be provided. All a
 re very welcome.
GEO:-0.128446;51.515286
LOCATION:St Giles in the Fields (in the West End of London)
URL:https://www.stgilesonline.org/post/free-summer-holiday-family-play-day
 s
END:VEVENT
BEGIN:VEVENT
SUMMARY:Free Summer Holiday Family Play Days
DTSTART;TZID=Europe/London:20250813T110000
DTEND;TZID=Europe/London:20250813T160000
DTSTAMP:20260420T003805Z
UID:12129542025-08-13 11:00:00+01:00achurchnearyou
CATEGORIES:
DESCRIPTION:Thanks to the support of The London Borough of Camden and the 
 Dragon Hall Trust we are delighted to offer a series of free family play d
 ays in the churchyard of St Giles-in-the-Fields run by our partners Make-D
 o-Play and Assemble Play. \n\nMake-Do-Play - Summer Play Days\nWednesday 3
 0th July 11am-4pm\nWednesday 6th August 11am-4pm\nWednesday 13th August 11
 am-4pm\nWednesday 20th August 11am-4pm\n\nJoin the Make-Do-Play team in St
  Giles Churchyard for our free Summer Play Days\, for all ages. Resources 
 provided for child directed outdoor play. Children must be accompanied by 
 an adult. \n\nAssemble Play - Play-in-the-Fields\nThursday 21st August 11a
 m-4pm\nFriday 22nd August 11am-4pm\n\nThe team at Assemble Play invite you
  to Play-in-the-Fields in the historic churchyard of St Giles-in-the-Field
 s. Children must be accompanied by an adult. Lunch will be provided. All a
 re very welcome.
GEO:-0.128446;51.515286
LOCATION:St Giles in the Fields (in the West End of London)
URL:https://www.stgilesonline.org/post/free-summer-holiday-family-play-day
 s
END:VEVENT
BEGIN:VEVENT
SUMMARY:Free Summer Holiday Family Play Days
DTSTART;TZID=Europe/London:20250820T110000
DTEND;TZID=Europe/London:20250820T160000
DTSTAMP:20260420T003805Z
UID:12129542025-08-20 11:00:00+01:00achurchnearyou
CATEGORIES:
DESCRIPTION:Thanks to the support of The London Borough of Camden and the 
 Dragon Hall Trust we are delighted to offer a series of free family play d
 ays in the churchyard of St Giles-in-the-Fields run by our partners Make-D
 o-Play and Assemble Play. \n\nMake-Do-Play - Summer Play Days\nWednesday 3
 0th July 11am-4pm\nWednesday 6th August 11am-4pm\nWednesday 13th August 11
 am-4pm\nWednesday 20th August 11am-4pm\n\nJoin the Make-Do-Play team in St
  Giles Churchyard for our free Summer Play Days\, for all ages. Resources 
 provided for child directed outdoor play. Children must be accompanied by 
 an adult. \n\nAssemble Play - Play-in-the-Fields\nThursday 21st August 11a
 m-4pm\nFriday 22nd August 11am-4pm\n\nThe team at Assemble Play invite you
  to Play-in-the-Fields in the historic churchyard of St Giles-in-the-Field
 s. Children must be accompanied by an adult. Lunch will be provided. All a
 re very welcome.
GEO:-0.128446;51.515286
LOCATION:St Giles in the Fields (in the West End of London)
URL:https://www.stgilesonline.org/post/free-summer-holiday-family-play-day
 s
END:VEVENT
BEGIN:VEVENT
SUMMARY:Free Summer Holiday Family Play Days
DTSTART;TZID=Europe/London:20250821T110000
DTEND;TZID=Europe/London:20250821T160000
DTSTAMP:20260420T003805Z
UID:12129542025-08-21 11:00:00+01:00achurchnearyou
CATEGORIES:
DESCRIPTION:Thanks to the support of The London Borough of Camden and the 
 Dragon Hall Trust we are delighted to offer a series of free family play d
 ays in the churchyard of St Giles-in-the-Fields run by our partners Make-D
 o-Play and Assemble Play. \n\nMake-Do-Play - Summer Play Days\nWednesday 3
 0th July 11am-4pm\nWednesday 6th August 11am-4pm\nWednesday 13th August 11
 am-4pm\nWednesday 20th August 11am-4pm\n\nJoin the Make-Do-Play team in St
  Giles Churchyard for our free Summer Play Days\, for all ages. Resources 
 provided for child directed outdoor play. Children must be accompanied by 
 an adult. \n\nAssemble Play - Play-in-the-Fields\nThursday 21st August 11a
 m-4pm\nFriday 22nd August 11am-4pm\n\nThe team at Assemble Play invite you
  to Play-in-the-Fields in the historic churchyard of St Giles-in-the-Field
 s. Children must be accompanied by an adult. Lunch will be provided. All a
 re very welcome.
GEO:-0.128446;51.515286
LOCATION:St Giles in the Fields (in the West End of London)
URL:https://www.stgilesonline.org/post/free-summer-holiday-family-play-day
 s
END:VEVENT
BEGIN:VEVENT
SUMMARY:Free Summer Holiday Family Play Days
DTSTART;TZID=Europe/London:20250822T110000
DTEND;TZID=Europe/London:20250822T160000
DTSTAMP:20260420T003805Z
UID:12129542025-08-22 11:00:00+01:00achurchnearyou
CATEGORIES:
DESCRIPTION:Thanks to the support of The London Borough of Camden and the 
 Dragon Hall Trust we are delighted to offer a series of free family play d
 ays in the churchyard of St Giles-in-the-Fields run by our partners Make-D
 o-Play and Assemble Play. \n\nMake-Do-Play - Summer Play Days\nWednesday 3
 0th July 11am-4pm\nWednesday 6th August 11am-4pm\nWednesday 13th August 11
 am-4pm\nWednesday 20th August 11am-4pm\n\nJoin the Make-Do-Play team in St
  Giles Churchyard for our free Summer Play Days\, for all ages. Resources 
 provided for child directed outdoor play. Children must be accompanied by 
 an adult. \n\nAssemble Play - Play-in-the-Fields\nThursday 21st August 11a
 m-4pm\nFriday 22nd August 11am-4pm\n\nThe team at Assemble Play invite you
  to Play-in-the-Fields in the historic churchyard of St Giles-in-the-Field
 s. Children must be accompanied by an adult. Lunch will be provided. All a
 re very welcome.
GEO:-0.128446;51.515286
LOCATION:St Giles in the Fields (in the West End of London)
URL:https://www.stgilesonline.org/post/free-summer-holiday-family-play-day
 s
END:VEVENT
END:VCALENDAR
