BEGIN:VCALENDAR
VERSION:2.0
PRODID:-//achurchnearyou.com//eventfeed//EN
CALSCALE:GREGORIAN
METHOD:PUBLISH
X-WR-TIMEZONE:UTC
BEGIN:VEVENT
SUMMARY:Lite Bite
DTSTART;TZID=Europe/London:20260506T120000
DTEND;TZID=Europe/London:20260506T130000
DTSTAMP:20260423T083312Z
UID:9162562026-05-06 12:00:00+01:00achurchnearyou
CATEGORIES:
DESCRIPTION:Informal lunch (soup\, roll and tea/coffee)
LOCATION:The Old Black Bull\, Raskelf
URL:https://www.achurchnearyou.com/church/19658/service-and-events/events/
 916256/
END:VEVENT
BEGIN:VEVENT
SUMMARY:Lite Bite
DTSTART;TZID=Europe/London:20260603T120000
DTEND;TZID=Europe/London:20260603T130000
DTSTAMP:20260423T083312Z
UID:9162562026-06-03 12:00:00+01:00achurchnearyou
CATEGORIES:
DESCRIPTION:Informal lunch (soup\, roll and tea/coffee)
LOCATION:The Old Black Bull\, Raskelf
URL:https://www.achurchnearyou.com/church/19658/service-and-events/events/
 916256/
END:VEVENT
BEGIN:VEVENT
SUMMARY:Lite Bite
DTSTART;TZID=Europe/London:20260701T120000
DTEND;TZID=Europe/London:20260701T130000
DTSTAMP:20260423T083312Z
UID:9162562026-07-01 12:00:00+01:00achurchnearyou
CATEGORIES:
DESCRIPTION:Informal lunch (soup\, roll and tea/coffee)
LOCATION:The Old Black Bull\, Raskelf
URL:https://www.achurchnearyou.com/church/19658/service-and-events/events/
 916256/
END:VEVENT
BEGIN:VEVENT
SUMMARY:Lite Bite
DTSTART;TZID=Europe/London:20260805T120000
DTEND;TZID=Europe/London:20260805T130000
DTSTAMP:20260423T083312Z
UID:9162562026-08-05 12:00:00+01:00achurchnearyou
CATEGORIES:
DESCRIPTION:Informal lunch (soup\, roll and tea/coffee)
LOCATION:The Old Black Bull\, Raskelf
URL:https://www.achurchnearyou.com/church/19658/service-and-events/events/
 916256/
END:VEVENT
BEGIN:VEVENT
SUMMARY:Lite Bite
DTSTART;TZID=Europe/London:20260902T120000
DTEND;TZID=Europe/London:20260902T130000
DTSTAMP:20260423T083312Z
UID:9162562026-09-02 12:00:00+01:00achurchnearyou
CATEGORIES:
DESCRIPTION:Informal lunch (soup\, roll and tea/coffee)
LOCATION:The Old Black Bull\, Raskelf
URL:https://www.achurchnearyou.com/church/19658/service-and-events/events/
 916256/
END:VEVENT
BEGIN:VEVENT
SUMMARY:Lite Bite
DTSTART;TZID=Europe/London:20261007T120000
DTEND;TZID=Europe/London:20261007T130000
DTSTAMP:20260423T083312Z
UID:9162562026-10-07 12:00:00+01:00achurchnearyou
CATEGORIES:
DESCRIPTION:Informal lunch (soup\, roll and tea/coffee)
LOCATION:The Old Black Bull\, Raskelf
URL:https://www.achurchnearyou.com/church/19658/service-and-events/events/
 916256/
END:VEVENT
BEGIN:VEVENT
SUMMARY:Lite Bite
DTSTART;TZID=Europe/London:20261104T120000
DTEND;TZID=Europe/London:20261104T130000
DTSTAMP:20260423T083312Z
UID:9162562026-11-04 12:00:00+00:00achurchnearyou
CATEGORIES:
DESCRIPTION:Informal lunch (soup\, roll and tea/coffee)
LOCATION:The Old Black Bull\, Raskelf
URL:https://www.achurchnearyou.com/church/19658/service-and-events/events/
 916256/
END:VEVENT
BEGIN:VEVENT
SUMMARY:Lite Bite
DTSTART;TZID=Europe/London:20261202T120000
DTEND;TZID=Europe/London:20261202T130000
DTSTAMP:20260423T083312Z
UID:9162562026-12-02 12:00:00+00:00achurchnearyou
CATEGORIES:
DESCRIPTION:Informal lunch (soup\, roll and tea/coffee)
LOCATION:The Old Black Bull\, Raskelf
URL:https://www.achurchnearyou.com/church/19658/service-and-events/events/
 916256/
END:VEVENT
BEGIN:VEVENT
SUMMARY:Lite Bite
DTSTART;TZID=Europe/London:20270106T120000
DTEND;TZID=Europe/London:20270106T130000
DTSTAMP:20260423T083312Z
UID:9162562027-01-06 12:00:00+00:00achurchnearyou
CATEGORIES:
DESCRIPTION:Informal lunch (soup\, roll and tea/coffee)
LOCATION:The Old Black Bull\, Raskelf
URL:https://www.achurchnearyou.com/church/19658/service-and-events/events/
 916256/
END:VEVENT
BEGIN:VEVENT
SUMMARY:Lite Bite
DTSTART;TZID=Europe/London:20270203T120000
DTEND;TZID=Europe/London:20270203T130000
DTSTAMP:20260423T083312Z
UID:9162562027-02-03 12:00:00+00:00achurchnearyou
CATEGORIES:
DESCRIPTION:Informal lunch (soup\, roll and tea/coffee)
LOCATION:The Old Black Bull\, Raskelf
URL:https://www.achurchnearyou.com/church/19658/service-and-events/events/
 916256/
END:VEVENT
BEGIN:VEVENT
SUMMARY:Lite Bite
DTSTART;TZID=Europe/London:20270303T120000
DTEND;TZID=Europe/London:20270303T130000
DTSTAMP:20260423T083312Z
UID:9162562027-03-03 12:00:00+00:00achurchnearyou
CATEGORIES:
DESCRIPTION:Informal lunch (soup\, roll and tea/coffee)
LOCATION:The Old Black Bull\, Raskelf
URL:https://www.achurchnearyou.com/church/19658/service-and-events/events/
 916256/
END:VEVENT
BEGIN:VEVENT
SUMMARY:Lite Bite
DTSTART;TZID=Europe/London:20270407T120000
DTEND;TZID=Europe/London:20270407T130000
DTSTAMP:20260423T083312Z
UID:9162562027-04-07 12:00:00+01:00achurchnearyou
CATEGORIES:
DESCRIPTION:Informal lunch (soup\, roll and tea/coffee)
LOCATION:The Old Black Bull\, Raskelf
URL:https://www.achurchnearyou.com/church/19658/service-and-events/events/
 916256/
END:VEVENT
END:VCALENDAR
