BEGIN:VCALENDAR
VERSION:2.0
PRODID:-//achurchnearyou.com//eventfeed//EN
CALSCALE:GREGORIAN
METHOD:PUBLISH
X-WR-TIMEZONE:UTC
BEGIN:VEVENT
SUMMARY:Holy Week Meal
DTSTART:20260331T173000Z
DTEND:20260331T200000Z
DTSTAMP:20260423T103611Z
UID:4960052026-03-31 17:30:00+00:00achurchnearyou
CATEGORIES:
DESCRIPTION:A great celebration for all ages at the start of Holy Week wit
 h Palestinian Food. Arrive from 6.30pm for 7pm.
LOCATION:Westbury Park Methodist Church
URL:https://www.westburyparkchurch.org.uk/holy-week-and-easter/
END:VEVENT
END:VCALENDAR
