BEGIN:VCALENDAR
VERSION:2.0
PRODID:-//achurchnearyou.com//eventfeed//EN
CALSCALE:GREGORIAN
METHOD:PUBLISH
X-WR-TIMEZONE:UTC
BEGIN:VEVENT
SUMMARY:Easter Sunday Mass
DTSTART:20250420T100000Z
DTEND:20250420T110000Z
DTSTAMP:20260421T203911Z
UID:11899792025-04-20 10:00:00+00:00achurchnearyou
CATEGORIES:
DESCRIPTION:Our usual Sunday mass\, but with the added focus of Easter Sun
 day.
GEO:-2.322356;53.510739
LOCATION:St. Augustine's Pendlebury
URL:https://www.achurchnearyou.com/church/19746/service-and-events/events/
 1189979/
END:VEVENT
END:VCALENDAR
