BEGIN:VCALENDAR
VERSION:2.0
PRODID:-//achurchnearyou.com//eventfeed//EN
CALSCALE:GREGORIAN
METHOD:PUBLISH
X-WR-TIMEZONE:UTC
BEGIN:VEVENT
SUMMARY:Christmas Eve Mass of the Night
DTSTART:20251224T190000Z
DTEND:20251224T200000Z
DTSTAMP:20260419T191011Z
UID:12732652025-12-24 19:00:00+00:00achurchnearyou
CATEGORIES:
DESCRIPTION:On Christmas Eve we celebrate the Mass of the Night at 7pm\, w
 ith traditional carols and concluding with the Blessing of the Crib. Trans
 port is available for those who ask.
GEO:-2.350924;53.516839
LOCATION:All Saints' Wardley
URL:https://www.achurchnearyou.com/church/19747/service-and-events/events/
 1273265/
END:VEVENT
END:VCALENDAR
