BEGIN:VCALENDAR
VERSION:2.0
PRODID:-//achurchnearyou.com//eventfeed//EN
CALSCALE:GREGORIAN
METHOD:PUBLISH
X-WR-TIMEZONE:UTC
BEGIN:VEVENT
SUMMARY:Good Friday - all age crafts
DTSTART:20260403T093000Z
DTEND:20260403T103000Z
DTSTAMP:20260423T204047Z
UID:11873302026-04-03 09:30:00+00:00achurchnearyou
CATEGORIES:
DESCRIPTION:All age Easter crafts with refreshments and hot cross buns. Fr
 ee to attend just pop in.
GEO:-2.169628;53.402714
LOCATION:St. Matthew's Church\, Edgeley & Cheadle Heath
URL:https://www.achurchnearyou.com/church/19774/service-and-events/events/
 1187330/
END:VEVENT
END:VCALENDAR
