BEGIN:VCALENDAR
VERSION:2.0
PRODID:-//achurchnearyou.com//eventfeed//EN
CALSCALE:GREGORIAN
METHOD:PUBLISH
X-WR-TIMEZONE:UTC
BEGIN:VEVENT
SUMMARY:May Festival Concert - Light for the World
DTSTART:20250517T180000Z
DTEND:20250517T191500Z
DTSTAMP:20260424T215316Z
UID:11966962025-05-17 18:00:00+00:00achurchnearyou
CATEGORIES:
DESCRIPTION:A joyful presentation of music featuring Ken and Rachel Bartel
 s (All Souls\, Langham Place) and the Rushmere Concert choir directed by R
 ichard Hubbard. Ken and Rachel are celebrated perforrmers on flute\, harp 
 and piano\, and wll-known presenters of music in a Christian context. The 
 concert is free\, and there is no need to book - just turn up!
GEO:1.20268;52.069122
LOCATION:Rushmere
URL:https://standrewschurchrushmere.onesuffolk.net/may-festival/
END:VEVENT
END:VCALENDAR
