BEGIN:VCALENDAR
VERSION:2.0
PRODID:-//achurchnearyou.com//eventfeed//EN
CALSCALE:GREGORIAN
METHOD:PUBLISH
X-WR-TIMEZONE:UTC
BEGIN:VEVENT
SUMMARY:Messy Church
DTSTART;TZID=Europe/London:20230923T160000
DTEND;TZID=Europe/London:20230923T173000
DTSTAMP:20260423T103552Z
UID:9615682023-09-23 16:00:00+01:00achurchnearyou
CATEGORIES:
DESCRIPTION:Crafts\, food and great fun for all the family!
LOCATION:Scout Hall
URL:https://standrewschurchrushmere.onesuffolk.net/young-people/messy-chur
 ch/
END:VEVENT
BEGIN:VEVENT
SUMMARY:Messy Church
DTSTART;TZID=Europe/London:20231028T160000
DTEND;TZID=Europe/London:20231028T173000
DTSTAMP:20260423T103552Z
UID:9615682023-10-28 16:00:00+01:00achurchnearyou
CATEGORIES:
DESCRIPTION:Crafts\, food and great fun for all the family!
LOCATION:Scout Hall
URL:https://standrewschurchrushmere.onesuffolk.net/young-people/messy-chur
 ch/
END:VEVENT
BEGIN:VEVENT
SUMMARY:Messy Church
DTSTART;TZID=Europe/London:20231125T160000
DTEND;TZID=Europe/London:20231125T173000
DTSTAMP:20260423T103552Z
UID:9615682023-11-25 16:00:00+00:00achurchnearyou
CATEGORIES:
DESCRIPTION:Crafts\, food and great fun for all the family!
LOCATION:Scout Hall
URL:https://standrewschurchrushmere.onesuffolk.net/young-people/messy-chur
 ch/
END:VEVENT
BEGIN:VEVENT
SUMMARY:Messy Church
DTSTART;TZID=Europe/London:20231223T160000
DTEND;TZID=Europe/London:20231223T173000
DTSTAMP:20260423T103552Z
UID:9615682023-12-23 16:00:00+00:00achurchnearyou
CATEGORIES:
DESCRIPTION:Crafts\, food and great fun for all the family!
LOCATION:Scout Hall
URL:https://standrewschurchrushmere.onesuffolk.net/young-people/messy-chur
 ch/
END:VEVENT
BEGIN:VEVENT
SUMMARY:Messy Church
DTSTART;TZID=Europe/London:20240127T160000
DTEND;TZID=Europe/London:20240127T173000
DTSTAMP:20260423T103552Z
UID:9615682024-01-27 16:00:00+00:00achurchnearyou
CATEGORIES:
DESCRIPTION:Crafts\, food and great fun for all the family!
LOCATION:Scout Hall
URL:https://standrewschurchrushmere.onesuffolk.net/young-people/messy-chur
 ch/
END:VEVENT
BEGIN:VEVENT
SUMMARY:Messy Church
DTSTART;TZID=Europe/London:20240224T160000
DTEND;TZID=Europe/London:20240224T173000
DTSTAMP:20260423T103552Z
UID:9615682024-02-24 16:00:00+00:00achurchnearyou
CATEGORIES:
DESCRIPTION:Crafts\, food and great fun for all the family!
LOCATION:Scout Hall
URL:https://standrewschurchrushmere.onesuffolk.net/young-people/messy-chur
 ch/
END:VEVENT
BEGIN:VEVENT
SUMMARY:Messy Church
DTSTART;TZID=Europe/London:20240323T160000
DTEND;TZID=Europe/London:20240323T173000
DTSTAMP:20260423T103552Z
UID:9615682024-03-23 16:00:00+00:00achurchnearyou
CATEGORIES:
DESCRIPTION:Crafts\, food and great fun for all the family!
LOCATION:Scout Hall
URL:https://standrewschurchrushmere.onesuffolk.net/young-people/messy-chur
 ch/
END:VEVENT
BEGIN:VEVENT
SUMMARY:Messy Church
DTSTART;TZID=Europe/London:20240427T160000
DTEND;TZID=Europe/London:20240427T173000
DTSTAMP:20260423T103552Z
UID:9615682024-04-27 16:00:00+01:00achurchnearyou
CATEGORIES:
DESCRIPTION:Crafts\, food and great fun for all the family!
LOCATION:Scout Hall
URL:https://standrewschurchrushmere.onesuffolk.net/young-people/messy-chur
 ch/
END:VEVENT
BEGIN:VEVENT
SUMMARY:Messy Church
DTSTART;TZID=Europe/London:20240525T160000
DTEND;TZID=Europe/London:20240525T173000
DTSTAMP:20260423T103552Z
UID:9615682024-05-25 16:00:00+01:00achurchnearyou
CATEGORIES:
DESCRIPTION:Crafts\, food and great fun for all the family!
LOCATION:Scout Hall
URL:https://standrewschurchrushmere.onesuffolk.net/young-people/messy-chur
 ch/
END:VEVENT
BEGIN:VEVENT
SUMMARY:Messy Church
DTSTART;TZID=Europe/London:20240622T160000
DTEND;TZID=Europe/London:20240622T173000
DTSTAMP:20260423T103552Z
UID:9615682024-06-22 16:00:00+01:00achurchnearyou
CATEGORIES:
DESCRIPTION:Crafts\, food and great fun for all the family!
LOCATION:Scout Hall
URL:https://standrewschurchrushmere.onesuffolk.net/young-people/messy-chur
 ch/
END:VEVENT
BEGIN:VEVENT
SUMMARY:Messy Church
DTSTART;TZID=Europe/London:20240727T160000
DTEND;TZID=Europe/London:20240727T173000
DTSTAMP:20260423T103552Z
UID:9615682024-07-27 16:00:00+01:00achurchnearyou
CATEGORIES:
DESCRIPTION:Crafts\, food and great fun for all the family!
LOCATION:Scout Hall
URL:https://standrewschurchrushmere.onesuffolk.net/young-people/messy-chur
 ch/
END:VEVENT
BEGIN:VEVENT
SUMMARY:Messy Church
DTSTART;TZID=Europe/London:20240824T160000
DTEND;TZID=Europe/London:20240824T173000
DTSTAMP:20260423T103552Z
UID:9615682024-08-24 16:00:00+01:00achurchnearyou
CATEGORIES:
DESCRIPTION:Crafts\, food and great fun for all the family!
LOCATION:Scout Hall
URL:https://standrewschurchrushmere.onesuffolk.net/young-people/messy-chur
 ch/
END:VEVENT
BEGIN:VEVENT
SUMMARY:Messy Church
DTSTART;TZID=Europe/London:20240928T160000
DTEND;TZID=Europe/London:20240928T173000
DTSTAMP:20260423T103552Z
UID:9615682024-09-28 16:00:00+01:00achurchnearyou
CATEGORIES:
DESCRIPTION:Crafts\, food and great fun for all the family!
LOCATION:Scout Hall
URL:https://standrewschurchrushmere.onesuffolk.net/young-people/messy-chur
 ch/
END:VEVENT
BEGIN:VEVENT
SUMMARY:Messy Church
DTSTART;TZID=Europe/London:20241026T160000
DTEND;TZID=Europe/London:20241026T173000
DTSTAMP:20260423T103552Z
UID:9615682024-10-26 16:00:00+01:00achurchnearyou
CATEGORIES:
DESCRIPTION:Crafts\, food and great fun for all the family!
LOCATION:Scout Hall
URL:https://standrewschurchrushmere.onesuffolk.net/young-people/messy-chur
 ch/
END:VEVENT
BEGIN:VEVENT
SUMMARY:Messy Church
DTSTART;TZID=Europe/London:20241123T160000
DTEND;TZID=Europe/London:20241123T173000
DTSTAMP:20260423T103552Z
UID:9615682024-11-23 16:00:00+00:00achurchnearyou
CATEGORIES:
DESCRIPTION:Crafts\, food and great fun for all the family!
LOCATION:Scout Hall
URL:https://standrewschurchrushmere.onesuffolk.net/young-people/messy-chur
 ch/
END:VEVENT
BEGIN:VEVENT
SUMMARY:Messy Church
DTSTART;TZID=Europe/London:20241228T160000
DTEND;TZID=Europe/London:20241228T173000
DTSTAMP:20260423T103552Z
UID:9615682024-12-28 16:00:00+00:00achurchnearyou
CATEGORIES:
DESCRIPTION:Crafts\, food and great fun for all the family!
LOCATION:Scout Hall
URL:https://standrewschurchrushmere.onesuffolk.net/young-people/messy-chur
 ch/
END:VEVENT
BEGIN:VEVENT
SUMMARY:Messy Church
DTSTART;TZID=Europe/London:20250125T160000
DTEND;TZID=Europe/London:20250125T173000
DTSTAMP:20260423T103552Z
UID:9615682025-01-25 16:00:00+00:00achurchnearyou
CATEGORIES:
DESCRIPTION:Crafts\, food and great fun for all the family!
LOCATION:Scout Hall
URL:https://standrewschurchrushmere.onesuffolk.net/young-people/messy-chur
 ch/
END:VEVENT
BEGIN:VEVENT
SUMMARY:Messy Church
DTSTART;TZID=Europe/London:20250222T160000
DTEND;TZID=Europe/London:20250222T173000
DTSTAMP:20260423T103552Z
UID:9615682025-02-22 16:00:00+00:00achurchnearyou
CATEGORIES:
DESCRIPTION:Crafts\, food and great fun for all the family!
LOCATION:Scout Hall
URL:https://standrewschurchrushmere.onesuffolk.net/young-people/messy-chur
 ch/
END:VEVENT
BEGIN:VEVENT
SUMMARY:Messy Church
DTSTART;TZID=Europe/London:20250322T160000
DTEND;TZID=Europe/London:20250322T173000
DTSTAMP:20260423T103552Z
UID:9615682025-03-22 16:00:00+00:00achurchnearyou
CATEGORIES:
DESCRIPTION:Crafts\, food and great fun for all the family!
LOCATION:Scout Hall
URL:https://standrewschurchrushmere.onesuffolk.net/young-people/messy-chur
 ch/
END:VEVENT
BEGIN:VEVENT
SUMMARY:Messy Church
DTSTART;TZID=Europe/London:20250426T160000
DTEND;TZID=Europe/London:20250426T173000
DTSTAMP:20260423T103552Z
UID:9615682025-04-26 16:00:00+01:00achurchnearyou
CATEGORIES:
DESCRIPTION:Crafts\, food and great fun for all the family!
LOCATION:Scout Hall
URL:https://standrewschurchrushmere.onesuffolk.net/young-people/messy-chur
 ch/
END:VEVENT
BEGIN:VEVENT
SUMMARY:Messy Church
DTSTART;TZID=Europe/London:20250524T160000
DTEND;TZID=Europe/London:20250524T173000
DTSTAMP:20260423T103552Z
UID:9615682025-05-24 16:00:00+01:00achurchnearyou
CATEGORIES:
DESCRIPTION:Crafts\, food and great fun for all the family!
LOCATION:Scout Hall
URL:https://standrewschurchrushmere.onesuffolk.net/young-people/messy-chur
 ch/
END:VEVENT
BEGIN:VEVENT
SUMMARY:Messy Church
DTSTART;TZID=Europe/London:20250628T160000
DTEND;TZID=Europe/London:20250628T173000
DTSTAMP:20260423T103552Z
UID:9615682025-06-28 16:00:00+01:00achurchnearyou
CATEGORIES:
DESCRIPTION:Crafts\, food and great fun for all the family!
LOCATION:Scout Hall
URL:https://standrewschurchrushmere.onesuffolk.net/young-people/messy-chur
 ch/
END:VEVENT
BEGIN:VEVENT
SUMMARY:Messy Church
DTSTART;TZID=Europe/London:20250726T160000
DTEND;TZID=Europe/London:20250726T173000
DTSTAMP:20260423T103552Z
UID:9615682025-07-26 16:00:00+01:00achurchnearyou
CATEGORIES:
DESCRIPTION:Crafts\, food and great fun for all the family!
LOCATION:Scout Hall
URL:https://standrewschurchrushmere.onesuffolk.net/young-people/messy-chur
 ch/
END:VEVENT
BEGIN:VEVENT
SUMMARY:Messy Church
DTSTART;TZID=Europe/London:20250823T160000
DTEND;TZID=Europe/London:20250823T173000
DTSTAMP:20260423T103552Z
UID:9615682025-08-23 16:00:00+01:00achurchnearyou
CATEGORIES:
DESCRIPTION:Crafts\, food and great fun for all the family!
LOCATION:Scout Hall
URL:https://standrewschurchrushmere.onesuffolk.net/young-people/messy-chur
 ch/
END:VEVENT
BEGIN:VEVENT
SUMMARY:Messy Church
DTSTART;TZID=Europe/London:20250927T160000
DTEND;TZID=Europe/London:20250927T173000
DTSTAMP:20260423T103552Z
UID:9615682025-09-27 16:00:00+01:00achurchnearyou
CATEGORIES:
DESCRIPTION:Crafts\, food and great fun for all the family!
LOCATION:Scout Hall
URL:https://standrewschurchrushmere.onesuffolk.net/young-people/messy-chur
 ch/
END:VEVENT
BEGIN:VEVENT
SUMMARY:Messy Church
DTSTART;TZID=Europe/London:20251025T160000
DTEND;TZID=Europe/London:20251025T173000
DTSTAMP:20260423T103552Z
UID:9615682025-10-25 16:00:00+01:00achurchnearyou
CATEGORIES:
DESCRIPTION:Crafts\, food and great fun for all the family!
LOCATION:Scout Hall
URL:https://standrewschurchrushmere.onesuffolk.net/young-people/messy-chur
 ch/
END:VEVENT
BEGIN:VEVENT
SUMMARY:Messy Church
DTSTART;TZID=Europe/London:20251122T160000
DTEND;TZID=Europe/London:20251122T173000
DTSTAMP:20260423T103552Z
UID:9615682025-11-22 16:00:00+00:00achurchnearyou
CATEGORIES:
DESCRIPTION:Crafts\, food and great fun for all the family!
LOCATION:Scout Hall
URL:https://standrewschurchrushmere.onesuffolk.net/young-people/messy-chur
 ch/
END:VEVENT
BEGIN:VEVENT
SUMMARY:Messy Church
DTSTART;TZID=Europe/London:20260124T160000
DTEND;TZID=Europe/London:20260124T173000
DTSTAMP:20260423T103552Z
UID:9615682026-01-24 16:00:00+00:00achurchnearyou
CATEGORIES:
DESCRIPTION:Crafts\, food and great fun for all the family!
LOCATION:Scout Hall
URL:https://standrewschurchrushmere.onesuffolk.net/young-people/messy-chur
 ch/
END:VEVENT
BEGIN:VEVENT
SUMMARY:Messy Church
DTSTART;TZID=Europe/London:20260228T160000
DTEND;TZID=Europe/London:20260228T173000
DTSTAMP:20260423T103552Z
UID:9615682026-02-28 16:00:00+00:00achurchnearyou
CATEGORIES:
DESCRIPTION:Crafts\, food and great fun for all the family!
LOCATION:Scout Hall
URL:https://standrewschurchrushmere.onesuffolk.net/young-people/messy-chur
 ch/
END:VEVENT
BEGIN:VEVENT
SUMMARY:Messy Church
DTSTART;TZID=Europe/London:20260328T160000
DTEND;TZID=Europe/London:20260328T173000
DTSTAMP:20260423T103552Z
UID:9615682026-03-28 16:00:00+00:00achurchnearyou
CATEGORIES:
DESCRIPTION:Crafts\, food and great fun for all the family!
LOCATION:Scout Hall
URL:https://standrewschurchrushmere.onesuffolk.net/young-people/messy-chur
 ch/
END:VEVENT
BEGIN:VEVENT
SUMMARY:Messy Church
DTSTART;TZID=Europe/London:20260425T160000
DTEND;TZID=Europe/London:20260425T173000
DTSTAMP:20260423T103552Z
UID:9615682026-04-25 16:00:00+01:00achurchnearyou
CATEGORIES:
DESCRIPTION:Crafts\, food and great fun for all the family!
LOCATION:Scout Hall
URL:https://standrewschurchrushmere.onesuffolk.net/young-people/messy-chur
 ch/
END:VEVENT
BEGIN:VEVENT
SUMMARY:Messy Church
DTSTART;TZID=Europe/London:20260523T160000
DTEND;TZID=Europe/London:20260523T173000
DTSTAMP:20260423T103552Z
UID:9615682026-05-23 16:00:00+01:00achurchnearyou
CATEGORIES:
DESCRIPTION:Crafts\, food and great fun for all the family!
LOCATION:Scout Hall
URL:https://standrewschurchrushmere.onesuffolk.net/young-people/messy-chur
 ch/
END:VEVENT
BEGIN:VEVENT
SUMMARY:Messy Church
DTSTART;TZID=Europe/London:20260627T160000
DTEND;TZID=Europe/London:20260627T173000
DTSTAMP:20260423T103552Z
UID:9615682026-06-27 16:00:00+01:00achurchnearyou
CATEGORIES:
DESCRIPTION:Crafts\, food and great fun for all the family!
LOCATION:Scout Hall
URL:https://standrewschurchrushmere.onesuffolk.net/young-people/messy-chur
 ch/
END:VEVENT
BEGIN:VEVENT
SUMMARY:Messy Church
DTSTART;TZID=Europe/London:20260725T160000
DTEND;TZID=Europe/London:20260725T173000
DTSTAMP:20260423T103552Z
UID:9615682026-07-25 16:00:00+01:00achurchnearyou
CATEGORIES:
DESCRIPTION:Crafts\, food and great fun for all the family!
LOCATION:Scout Hall
URL:https://standrewschurchrushmere.onesuffolk.net/young-people/messy-chur
 ch/
END:VEVENT
BEGIN:VEVENT
SUMMARY:Messy Church
DTSTART;TZID=Europe/London:20260822T160000
DTEND;TZID=Europe/London:20260822T173000
DTSTAMP:20260423T103552Z
UID:9615682026-08-22 16:00:00+01:00achurchnearyou
CATEGORIES:
DESCRIPTION:Crafts\, food and great fun for all the family!
LOCATION:Scout Hall
URL:https://standrewschurchrushmere.onesuffolk.net/young-people/messy-chur
 ch/
END:VEVENT
BEGIN:VEVENT
SUMMARY:Messy Church
DTSTART;TZID=Europe/London:20260926T160000
DTEND;TZID=Europe/London:20260926T173000
DTSTAMP:20260423T103552Z
UID:9615682026-09-26 16:00:00+01:00achurchnearyou
CATEGORIES:
DESCRIPTION:Crafts\, food and great fun for all the family!
LOCATION:Scout Hall
URL:https://standrewschurchrushmere.onesuffolk.net/young-people/messy-chur
 ch/
END:VEVENT
BEGIN:VEVENT
SUMMARY:Messy Church
DTSTART;TZID=Europe/London:20261024T160000
DTEND;TZID=Europe/London:20261024T173000
DTSTAMP:20260423T103552Z
UID:9615682026-10-24 16:00:00+01:00achurchnearyou
CATEGORIES:
DESCRIPTION:Crafts\, food and great fun for all the family!
LOCATION:Scout Hall
URL:https://standrewschurchrushmere.onesuffolk.net/young-people/messy-chur
 ch/
END:VEVENT
BEGIN:VEVENT
SUMMARY:Messy Church
DTSTART;TZID=Europe/London:20261128T160000
DTEND;TZID=Europe/London:20261128T173000
DTSTAMP:20260423T103552Z
UID:9615682026-11-28 16:00:00+00:00achurchnearyou
CATEGORIES:
DESCRIPTION:Crafts\, food and great fun for all the family!
LOCATION:Scout Hall
URL:https://standrewschurchrushmere.onesuffolk.net/young-people/messy-chur
 ch/
END:VEVENT
BEGIN:VEVENT
SUMMARY:Messy Church
DTSTART;TZID=Europe/London:20261226T160000
DTEND;TZID=Europe/London:20261226T173000
DTSTAMP:20260423T103552Z
UID:9615682026-12-26 16:00:00+00:00achurchnearyou
CATEGORIES:
DESCRIPTION:Crafts\, food and great fun for all the family!
LOCATION:Scout Hall
URL:https://standrewschurchrushmere.onesuffolk.net/young-people/messy-chur
 ch/
END:VEVENT
BEGIN:VEVENT
SUMMARY:Messy Church
DTSTART;TZID=Europe/London:20270123T160000
DTEND;TZID=Europe/London:20270123T173000
DTSTAMP:20260423T103552Z
UID:9615682027-01-23 16:00:00+00:00achurchnearyou
CATEGORIES:
DESCRIPTION:Crafts\, food and great fun for all the family!
LOCATION:Scout Hall
URL:https://standrewschurchrushmere.onesuffolk.net/young-people/messy-chur
 ch/
END:VEVENT
BEGIN:VEVENT
SUMMARY:Messy Church
DTSTART;TZID=Europe/London:20270227T160000
DTEND;TZID=Europe/London:20270227T173000
DTSTAMP:20260423T103552Z
UID:9615682027-02-27 16:00:00+00:00achurchnearyou
CATEGORIES:
DESCRIPTION:Crafts\, food and great fun for all the family!
LOCATION:Scout Hall
URL:https://standrewschurchrushmere.onesuffolk.net/young-people/messy-chur
 ch/
END:VEVENT
BEGIN:VEVENT
SUMMARY:Messy Church
DTSTART;TZID=Europe/London:20270327T160000
DTEND;TZID=Europe/London:20270327T173000
DTSTAMP:20260423T103552Z
UID:9615682027-03-27 16:00:00+00:00achurchnearyou
CATEGORIES:
DESCRIPTION:Crafts\, food and great fun for all the family!
LOCATION:Scout Hall
URL:https://standrewschurchrushmere.onesuffolk.net/young-people/messy-chur
 ch/
END:VEVENT
END:VCALENDAR
