BEGIN:VCALENDAR
VERSION:2.0
PRODID:-//achurchnearyou.com//eventfeed//EN
CALSCALE:GREGORIAN
METHOD:PUBLISH
X-WR-TIMEZONE:UTC
BEGIN:VEVENT
SUMMARY:Wednesday Mass
DTSTART;TZID=Europe/London:20260429T123000
DTEND;TZID=Europe/London:20260429T125000
DTSTAMP:20260425T233944Z
UID:990662026-04-29 12:30:00+01:00achurchnearyou
CATEGORIES:
DESCRIPTION:A reflective service for the middle of the week.
GEO:-0.082363;51.533809
LOCATION:SAINT ANNE'S HOXTON
URL:https://www.achurchnearyou.com/church/19785/service-and-events/events/
 99066/
END:VEVENT
BEGIN:VEVENT
SUMMARY:Wednesday Mass
DTSTART;TZID=Europe/London:20260506T123000
DTEND;TZID=Europe/London:20260506T125000
DTSTAMP:20260425T233944Z
UID:990662026-05-06 12:30:00+01:00achurchnearyou
CATEGORIES:
DESCRIPTION:A reflective service for the middle of the week.
GEO:-0.082363;51.533809
LOCATION:SAINT ANNE'S HOXTON
URL:https://www.achurchnearyou.com/church/19785/service-and-events/events/
 99066/
END:VEVENT
BEGIN:VEVENT
SUMMARY:Wednesday Mass
DTSTART;TZID=Europe/London:20260513T123000
DTEND;TZID=Europe/London:20260513T125000
DTSTAMP:20260425T233944Z
UID:990662026-05-13 12:30:00+01:00achurchnearyou
CATEGORIES:
DESCRIPTION:A reflective service for the middle of the week.
GEO:-0.082363;51.533809
LOCATION:SAINT ANNE'S HOXTON
URL:https://www.achurchnearyou.com/church/19785/service-and-events/events/
 99066/
END:VEVENT
BEGIN:VEVENT
SUMMARY:Wednesday Mass
DTSTART;TZID=Europe/London:20260520T123000
DTEND;TZID=Europe/London:20260520T125000
DTSTAMP:20260425T233944Z
UID:990662026-05-20 12:30:00+01:00achurchnearyou
CATEGORIES:
DESCRIPTION:A reflective service for the middle of the week.
GEO:-0.082363;51.533809
LOCATION:SAINT ANNE'S HOXTON
URL:https://www.achurchnearyou.com/church/19785/service-and-events/events/
 99066/
END:VEVENT
BEGIN:VEVENT
SUMMARY:Wednesday Mass
DTSTART;TZID=Europe/London:20260527T123000
DTEND;TZID=Europe/London:20260527T125000
DTSTAMP:20260425T233944Z
UID:990662026-05-27 12:30:00+01:00achurchnearyou
CATEGORIES:
DESCRIPTION:A reflective service for the middle of the week.
GEO:-0.082363;51.533809
LOCATION:SAINT ANNE'S HOXTON
URL:https://www.achurchnearyou.com/church/19785/service-and-events/events/
 99066/
END:VEVENT
BEGIN:VEVENT
SUMMARY:Wednesday Mass
DTSTART;TZID=Europe/London:20260603T123000
DTEND;TZID=Europe/London:20260603T125000
DTSTAMP:20260425T233944Z
UID:990662026-06-03 12:30:00+01:00achurchnearyou
CATEGORIES:
DESCRIPTION:A reflective service for the middle of the week.
GEO:-0.082363;51.533809
LOCATION:SAINT ANNE'S HOXTON
URL:https://www.achurchnearyou.com/church/19785/service-and-events/events/
 99066/
END:VEVENT
BEGIN:VEVENT
SUMMARY:Wednesday Mass
DTSTART;TZID=Europe/London:20260610T123000
DTEND;TZID=Europe/London:20260610T125000
DTSTAMP:20260425T233944Z
UID:990662026-06-10 12:30:00+01:00achurchnearyou
CATEGORIES:
DESCRIPTION:A reflective service for the middle of the week.
GEO:-0.082363;51.533809
LOCATION:SAINT ANNE'S HOXTON
URL:https://www.achurchnearyou.com/church/19785/service-and-events/events/
 99066/
END:VEVENT
BEGIN:VEVENT
SUMMARY:Wednesday Mass
DTSTART;TZID=Europe/London:20260617T123000
DTEND;TZID=Europe/London:20260617T125000
DTSTAMP:20260425T233944Z
UID:990662026-06-17 12:30:00+01:00achurchnearyou
CATEGORIES:
DESCRIPTION:A reflective service for the middle of the week.
GEO:-0.082363;51.533809
LOCATION:SAINT ANNE'S HOXTON
URL:https://www.achurchnearyou.com/church/19785/service-and-events/events/
 99066/
END:VEVENT
BEGIN:VEVENT
SUMMARY:Wednesday Mass
DTSTART;TZID=Europe/London:20260624T123000
DTEND;TZID=Europe/London:20260624T125000
DTSTAMP:20260425T233944Z
UID:990662026-06-24 12:30:00+01:00achurchnearyou
CATEGORIES:
DESCRIPTION:A reflective service for the middle of the week.
GEO:-0.082363;51.533809
LOCATION:SAINT ANNE'S HOXTON
URL:https://www.achurchnearyou.com/church/19785/service-and-events/events/
 99066/
END:VEVENT
BEGIN:VEVENT
SUMMARY:Wednesday Mass
DTSTART;TZID=Europe/London:20260701T123000
DTEND;TZID=Europe/London:20260701T125000
DTSTAMP:20260425T233944Z
UID:990662026-07-01 12:30:00+01:00achurchnearyou
CATEGORIES:
DESCRIPTION:A reflective service for the middle of the week.
GEO:-0.082363;51.533809
LOCATION:SAINT ANNE'S HOXTON
URL:https://www.achurchnearyou.com/church/19785/service-and-events/events/
 99066/
END:VEVENT
BEGIN:VEVENT
SUMMARY:Wednesday Mass
DTSTART;TZID=Europe/London:20260708T123000
DTEND;TZID=Europe/London:20260708T125000
DTSTAMP:20260425T233944Z
UID:990662026-07-08 12:30:00+01:00achurchnearyou
CATEGORIES:
DESCRIPTION:A reflective service for the middle of the week.
GEO:-0.082363;51.533809
LOCATION:SAINT ANNE'S HOXTON
URL:https://www.achurchnearyou.com/church/19785/service-and-events/events/
 99066/
END:VEVENT
BEGIN:VEVENT
SUMMARY:Wednesday Mass
DTSTART;TZID=Europe/London:20260715T123000
DTEND;TZID=Europe/London:20260715T125000
DTSTAMP:20260425T233944Z
UID:990662026-07-15 12:30:00+01:00achurchnearyou
CATEGORIES:
DESCRIPTION:A reflective service for the middle of the week.
GEO:-0.082363;51.533809
LOCATION:SAINT ANNE'S HOXTON
URL:https://www.achurchnearyou.com/church/19785/service-and-events/events/
 99066/
END:VEVENT
BEGIN:VEVENT
SUMMARY:Wednesday Mass
DTSTART;TZID=Europe/London:20260722T123000
DTEND;TZID=Europe/London:20260722T125000
DTSTAMP:20260425T233944Z
UID:990662026-07-22 12:30:00+01:00achurchnearyou
CATEGORIES:
DESCRIPTION:A reflective service for the middle of the week.
GEO:-0.082363;51.533809
LOCATION:SAINT ANNE'S HOXTON
URL:https://www.achurchnearyou.com/church/19785/service-and-events/events/
 99066/
END:VEVENT
BEGIN:VEVENT
SUMMARY:Wednesday Mass
DTSTART;TZID=Europe/London:20260729T123000
DTEND;TZID=Europe/London:20260729T125000
DTSTAMP:20260425T233944Z
UID:990662026-07-29 12:30:00+01:00achurchnearyou
CATEGORIES:
DESCRIPTION:A reflective service for the middle of the week.
GEO:-0.082363;51.533809
LOCATION:SAINT ANNE'S HOXTON
URL:https://www.achurchnearyou.com/church/19785/service-and-events/events/
 99066/
END:VEVENT
BEGIN:VEVENT
SUMMARY:Wednesday Mass
DTSTART;TZID=Europe/London:20260805T123000
DTEND;TZID=Europe/London:20260805T125000
DTSTAMP:20260425T233944Z
UID:990662026-08-05 12:30:00+01:00achurchnearyou
CATEGORIES:
DESCRIPTION:A reflective service for the middle of the week.
GEO:-0.082363;51.533809
LOCATION:SAINT ANNE'S HOXTON
URL:https://www.achurchnearyou.com/church/19785/service-and-events/events/
 99066/
END:VEVENT
BEGIN:VEVENT
SUMMARY:Wednesday Mass
DTSTART;TZID=Europe/London:20260812T123000
DTEND;TZID=Europe/London:20260812T125000
DTSTAMP:20260425T233944Z
UID:990662026-08-12 12:30:00+01:00achurchnearyou
CATEGORIES:
DESCRIPTION:A reflective service for the middle of the week.
GEO:-0.082363;51.533809
LOCATION:SAINT ANNE'S HOXTON
URL:https://www.achurchnearyou.com/church/19785/service-and-events/events/
 99066/
END:VEVENT
BEGIN:VEVENT
SUMMARY:Wednesday Mass
DTSTART;TZID=Europe/London:20260819T123000
DTEND;TZID=Europe/London:20260819T125000
DTSTAMP:20260425T233944Z
UID:990662026-08-19 12:30:00+01:00achurchnearyou
CATEGORIES:
DESCRIPTION:A reflective service for the middle of the week.
GEO:-0.082363;51.533809
LOCATION:SAINT ANNE'S HOXTON
URL:https://www.achurchnearyou.com/church/19785/service-and-events/events/
 99066/
END:VEVENT
BEGIN:VEVENT
SUMMARY:Wednesday Mass
DTSTART;TZID=Europe/London:20260826T123000
DTEND;TZID=Europe/London:20260826T125000
DTSTAMP:20260425T233944Z
UID:990662026-08-26 12:30:00+01:00achurchnearyou
CATEGORIES:
DESCRIPTION:A reflective service for the middle of the week.
GEO:-0.082363;51.533809
LOCATION:SAINT ANNE'S HOXTON
URL:https://www.achurchnearyou.com/church/19785/service-and-events/events/
 99066/
END:VEVENT
BEGIN:VEVENT
SUMMARY:Wednesday Mass
DTSTART;TZID=Europe/London:20260902T123000
DTEND;TZID=Europe/London:20260902T125000
DTSTAMP:20260425T233944Z
UID:990662026-09-02 12:30:00+01:00achurchnearyou
CATEGORIES:
DESCRIPTION:A reflective service for the middle of the week.
GEO:-0.082363;51.533809
LOCATION:SAINT ANNE'S HOXTON
URL:https://www.achurchnearyou.com/church/19785/service-and-events/events/
 99066/
END:VEVENT
BEGIN:VEVENT
SUMMARY:Wednesday Mass
DTSTART;TZID=Europe/London:20260909T123000
DTEND;TZID=Europe/London:20260909T125000
DTSTAMP:20260425T233944Z
UID:990662026-09-09 12:30:00+01:00achurchnearyou
CATEGORIES:
DESCRIPTION:A reflective service for the middle of the week.
GEO:-0.082363;51.533809
LOCATION:SAINT ANNE'S HOXTON
URL:https://www.achurchnearyou.com/church/19785/service-and-events/events/
 99066/
END:VEVENT
BEGIN:VEVENT
SUMMARY:Wednesday Mass
DTSTART;TZID=Europe/London:20260916T123000
DTEND;TZID=Europe/London:20260916T125000
DTSTAMP:20260425T233944Z
UID:990662026-09-16 12:30:00+01:00achurchnearyou
CATEGORIES:
DESCRIPTION:A reflective service for the middle of the week.
GEO:-0.082363;51.533809
LOCATION:SAINT ANNE'S HOXTON
URL:https://www.achurchnearyou.com/church/19785/service-and-events/events/
 99066/
END:VEVENT
BEGIN:VEVENT
SUMMARY:Wednesday Mass
DTSTART;TZID=Europe/London:20260923T123000
DTEND;TZID=Europe/London:20260923T125000
DTSTAMP:20260425T233944Z
UID:990662026-09-23 12:30:00+01:00achurchnearyou
CATEGORIES:
DESCRIPTION:A reflective service for the middle of the week.
GEO:-0.082363;51.533809
LOCATION:SAINT ANNE'S HOXTON
URL:https://www.achurchnearyou.com/church/19785/service-and-events/events/
 99066/
END:VEVENT
BEGIN:VEVENT
SUMMARY:Wednesday Mass
DTSTART;TZID=Europe/London:20260930T123000
DTEND;TZID=Europe/London:20260930T125000
DTSTAMP:20260425T233944Z
UID:990662026-09-30 12:30:00+01:00achurchnearyou
CATEGORIES:
DESCRIPTION:A reflective service for the middle of the week.
GEO:-0.082363;51.533809
LOCATION:SAINT ANNE'S HOXTON
URL:https://www.achurchnearyou.com/church/19785/service-and-events/events/
 99066/
END:VEVENT
BEGIN:VEVENT
SUMMARY:Wednesday Mass
DTSTART;TZID=Europe/London:20261007T123000
DTEND;TZID=Europe/London:20261007T125000
DTSTAMP:20260425T233944Z
UID:990662026-10-07 12:30:00+01:00achurchnearyou
CATEGORIES:
DESCRIPTION:A reflective service for the middle of the week.
GEO:-0.082363;51.533809
LOCATION:SAINT ANNE'S HOXTON
URL:https://www.achurchnearyou.com/church/19785/service-and-events/events/
 99066/
END:VEVENT
BEGIN:VEVENT
SUMMARY:Wednesday Mass
DTSTART;TZID=Europe/London:20261014T123000
DTEND;TZID=Europe/London:20261014T125000
DTSTAMP:20260425T233944Z
UID:990662026-10-14 12:30:00+01:00achurchnearyou
CATEGORIES:
DESCRIPTION:A reflective service for the middle of the week.
GEO:-0.082363;51.533809
LOCATION:SAINT ANNE'S HOXTON
URL:https://www.achurchnearyou.com/church/19785/service-and-events/events/
 99066/
END:VEVENT
BEGIN:VEVENT
SUMMARY:Wednesday Mass
DTSTART;TZID=Europe/London:20261021T123000
DTEND;TZID=Europe/London:20261021T125000
DTSTAMP:20260425T233944Z
UID:990662026-10-21 12:30:00+01:00achurchnearyou
CATEGORIES:
DESCRIPTION:A reflective service for the middle of the week.
GEO:-0.082363;51.533809
LOCATION:SAINT ANNE'S HOXTON
URL:https://www.achurchnearyou.com/church/19785/service-and-events/events/
 99066/
END:VEVENT
BEGIN:VEVENT
SUMMARY:Wednesday Mass
DTSTART;TZID=Europe/London:20261028T123000
DTEND;TZID=Europe/London:20261028T125000
DTSTAMP:20260425T233944Z
UID:990662026-10-28 12:30:00+00:00achurchnearyou
CATEGORIES:
DESCRIPTION:A reflective service for the middle of the week.
GEO:-0.082363;51.533809
LOCATION:SAINT ANNE'S HOXTON
URL:https://www.achurchnearyou.com/church/19785/service-and-events/events/
 99066/
END:VEVENT
BEGIN:VEVENT
SUMMARY:Wednesday Mass
DTSTART;TZID=Europe/London:20261104T123000
DTEND;TZID=Europe/London:20261104T125000
DTSTAMP:20260425T233944Z
UID:990662026-11-04 12:30:00+00:00achurchnearyou
CATEGORIES:
DESCRIPTION:A reflective service for the middle of the week.
GEO:-0.082363;51.533809
LOCATION:SAINT ANNE'S HOXTON
URL:https://www.achurchnearyou.com/church/19785/service-and-events/events/
 99066/
END:VEVENT
BEGIN:VEVENT
SUMMARY:Wednesday Mass
DTSTART;TZID=Europe/London:20261111T123000
DTEND;TZID=Europe/London:20261111T125000
DTSTAMP:20260425T233944Z
UID:990662026-11-11 12:30:00+00:00achurchnearyou
CATEGORIES:
DESCRIPTION:A reflective service for the middle of the week.
GEO:-0.082363;51.533809
LOCATION:SAINT ANNE'S HOXTON
URL:https://www.achurchnearyou.com/church/19785/service-and-events/events/
 99066/
END:VEVENT
BEGIN:VEVENT
SUMMARY:Wednesday Mass
DTSTART;TZID=Europe/London:20261118T123000
DTEND;TZID=Europe/London:20261118T125000
DTSTAMP:20260425T233944Z
UID:990662026-11-18 12:30:00+00:00achurchnearyou
CATEGORIES:
DESCRIPTION:A reflective service for the middle of the week.
GEO:-0.082363;51.533809
LOCATION:SAINT ANNE'S HOXTON
URL:https://www.achurchnearyou.com/church/19785/service-and-events/events/
 99066/
END:VEVENT
BEGIN:VEVENT
SUMMARY:Wednesday Mass
DTSTART;TZID=Europe/London:20261125T123000
DTEND;TZID=Europe/London:20261125T125000
DTSTAMP:20260425T233944Z
UID:990662026-11-25 12:30:00+00:00achurchnearyou
CATEGORIES:
DESCRIPTION:A reflective service for the middle of the week.
GEO:-0.082363;51.533809
LOCATION:SAINT ANNE'S HOXTON
URL:https://www.achurchnearyou.com/church/19785/service-and-events/events/
 99066/
END:VEVENT
BEGIN:VEVENT
SUMMARY:Wednesday Mass
DTSTART;TZID=Europe/London:20261202T123000
DTEND;TZID=Europe/London:20261202T125000
DTSTAMP:20260425T233944Z
UID:990662026-12-02 12:30:00+00:00achurchnearyou
CATEGORIES:
DESCRIPTION:A reflective service for the middle of the week.
GEO:-0.082363;51.533809
LOCATION:SAINT ANNE'S HOXTON
URL:https://www.achurchnearyou.com/church/19785/service-and-events/events/
 99066/
END:VEVENT
BEGIN:VEVENT
SUMMARY:Wednesday Mass
DTSTART;TZID=Europe/London:20261209T123000
DTEND;TZID=Europe/London:20261209T125000
DTSTAMP:20260425T233944Z
UID:990662026-12-09 12:30:00+00:00achurchnearyou
CATEGORIES:
DESCRIPTION:A reflective service for the middle of the week.
GEO:-0.082363;51.533809
LOCATION:SAINT ANNE'S HOXTON
URL:https://www.achurchnearyou.com/church/19785/service-and-events/events/
 99066/
END:VEVENT
BEGIN:VEVENT
SUMMARY:Wednesday Mass
DTSTART;TZID=Europe/London:20261216T123000
DTEND;TZID=Europe/London:20261216T125000
DTSTAMP:20260425T233944Z
UID:990662026-12-16 12:30:00+00:00achurchnearyou
CATEGORIES:
DESCRIPTION:A reflective service for the middle of the week.
GEO:-0.082363;51.533809
LOCATION:SAINT ANNE'S HOXTON
URL:https://www.achurchnearyou.com/church/19785/service-and-events/events/
 99066/
END:VEVENT
BEGIN:VEVENT
SUMMARY:Wednesday Mass
DTSTART;TZID=Europe/London:20261223T123000
DTEND;TZID=Europe/London:20261223T125000
DTSTAMP:20260425T233944Z
UID:990662026-12-23 12:30:00+00:00achurchnearyou
CATEGORIES:
DESCRIPTION:A reflective service for the middle of the week.
GEO:-0.082363;51.533809
LOCATION:SAINT ANNE'S HOXTON
URL:https://www.achurchnearyou.com/church/19785/service-and-events/events/
 99066/
END:VEVENT
BEGIN:VEVENT
SUMMARY:Wednesday Mass
DTSTART;TZID=Europe/London:20261230T123000
DTEND;TZID=Europe/London:20261230T125000
DTSTAMP:20260425T233944Z
UID:990662026-12-30 12:30:00+00:00achurchnearyou
CATEGORIES:
DESCRIPTION:A reflective service for the middle of the week.
GEO:-0.082363;51.533809
LOCATION:SAINT ANNE'S HOXTON
URL:https://www.achurchnearyou.com/church/19785/service-and-events/events/
 99066/
END:VEVENT
BEGIN:VEVENT
SUMMARY:Wednesday Mass
DTSTART;TZID=Europe/London:20270106T123000
DTEND;TZID=Europe/London:20270106T125000
DTSTAMP:20260425T233944Z
UID:990662027-01-06 12:30:00+00:00achurchnearyou
CATEGORIES:
DESCRIPTION:A reflective service for the middle of the week.
GEO:-0.082363;51.533809
LOCATION:SAINT ANNE'S HOXTON
URL:https://www.achurchnearyou.com/church/19785/service-and-events/events/
 99066/
END:VEVENT
BEGIN:VEVENT
SUMMARY:Wednesday Mass
DTSTART;TZID=Europe/London:20270113T123000
DTEND;TZID=Europe/London:20270113T125000
DTSTAMP:20260425T233944Z
UID:990662027-01-13 12:30:00+00:00achurchnearyou
CATEGORIES:
DESCRIPTION:A reflective service for the middle of the week.
GEO:-0.082363;51.533809
LOCATION:SAINT ANNE'S HOXTON
URL:https://www.achurchnearyou.com/church/19785/service-and-events/events/
 99066/
END:VEVENT
BEGIN:VEVENT
SUMMARY:Wednesday Mass
DTSTART;TZID=Europe/London:20270120T123000
DTEND;TZID=Europe/London:20270120T125000
DTSTAMP:20260425T233944Z
UID:990662027-01-20 12:30:00+00:00achurchnearyou
CATEGORIES:
DESCRIPTION:A reflective service for the middle of the week.
GEO:-0.082363;51.533809
LOCATION:SAINT ANNE'S HOXTON
URL:https://www.achurchnearyou.com/church/19785/service-and-events/events/
 99066/
END:VEVENT
BEGIN:VEVENT
SUMMARY:Wednesday Mass
DTSTART;TZID=Europe/London:20270127T123000
DTEND;TZID=Europe/London:20270127T125000
DTSTAMP:20260425T233944Z
UID:990662027-01-27 12:30:00+00:00achurchnearyou
CATEGORIES:
DESCRIPTION:A reflective service for the middle of the week.
GEO:-0.082363;51.533809
LOCATION:SAINT ANNE'S HOXTON
URL:https://www.achurchnearyou.com/church/19785/service-and-events/events/
 99066/
END:VEVENT
BEGIN:VEVENT
SUMMARY:Wednesday Mass
DTSTART;TZID=Europe/London:20270203T123000
DTEND;TZID=Europe/London:20270203T125000
DTSTAMP:20260425T233944Z
UID:990662027-02-03 12:30:00+00:00achurchnearyou
CATEGORIES:
DESCRIPTION:A reflective service for the middle of the week.
GEO:-0.082363;51.533809
LOCATION:SAINT ANNE'S HOXTON
URL:https://www.achurchnearyou.com/church/19785/service-and-events/events/
 99066/
END:VEVENT
BEGIN:VEVENT
SUMMARY:Wednesday Mass
DTSTART;TZID=Europe/London:20270210T123000
DTEND;TZID=Europe/London:20270210T125000
DTSTAMP:20260425T233944Z
UID:990662027-02-10 12:30:00+00:00achurchnearyou
CATEGORIES:
DESCRIPTION:A reflective service for the middle of the week.
GEO:-0.082363;51.533809
LOCATION:SAINT ANNE'S HOXTON
URL:https://www.achurchnearyou.com/church/19785/service-and-events/events/
 99066/
END:VEVENT
BEGIN:VEVENT
SUMMARY:Wednesday Mass
DTSTART;TZID=Europe/London:20270217T123000
DTEND;TZID=Europe/London:20270217T125000
DTSTAMP:20260425T233944Z
UID:990662027-02-17 12:30:00+00:00achurchnearyou
CATEGORIES:
DESCRIPTION:A reflective service for the middle of the week.
GEO:-0.082363;51.533809
LOCATION:SAINT ANNE'S HOXTON
URL:https://www.achurchnearyou.com/church/19785/service-and-events/events/
 99066/
END:VEVENT
BEGIN:VEVENT
SUMMARY:Wednesday Mass
DTSTART;TZID=Europe/London:20270224T123000
DTEND;TZID=Europe/London:20270224T125000
DTSTAMP:20260425T233944Z
UID:990662027-02-24 12:30:00+00:00achurchnearyou
CATEGORIES:
DESCRIPTION:A reflective service for the middle of the week.
GEO:-0.082363;51.533809
LOCATION:SAINT ANNE'S HOXTON
URL:https://www.achurchnearyou.com/church/19785/service-and-events/events/
 99066/
END:VEVENT
BEGIN:VEVENT
SUMMARY:Wednesday Mass
DTSTART;TZID=Europe/London:20270303T123000
DTEND;TZID=Europe/London:20270303T125000
DTSTAMP:20260425T233944Z
UID:990662027-03-03 12:30:00+00:00achurchnearyou
CATEGORIES:
DESCRIPTION:A reflective service for the middle of the week.
GEO:-0.082363;51.533809
LOCATION:SAINT ANNE'S HOXTON
URL:https://www.achurchnearyou.com/church/19785/service-and-events/events/
 99066/
END:VEVENT
BEGIN:VEVENT
SUMMARY:Wednesday Mass
DTSTART;TZID=Europe/London:20270310T123000
DTEND;TZID=Europe/London:20270310T125000
DTSTAMP:20260425T233944Z
UID:990662027-03-10 12:30:00+00:00achurchnearyou
CATEGORIES:
DESCRIPTION:A reflective service for the middle of the week.
GEO:-0.082363;51.533809
LOCATION:SAINT ANNE'S HOXTON
URL:https://www.achurchnearyou.com/church/19785/service-and-events/events/
 99066/
END:VEVENT
BEGIN:VEVENT
SUMMARY:Wednesday Mass
DTSTART;TZID=Europe/London:20270317T123000
DTEND;TZID=Europe/London:20270317T125000
DTSTAMP:20260425T233944Z
UID:990662027-03-17 12:30:00+00:00achurchnearyou
CATEGORIES:
DESCRIPTION:A reflective service for the middle of the week.
GEO:-0.082363;51.533809
LOCATION:SAINT ANNE'S HOXTON
URL:https://www.achurchnearyou.com/church/19785/service-and-events/events/
 99066/
END:VEVENT
BEGIN:VEVENT
SUMMARY:Wednesday Mass
DTSTART;TZID=Europe/London:20270324T123000
DTEND;TZID=Europe/London:20270324T125000
DTSTAMP:20260425T233944Z
UID:990662027-03-24 12:30:00+00:00achurchnearyou
CATEGORIES:
DESCRIPTION:A reflective service for the middle of the week.
GEO:-0.082363;51.533809
LOCATION:SAINT ANNE'S HOXTON
URL:https://www.achurchnearyou.com/church/19785/service-and-events/events/
 99066/
END:VEVENT
BEGIN:VEVENT
SUMMARY:Wednesday Mass
DTSTART;TZID=Europe/London:20270331T123000
DTEND;TZID=Europe/London:20270331T125000
DTSTAMP:20260425T233944Z
UID:990662027-03-31 12:30:00+01:00achurchnearyou
CATEGORIES:
DESCRIPTION:A reflective service for the middle of the week.
GEO:-0.082363;51.533809
LOCATION:SAINT ANNE'S HOXTON
URL:https://www.achurchnearyou.com/church/19785/service-and-events/events/
 99066/
END:VEVENT
BEGIN:VEVENT
SUMMARY:Wednesday Mass
DTSTART;TZID=Europe/London:20270407T123000
DTEND;TZID=Europe/London:20270407T125000
DTSTAMP:20260425T233944Z
UID:990662027-04-07 12:30:00+01:00achurchnearyou
CATEGORIES:
DESCRIPTION:A reflective service for the middle of the week.
GEO:-0.082363;51.533809
LOCATION:SAINT ANNE'S HOXTON
URL:https://www.achurchnearyou.com/church/19785/service-and-events/events/
 99066/
END:VEVENT
BEGIN:VEVENT
SUMMARY:Wednesday Mass
DTSTART;TZID=Europe/London:20270414T123000
DTEND;TZID=Europe/London:20270414T125000
DTSTAMP:20260425T233944Z
UID:990662027-04-14 12:30:00+01:00achurchnearyou
CATEGORIES:
DESCRIPTION:A reflective service for the middle of the week.
GEO:-0.082363;51.533809
LOCATION:SAINT ANNE'S HOXTON
URL:https://www.achurchnearyou.com/church/19785/service-and-events/events/
 99066/
END:VEVENT
BEGIN:VEVENT
SUMMARY:Wednesday Mass
DTSTART;TZID=Europe/London:20270421T123000
DTEND;TZID=Europe/London:20270421T125000
DTSTAMP:20260425T233944Z
UID:990662027-04-21 12:30:00+01:00achurchnearyou
CATEGORIES:
DESCRIPTION:A reflective service for the middle of the week.
GEO:-0.082363;51.533809
LOCATION:SAINT ANNE'S HOXTON
URL:https://www.achurchnearyou.com/church/19785/service-and-events/events/
 99066/
END:VEVENT
END:VCALENDAR
