BEGIN:VCALENDAR
VERSION:2.0
PRODID:-//achurchnearyou.com//eventfeed//EN
CALSCALE:GREGORIAN
METHOD:PUBLISH
X-WR-TIMEZONE:UTC
BEGIN:VEVENT
SUMMARY:Taize Style Service
DTSTART:20250120T180000Z
DTEND:20250120T190000Z
DTSTAMP:20260424T140943Z
UID:11495192025-01-20 18:00:00+00:00achurchnearyou
CATEGORIES:
DESCRIPTION:A quiet reflective service with music and prayer.  Part of our
  Week of Prayer for Christian Unity 2025. East Sutton Churches Together in
 vites you to join us in prayer.
GEO:-1.804065;52.563367
LOCATION:St. Chad's Church.
URL:https://www.achurchnearyou.com/church/19814/service-and-events/events/
 1149519/
END:VEVENT
END:VCALENDAR
