BEGIN:VCALENDAR
VERSION:2.0
PRODID:-//achurchnearyou.com//eventfeed//EN
CALSCALE:GREGORIAN
METHOD:PUBLISH
X-WR-TIMEZONE:UTC
BEGIN:VEVENT
SUMMARY:Christmas Fayre
DTSTART:20251129T120000Z
DTEND:20251129T150000Z
DTSTAMP:20260423T211405Z
UID:12454042025-11-29 12:00:00+00:00achurchnearyou
CATEGORIES:
DESCRIPTION:Come and get in the festive spirit with stalls selling Christm
 as items and refreshments served
GEO:-1.804065;52.563367
LOCATION:St. Chad's Church.
URL:https://www.achurchnearyou.com/church/19814/service-and-events/events/
 1245404/
END:VEVENT
END:VCALENDAR
