BEGIN:VCALENDAR
VERSION:2.0
PRODID:-//achurchnearyou.com//eventfeed//EN
CALSCALE:GREGORIAN
METHOD:PUBLISH
X-WR-TIMEZONE:UTC
BEGIN:VEVENT
SUMMARY:Eucharist
DTSTART;TZID=Europe/London:20251130T091500
DTEND;TZID=Europe/London:20251130T101500
DTSTAMP:20260423T194906Z
UID:1023112025-11-30 09:15:00+00:00achurchnearyou
CATEGORIES:
DESCRIPTION:Our weekly Sunday morning Communion service through Advent
GEO:-1.455002;55.02662
LOCATION:Saint Hilda Marden with Preston Grange
URL:https://www.achurchnearyou.com/church/19856/service-and-events/events/
 102311/
END:VEVENT
BEGIN:VEVENT
SUMMARY:Eucharist
DTSTART;TZID=Europe/London:20251207T091500
DTEND;TZID=Europe/London:20251207T101500
DTSTAMP:20260423T194906Z
UID:1023112025-12-07 09:15:00+00:00achurchnearyou
CATEGORIES:
DESCRIPTION:Our weekly Sunday morning Communion service through Advent
GEO:-1.455002;55.02662
LOCATION:Saint Hilda Marden with Preston Grange
URL:https://www.achurchnearyou.com/church/19856/service-and-events/events/
 102311/
END:VEVENT
BEGIN:VEVENT
SUMMARY:Eucharist
DTSTART;TZID=Europe/London:20251214T091500
DTEND;TZID=Europe/London:20251214T101500
DTSTAMP:20260423T194906Z
UID:1023112025-12-14 09:15:00+00:00achurchnearyou
CATEGORIES:
DESCRIPTION:Our weekly Sunday morning Communion service through Advent
GEO:-1.455002;55.02662
LOCATION:Saint Hilda Marden with Preston Grange
URL:https://www.achurchnearyou.com/church/19856/service-and-events/events/
 102311/
END:VEVENT
BEGIN:VEVENT
SUMMARY:Eucharist
DTSTART;TZID=Europe/London:20251221T091500
DTEND;TZID=Europe/London:20251221T101500
DTSTAMP:20260423T194906Z
UID:1023112025-12-21 09:15:00+00:00achurchnearyou
CATEGORIES:
DESCRIPTION:Our weekly Sunday morning Communion service through Advent
GEO:-1.455002;55.02662
LOCATION:Saint Hilda Marden with Preston Grange
URL:https://www.achurchnearyou.com/church/19856/service-and-events/events/
 102311/
END:VEVENT
END:VCALENDAR
