BEGIN:VCALENDAR
VERSION:2.0
PRODID:-//achurchnearyou.com//eventfeed//EN
CALSCALE:GREGORIAN
METHOD:PUBLISH
X-WR-TIMEZONE:UTC
BEGIN:VEVENT
SUMMARY:Sunday Service
DTSTART;TZID=Europe/London:20260412T103000
DTEND;TZID=Europe/London:20260412T114500
DTSTAMP:20260424T203405Z
UID:9361561775986200.0achurchnearyou
CATEGORIES:
DESCRIPTION:Sunday service
LOCATION:Protestant Temple
URL:https://www.achurchnearyou.com/church/19872/service-and-events/events/
 936156/
END:VEVENT
BEGIN:VEVENT
SUMMARY:Sunday Service
DTSTART;TZID=Europe/London:20260510T103000
DTEND;TZID=Europe/London:20260510T114500
DTSTAMP:20260424T203405Z
UID:9361561778405400.0achurchnearyou
CATEGORIES:
DESCRIPTION:Sunday service
LOCATION:Protestant Temple
URL:https://www.achurchnearyou.com/church/19872/service-and-events/events/
 936156/
END:VEVENT
BEGIN:VEVENT
SUMMARY:Sunday Service
DTSTART;TZID=Europe/London:20260614T103000
DTEND;TZID=Europe/London:20260614T114500
DTSTAMP:20260424T203405Z
UID:9361561781429400.0achurchnearyou
CATEGORIES:
DESCRIPTION:Sunday service
LOCATION:Protestant Temple
URL:https://www.achurchnearyou.com/church/19872/service-and-events/events/
 936156/
END:VEVENT
BEGIN:VEVENT
SUMMARY:Sunday Service
DTSTART;TZID=Europe/London:20260712T103000
DTEND;TZID=Europe/London:20260712T114500
DTSTAMP:20260424T203405Z
UID:9361561783848600.0achurchnearyou
CATEGORIES:
DESCRIPTION:Sunday service
LOCATION:Protestant Temple
URL:https://www.achurchnearyou.com/church/19872/service-and-events/events/
 936156/
END:VEVENT
BEGIN:VEVENT
SUMMARY:Sunday Service
DTSTART;TZID=Europe/London:20260809T103000
DTEND;TZID=Europe/London:20260809T114500
DTSTAMP:20260424T203405Z
UID:9361561786267800.0achurchnearyou
CATEGORIES:
DESCRIPTION:Sunday service
LOCATION:Protestant Temple
URL:https://www.achurchnearyou.com/church/19872/service-and-events/events/
 936156/
END:VEVENT
BEGIN:VEVENT
SUMMARY:Sunday Service
DTSTART;TZID=Europe/London:20260913T103000
DTEND;TZID=Europe/London:20260913T114500
DTSTAMP:20260424T203405Z
UID:9361561789291800.0achurchnearyou
CATEGORIES:
DESCRIPTION:Sunday service
LOCATION:Protestant Temple
URL:https://www.achurchnearyou.com/church/19872/service-and-events/events/
 936156/
END:VEVENT
END:VCALENDAR
