BEGIN:VCALENDAR
VERSION:2.0
PRODID:-//achurchnearyou.com//eventfeed//EN
CALSCALE:GREGORIAN
METHOD:PUBLISH
X-WR-TIMEZONE:UTC
BEGIN:VEVENT
SUMMARY:Christmas Day Parish Eucharist
DTSTART:20251225T100000Z
DTEND:20251225T111500Z
DTSTAMP:20260424T071524Z
UID:12715252025-12-25 10:00:00+00:00achurchnearyou
CATEGORIES:
DESCRIPTION:Join us for our Parish Eucharist followed by a delicious cup o
 f ‘Smoking Bishop’
GEO:-0.154544;51.613107
LOCATION:St John's Church\, Friern Barnet
URL:https://www.achurchnearyou.com/church/19873/service-and-events/events/
 1271525/
END:VEVENT
END:VCALENDAR
