BEGIN:VCALENDAR
VERSION:2.0
PRODID:-//achurchnearyou.com//eventfeed//EN
CALSCALE:GREGORIAN
METHOD:PUBLISH
X-WR-TIMEZONE:UTC
BEGIN:VEVENT
SUMMARY:Mid-day Office
DTSTART;TZID=Europe/London:20260430T121500
DTEND;TZID=Europe/London:20260430T123000
DTSTAMP:20260426T014636Z
UID:1436032026-04-30 12:15:00+01:00achurchnearyou
CATEGORIES:
DESCRIPTION:Mid-Day Office is one of the "little hours" of the Divine Offi
 ce. 
GEO:-0.641831;54.483197
LOCATION:St Hilda's Priory Chapel\, or the Chapel of the Order of the Holy
  Paraclete
URL:https://www.achurchnearyou.com/church/19886/service-and-events/events/
 143603/
END:VEVENT
BEGIN:VEVENT
SUMMARY:Mid-day Office
DTSTART;TZID=Europe/London:20260507T121500
DTEND;TZID=Europe/London:20260507T123000
DTSTAMP:20260426T014636Z
UID:1436032026-05-07 12:15:00+01:00achurchnearyou
CATEGORIES:
DESCRIPTION:Mid-Day Office is one of the "little hours" of the Divine Offi
 ce. 
GEO:-0.641831;54.483197
LOCATION:St Hilda's Priory Chapel\, or the Chapel of the Order of the Holy
  Paraclete
URL:https://www.achurchnearyou.com/church/19886/service-and-events/events/
 143603/
END:VEVENT
BEGIN:VEVENT
SUMMARY:Mid-day Office
DTSTART;TZID=Europe/London:20260514T121500
DTEND;TZID=Europe/London:20260514T123000
DTSTAMP:20260426T014636Z
UID:1436032026-05-14 12:15:00+01:00achurchnearyou
CATEGORIES:
DESCRIPTION:Mid-Day Office is one of the "little hours" of the Divine Offi
 ce. 
GEO:-0.641831;54.483197
LOCATION:St Hilda's Priory Chapel\, or the Chapel of the Order of the Holy
  Paraclete
URL:https://www.achurchnearyou.com/church/19886/service-and-events/events/
 143603/
END:VEVENT
BEGIN:VEVENT
SUMMARY:Mid-day Office
DTSTART;TZID=Europe/London:20260521T121500
DTEND;TZID=Europe/London:20260521T123000
DTSTAMP:20260426T014636Z
UID:1436032026-05-21 12:15:00+01:00achurchnearyou
CATEGORIES:
DESCRIPTION:Mid-Day Office is one of the "little hours" of the Divine Offi
 ce. 
GEO:-0.641831;54.483197
LOCATION:St Hilda's Priory Chapel\, or the Chapel of the Order of the Holy
  Paraclete
URL:https://www.achurchnearyou.com/church/19886/service-and-events/events/
 143603/
END:VEVENT
BEGIN:VEVENT
SUMMARY:Mid-day Office
DTSTART;TZID=Europe/London:20260528T121500
DTEND;TZID=Europe/London:20260528T123000
DTSTAMP:20260426T014636Z
UID:1436032026-05-28 12:15:00+01:00achurchnearyou
CATEGORIES:
DESCRIPTION:Mid-Day Office is one of the "little hours" of the Divine Offi
 ce. 
GEO:-0.641831;54.483197
LOCATION:St Hilda's Priory Chapel\, or the Chapel of the Order of the Holy
  Paraclete
URL:https://www.achurchnearyou.com/church/19886/service-and-events/events/
 143603/
END:VEVENT
BEGIN:VEVENT
SUMMARY:Mid-day Office
DTSTART;TZID=Europe/London:20260604T121500
DTEND;TZID=Europe/London:20260604T123000
DTSTAMP:20260426T014636Z
UID:1436032026-06-04 12:15:00+01:00achurchnearyou
CATEGORIES:
DESCRIPTION:Mid-Day Office is one of the "little hours" of the Divine Offi
 ce. 
GEO:-0.641831;54.483197
LOCATION:St Hilda's Priory Chapel\, or the Chapel of the Order of the Holy
  Paraclete
URL:https://www.achurchnearyou.com/church/19886/service-and-events/events/
 143603/
END:VEVENT
BEGIN:VEVENT
SUMMARY:Mid-day Office
DTSTART;TZID=Europe/London:20260611T121500
DTEND;TZID=Europe/London:20260611T123000
DTSTAMP:20260426T014636Z
UID:1436032026-06-11 12:15:00+01:00achurchnearyou
CATEGORIES:
DESCRIPTION:Mid-Day Office is one of the "little hours" of the Divine Offi
 ce. 
GEO:-0.641831;54.483197
LOCATION:St Hilda's Priory Chapel\, or the Chapel of the Order of the Holy
  Paraclete
URL:https://www.achurchnearyou.com/church/19886/service-and-events/events/
 143603/
END:VEVENT
BEGIN:VEVENT
SUMMARY:Mid-day Office
DTSTART;TZID=Europe/London:20260618T121500
DTEND;TZID=Europe/London:20260618T123000
DTSTAMP:20260426T014636Z
UID:1436032026-06-18 12:15:00+01:00achurchnearyou
CATEGORIES:
DESCRIPTION:Mid-Day Office is one of the "little hours" of the Divine Offi
 ce. 
GEO:-0.641831;54.483197
LOCATION:St Hilda's Priory Chapel\, or the Chapel of the Order of the Holy
  Paraclete
URL:https://www.achurchnearyou.com/church/19886/service-and-events/events/
 143603/
END:VEVENT
BEGIN:VEVENT
SUMMARY:Mid-day Office
DTSTART;TZID=Europe/London:20260625T121500
DTEND;TZID=Europe/London:20260625T123000
DTSTAMP:20260426T014636Z
UID:1436032026-06-25 12:15:00+01:00achurchnearyou
CATEGORIES:
DESCRIPTION:Mid-Day Office is one of the "little hours" of the Divine Offi
 ce. 
GEO:-0.641831;54.483197
LOCATION:St Hilda's Priory Chapel\, or the Chapel of the Order of the Holy
  Paraclete
URL:https://www.achurchnearyou.com/church/19886/service-and-events/events/
 143603/
END:VEVENT
BEGIN:VEVENT
SUMMARY:Mid-day Office
DTSTART;TZID=Europe/London:20260702T121500
DTEND;TZID=Europe/London:20260702T123000
DTSTAMP:20260426T014636Z
UID:1436032026-07-02 12:15:00+01:00achurchnearyou
CATEGORIES:
DESCRIPTION:Mid-Day Office is one of the "little hours" of the Divine Offi
 ce. 
GEO:-0.641831;54.483197
LOCATION:St Hilda's Priory Chapel\, or the Chapel of the Order of the Holy
  Paraclete
URL:https://www.achurchnearyou.com/church/19886/service-and-events/events/
 143603/
END:VEVENT
BEGIN:VEVENT
SUMMARY:Mid-day Office
DTSTART;TZID=Europe/London:20260709T121500
DTEND;TZID=Europe/London:20260709T123000
DTSTAMP:20260426T014636Z
UID:1436032026-07-09 12:15:00+01:00achurchnearyou
CATEGORIES:
DESCRIPTION:Mid-Day Office is one of the "little hours" of the Divine Offi
 ce. 
GEO:-0.641831;54.483197
LOCATION:St Hilda's Priory Chapel\, or the Chapel of the Order of the Holy
  Paraclete
URL:https://www.achurchnearyou.com/church/19886/service-and-events/events/
 143603/
END:VEVENT
BEGIN:VEVENT
SUMMARY:Mid-day Office
DTSTART;TZID=Europe/London:20260716T121500
DTEND;TZID=Europe/London:20260716T123000
DTSTAMP:20260426T014636Z
UID:1436032026-07-16 12:15:00+01:00achurchnearyou
CATEGORIES:
DESCRIPTION:Mid-Day Office is one of the "little hours" of the Divine Offi
 ce. 
GEO:-0.641831;54.483197
LOCATION:St Hilda's Priory Chapel\, or the Chapel of the Order of the Holy
  Paraclete
URL:https://www.achurchnearyou.com/church/19886/service-and-events/events/
 143603/
END:VEVENT
BEGIN:VEVENT
SUMMARY:Mid-day Office
DTSTART;TZID=Europe/London:20260723T121500
DTEND;TZID=Europe/London:20260723T123000
DTSTAMP:20260426T014636Z
UID:1436032026-07-23 12:15:00+01:00achurchnearyou
CATEGORIES:
DESCRIPTION:Mid-Day Office is one of the "little hours" of the Divine Offi
 ce. 
GEO:-0.641831;54.483197
LOCATION:St Hilda's Priory Chapel\, or the Chapel of the Order of the Holy
  Paraclete
URL:https://www.achurchnearyou.com/church/19886/service-and-events/events/
 143603/
END:VEVENT
BEGIN:VEVENT
SUMMARY:Mid-day Office
DTSTART;TZID=Europe/London:20260730T121500
DTEND;TZID=Europe/London:20260730T123000
DTSTAMP:20260426T014636Z
UID:1436032026-07-30 12:15:00+01:00achurchnearyou
CATEGORIES:
DESCRIPTION:Mid-Day Office is one of the "little hours" of the Divine Offi
 ce. 
GEO:-0.641831;54.483197
LOCATION:St Hilda's Priory Chapel\, or the Chapel of the Order of the Holy
  Paraclete
URL:https://www.achurchnearyou.com/church/19886/service-and-events/events/
 143603/
END:VEVENT
BEGIN:VEVENT
SUMMARY:Mid-day Office
DTSTART;TZID=Europe/London:20260806T121500
DTEND;TZID=Europe/London:20260806T123000
DTSTAMP:20260426T014636Z
UID:1436032026-08-06 12:15:00+01:00achurchnearyou
CATEGORIES:
DESCRIPTION:Mid-Day Office is one of the "little hours" of the Divine Offi
 ce. 
GEO:-0.641831;54.483197
LOCATION:St Hilda's Priory Chapel\, or the Chapel of the Order of the Holy
  Paraclete
URL:https://www.achurchnearyou.com/church/19886/service-and-events/events/
 143603/
END:VEVENT
BEGIN:VEVENT
SUMMARY:Mid-day Office
DTSTART;TZID=Europe/London:20260813T121500
DTEND;TZID=Europe/London:20260813T123000
DTSTAMP:20260426T014636Z
UID:1436032026-08-13 12:15:00+01:00achurchnearyou
CATEGORIES:
DESCRIPTION:Mid-Day Office is one of the "little hours" of the Divine Offi
 ce. 
GEO:-0.641831;54.483197
LOCATION:St Hilda's Priory Chapel\, or the Chapel of the Order of the Holy
  Paraclete
URL:https://www.achurchnearyou.com/church/19886/service-and-events/events/
 143603/
END:VEVENT
BEGIN:VEVENT
SUMMARY:Mid-day Office
DTSTART;TZID=Europe/London:20260820T121500
DTEND;TZID=Europe/London:20260820T123000
DTSTAMP:20260426T014636Z
UID:1436032026-08-20 12:15:00+01:00achurchnearyou
CATEGORIES:
DESCRIPTION:Mid-Day Office is one of the "little hours" of the Divine Offi
 ce. 
GEO:-0.641831;54.483197
LOCATION:St Hilda's Priory Chapel\, or the Chapel of the Order of the Holy
  Paraclete
URL:https://www.achurchnearyou.com/church/19886/service-and-events/events/
 143603/
END:VEVENT
BEGIN:VEVENT
SUMMARY:Mid-day Office
DTSTART;TZID=Europe/London:20260827T121500
DTEND;TZID=Europe/London:20260827T123000
DTSTAMP:20260426T014636Z
UID:1436032026-08-27 12:15:00+01:00achurchnearyou
CATEGORIES:
DESCRIPTION:Mid-Day Office is one of the "little hours" of the Divine Offi
 ce. 
GEO:-0.641831;54.483197
LOCATION:St Hilda's Priory Chapel\, or the Chapel of the Order of the Holy
  Paraclete
URL:https://www.achurchnearyou.com/church/19886/service-and-events/events/
 143603/
END:VEVENT
BEGIN:VEVENT
SUMMARY:Mid-day Office
DTSTART;TZID=Europe/London:20260903T121500
DTEND;TZID=Europe/London:20260903T123000
DTSTAMP:20260426T014636Z
UID:1436032026-09-03 12:15:00+01:00achurchnearyou
CATEGORIES:
DESCRIPTION:Mid-Day Office is one of the "little hours" of the Divine Offi
 ce. 
GEO:-0.641831;54.483197
LOCATION:St Hilda's Priory Chapel\, or the Chapel of the Order of the Holy
  Paraclete
URL:https://www.achurchnearyou.com/church/19886/service-and-events/events/
 143603/
END:VEVENT
BEGIN:VEVENT
SUMMARY:Mid-day Office
DTSTART;TZID=Europe/London:20260910T121500
DTEND;TZID=Europe/London:20260910T123000
DTSTAMP:20260426T014636Z
UID:1436032026-09-10 12:15:00+01:00achurchnearyou
CATEGORIES:
DESCRIPTION:Mid-Day Office is one of the "little hours" of the Divine Offi
 ce. 
GEO:-0.641831;54.483197
LOCATION:St Hilda's Priory Chapel\, or the Chapel of the Order of the Holy
  Paraclete
URL:https://www.achurchnearyou.com/church/19886/service-and-events/events/
 143603/
END:VEVENT
BEGIN:VEVENT
SUMMARY:Mid-day Office
DTSTART;TZID=Europe/London:20260917T121500
DTEND;TZID=Europe/London:20260917T123000
DTSTAMP:20260426T014636Z
UID:1436032026-09-17 12:15:00+01:00achurchnearyou
CATEGORIES:
DESCRIPTION:Mid-Day Office is one of the "little hours" of the Divine Offi
 ce. 
GEO:-0.641831;54.483197
LOCATION:St Hilda's Priory Chapel\, or the Chapel of the Order of the Holy
  Paraclete
URL:https://www.achurchnearyou.com/church/19886/service-and-events/events/
 143603/
END:VEVENT
BEGIN:VEVENT
SUMMARY:Mid-day Office
DTSTART;TZID=Europe/London:20260924T121500
DTEND;TZID=Europe/London:20260924T123000
DTSTAMP:20260426T014636Z
UID:1436032026-09-24 12:15:00+01:00achurchnearyou
CATEGORIES:
DESCRIPTION:Mid-Day Office is one of the "little hours" of the Divine Offi
 ce. 
GEO:-0.641831;54.483197
LOCATION:St Hilda's Priory Chapel\, or the Chapel of the Order of the Holy
  Paraclete
URL:https://www.achurchnearyou.com/church/19886/service-and-events/events/
 143603/
END:VEVENT
BEGIN:VEVENT
SUMMARY:Mid-day Office
DTSTART;TZID=Europe/London:20261001T121500
DTEND;TZID=Europe/London:20261001T123000
DTSTAMP:20260426T014636Z
UID:1436032026-10-01 12:15:00+01:00achurchnearyou
CATEGORIES:
DESCRIPTION:Mid-Day Office is one of the "little hours" of the Divine Offi
 ce. 
GEO:-0.641831;54.483197
LOCATION:St Hilda's Priory Chapel\, or the Chapel of the Order of the Holy
  Paraclete
URL:https://www.achurchnearyou.com/church/19886/service-and-events/events/
 143603/
END:VEVENT
BEGIN:VEVENT
SUMMARY:Mid-day Office
DTSTART;TZID=Europe/London:20261008T121500
DTEND;TZID=Europe/London:20261008T123000
DTSTAMP:20260426T014636Z
UID:1436032026-10-08 12:15:00+01:00achurchnearyou
CATEGORIES:
DESCRIPTION:Mid-Day Office is one of the "little hours" of the Divine Offi
 ce. 
GEO:-0.641831;54.483197
LOCATION:St Hilda's Priory Chapel\, or the Chapel of the Order of the Holy
  Paraclete
URL:https://www.achurchnearyou.com/church/19886/service-and-events/events/
 143603/
END:VEVENT
BEGIN:VEVENT
SUMMARY:Mid-day Office
DTSTART;TZID=Europe/London:20261015T121500
DTEND;TZID=Europe/London:20261015T123000
DTSTAMP:20260426T014636Z
UID:1436032026-10-15 12:15:00+01:00achurchnearyou
CATEGORIES:
DESCRIPTION:Mid-Day Office is one of the "little hours" of the Divine Offi
 ce. 
GEO:-0.641831;54.483197
LOCATION:St Hilda's Priory Chapel\, or the Chapel of the Order of the Holy
  Paraclete
URL:https://www.achurchnearyou.com/church/19886/service-and-events/events/
 143603/
END:VEVENT
BEGIN:VEVENT
SUMMARY:Mid-day Office
DTSTART;TZID=Europe/London:20261022T121500
DTEND;TZID=Europe/London:20261022T123000
DTSTAMP:20260426T014636Z
UID:1436032026-10-22 12:15:00+01:00achurchnearyou
CATEGORIES:
DESCRIPTION:Mid-Day Office is one of the "little hours" of the Divine Offi
 ce. 
GEO:-0.641831;54.483197
LOCATION:St Hilda's Priory Chapel\, or the Chapel of the Order of the Holy
  Paraclete
URL:https://www.achurchnearyou.com/church/19886/service-and-events/events/
 143603/
END:VEVENT
BEGIN:VEVENT
SUMMARY:Mid-day Office
DTSTART;TZID=Europe/London:20261029T121500
DTEND;TZID=Europe/London:20261029T123000
DTSTAMP:20260426T014636Z
UID:1436032026-10-29 12:15:00+00:00achurchnearyou
CATEGORIES:
DESCRIPTION:Mid-Day Office is one of the "little hours" of the Divine Offi
 ce. 
GEO:-0.641831;54.483197
LOCATION:St Hilda's Priory Chapel\, or the Chapel of the Order of the Holy
  Paraclete
URL:https://www.achurchnearyou.com/church/19886/service-and-events/events/
 143603/
END:VEVENT
BEGIN:VEVENT
SUMMARY:Mid-day Office
DTSTART;TZID=Europe/London:20261105T121500
DTEND;TZID=Europe/London:20261105T123000
DTSTAMP:20260426T014636Z
UID:1436032026-11-05 12:15:00+00:00achurchnearyou
CATEGORIES:
DESCRIPTION:Mid-Day Office is one of the "little hours" of the Divine Offi
 ce. 
GEO:-0.641831;54.483197
LOCATION:St Hilda's Priory Chapel\, or the Chapel of the Order of the Holy
  Paraclete
URL:https://www.achurchnearyou.com/church/19886/service-and-events/events/
 143603/
END:VEVENT
BEGIN:VEVENT
SUMMARY:Mid-day Office
DTSTART;TZID=Europe/London:20261112T121500
DTEND;TZID=Europe/London:20261112T123000
DTSTAMP:20260426T014636Z
UID:1436032026-11-12 12:15:00+00:00achurchnearyou
CATEGORIES:
DESCRIPTION:Mid-Day Office is one of the "little hours" of the Divine Offi
 ce. 
GEO:-0.641831;54.483197
LOCATION:St Hilda's Priory Chapel\, or the Chapel of the Order of the Holy
  Paraclete
URL:https://www.achurchnearyou.com/church/19886/service-and-events/events/
 143603/
END:VEVENT
BEGIN:VEVENT
SUMMARY:Mid-day Office
DTSTART;TZID=Europe/London:20261119T121500
DTEND;TZID=Europe/London:20261119T123000
DTSTAMP:20260426T014636Z
UID:1436032026-11-19 12:15:00+00:00achurchnearyou
CATEGORIES:
DESCRIPTION:Mid-Day Office is one of the "little hours" of the Divine Offi
 ce. 
GEO:-0.641831;54.483197
LOCATION:St Hilda's Priory Chapel\, or the Chapel of the Order of the Holy
  Paraclete
URL:https://www.achurchnearyou.com/church/19886/service-and-events/events/
 143603/
END:VEVENT
BEGIN:VEVENT
SUMMARY:Mid-day Office
DTSTART;TZID=Europe/London:20261126T121500
DTEND;TZID=Europe/London:20261126T123000
DTSTAMP:20260426T014636Z
UID:1436032026-11-26 12:15:00+00:00achurchnearyou
CATEGORIES:
DESCRIPTION:Mid-Day Office is one of the "little hours" of the Divine Offi
 ce. 
GEO:-0.641831;54.483197
LOCATION:St Hilda's Priory Chapel\, or the Chapel of the Order of the Holy
  Paraclete
URL:https://www.achurchnearyou.com/church/19886/service-and-events/events/
 143603/
END:VEVENT
BEGIN:VEVENT
SUMMARY:Mid-day Office
DTSTART;TZID=Europe/London:20261203T121500
DTEND;TZID=Europe/London:20261203T123000
DTSTAMP:20260426T014636Z
UID:1436032026-12-03 12:15:00+00:00achurchnearyou
CATEGORIES:
DESCRIPTION:Mid-Day Office is one of the "little hours" of the Divine Offi
 ce. 
GEO:-0.641831;54.483197
LOCATION:St Hilda's Priory Chapel\, or the Chapel of the Order of the Holy
  Paraclete
URL:https://www.achurchnearyou.com/church/19886/service-and-events/events/
 143603/
END:VEVENT
BEGIN:VEVENT
SUMMARY:Mid-day Office
DTSTART;TZID=Europe/London:20261210T121500
DTEND;TZID=Europe/London:20261210T123000
DTSTAMP:20260426T014636Z
UID:1436032026-12-10 12:15:00+00:00achurchnearyou
CATEGORIES:
DESCRIPTION:Mid-Day Office is one of the "little hours" of the Divine Offi
 ce. 
GEO:-0.641831;54.483197
LOCATION:St Hilda's Priory Chapel\, or the Chapel of the Order of the Holy
  Paraclete
URL:https://www.achurchnearyou.com/church/19886/service-and-events/events/
 143603/
END:VEVENT
BEGIN:VEVENT
SUMMARY:Mid-day Office
DTSTART;TZID=Europe/London:20261217T121500
DTEND;TZID=Europe/London:20261217T123000
DTSTAMP:20260426T014636Z
UID:1436032026-12-17 12:15:00+00:00achurchnearyou
CATEGORIES:
DESCRIPTION:Mid-Day Office is one of the "little hours" of the Divine Offi
 ce. 
GEO:-0.641831;54.483197
LOCATION:St Hilda's Priory Chapel\, or the Chapel of the Order of the Holy
  Paraclete
URL:https://www.achurchnearyou.com/church/19886/service-and-events/events/
 143603/
END:VEVENT
BEGIN:VEVENT
SUMMARY:Mid-day Office
DTSTART;TZID=Europe/London:20261224T121500
DTEND;TZID=Europe/London:20261224T123000
DTSTAMP:20260426T014636Z
UID:1436032026-12-24 12:15:00+00:00achurchnearyou
CATEGORIES:
DESCRIPTION:Mid-Day Office is one of the "little hours" of the Divine Offi
 ce. 
GEO:-0.641831;54.483197
LOCATION:St Hilda's Priory Chapel\, or the Chapel of the Order of the Holy
  Paraclete
URL:https://www.achurchnearyou.com/church/19886/service-and-events/events/
 143603/
END:VEVENT
BEGIN:VEVENT
SUMMARY:Mid-day Office
DTSTART;TZID=Europe/London:20261231T121500
DTEND;TZID=Europe/London:20261231T123000
DTSTAMP:20260426T014636Z
UID:1436032026-12-31 12:15:00+00:00achurchnearyou
CATEGORIES:
DESCRIPTION:Mid-Day Office is one of the "little hours" of the Divine Offi
 ce. 
GEO:-0.641831;54.483197
LOCATION:St Hilda's Priory Chapel\, or the Chapel of the Order of the Holy
  Paraclete
URL:https://www.achurchnearyou.com/church/19886/service-and-events/events/
 143603/
END:VEVENT
BEGIN:VEVENT
SUMMARY:Mid-day Office
DTSTART;TZID=Europe/London:20270107T121500
DTEND;TZID=Europe/London:20270107T123000
DTSTAMP:20260426T014636Z
UID:1436032027-01-07 12:15:00+00:00achurchnearyou
CATEGORIES:
DESCRIPTION:Mid-Day Office is one of the "little hours" of the Divine Offi
 ce. 
GEO:-0.641831;54.483197
LOCATION:St Hilda's Priory Chapel\, or the Chapel of the Order of the Holy
  Paraclete
URL:https://www.achurchnearyou.com/church/19886/service-and-events/events/
 143603/
END:VEVENT
BEGIN:VEVENT
SUMMARY:Mid-day Office
DTSTART;TZID=Europe/London:20270114T121500
DTEND;TZID=Europe/London:20270114T123000
DTSTAMP:20260426T014636Z
UID:1436032027-01-14 12:15:00+00:00achurchnearyou
CATEGORIES:
DESCRIPTION:Mid-Day Office is one of the "little hours" of the Divine Offi
 ce. 
GEO:-0.641831;54.483197
LOCATION:St Hilda's Priory Chapel\, or the Chapel of the Order of the Holy
  Paraclete
URL:https://www.achurchnearyou.com/church/19886/service-and-events/events/
 143603/
END:VEVENT
BEGIN:VEVENT
SUMMARY:Mid-day Office
DTSTART;TZID=Europe/London:20270121T121500
DTEND;TZID=Europe/London:20270121T123000
DTSTAMP:20260426T014636Z
UID:1436032027-01-21 12:15:00+00:00achurchnearyou
CATEGORIES:
DESCRIPTION:Mid-Day Office is one of the "little hours" of the Divine Offi
 ce. 
GEO:-0.641831;54.483197
LOCATION:St Hilda's Priory Chapel\, or the Chapel of the Order of the Holy
  Paraclete
URL:https://www.achurchnearyou.com/church/19886/service-and-events/events/
 143603/
END:VEVENT
BEGIN:VEVENT
SUMMARY:Mid-day Office
DTSTART;TZID=Europe/London:20270128T121500
DTEND;TZID=Europe/London:20270128T123000
DTSTAMP:20260426T014636Z
UID:1436032027-01-28 12:15:00+00:00achurchnearyou
CATEGORIES:
DESCRIPTION:Mid-Day Office is one of the "little hours" of the Divine Offi
 ce. 
GEO:-0.641831;54.483197
LOCATION:St Hilda's Priory Chapel\, or the Chapel of the Order of the Holy
  Paraclete
URL:https://www.achurchnearyou.com/church/19886/service-and-events/events/
 143603/
END:VEVENT
BEGIN:VEVENT
SUMMARY:Mid-day Office
DTSTART;TZID=Europe/London:20270204T121500
DTEND;TZID=Europe/London:20270204T123000
DTSTAMP:20260426T014636Z
UID:1436032027-02-04 12:15:00+00:00achurchnearyou
CATEGORIES:
DESCRIPTION:Mid-Day Office is one of the "little hours" of the Divine Offi
 ce. 
GEO:-0.641831;54.483197
LOCATION:St Hilda's Priory Chapel\, or the Chapel of the Order of the Holy
  Paraclete
URL:https://www.achurchnearyou.com/church/19886/service-and-events/events/
 143603/
END:VEVENT
BEGIN:VEVENT
SUMMARY:Mid-day Office
DTSTART;TZID=Europe/London:20270211T121500
DTEND;TZID=Europe/London:20270211T123000
DTSTAMP:20260426T014636Z
UID:1436032027-02-11 12:15:00+00:00achurchnearyou
CATEGORIES:
DESCRIPTION:Mid-Day Office is one of the "little hours" of the Divine Offi
 ce. 
GEO:-0.641831;54.483197
LOCATION:St Hilda's Priory Chapel\, or the Chapel of the Order of the Holy
  Paraclete
URL:https://www.achurchnearyou.com/church/19886/service-and-events/events/
 143603/
END:VEVENT
BEGIN:VEVENT
SUMMARY:Mid-day Office
DTSTART;TZID=Europe/London:20270218T121500
DTEND;TZID=Europe/London:20270218T123000
DTSTAMP:20260426T014636Z
UID:1436032027-02-18 12:15:00+00:00achurchnearyou
CATEGORIES:
DESCRIPTION:Mid-Day Office is one of the "little hours" of the Divine Offi
 ce. 
GEO:-0.641831;54.483197
LOCATION:St Hilda's Priory Chapel\, or the Chapel of the Order of the Holy
  Paraclete
URL:https://www.achurchnearyou.com/church/19886/service-and-events/events/
 143603/
END:VEVENT
BEGIN:VEVENT
SUMMARY:Mid-day Office
DTSTART;TZID=Europe/London:20270225T121500
DTEND;TZID=Europe/London:20270225T123000
DTSTAMP:20260426T014636Z
UID:1436032027-02-25 12:15:00+00:00achurchnearyou
CATEGORIES:
DESCRIPTION:Mid-Day Office is one of the "little hours" of the Divine Offi
 ce. 
GEO:-0.641831;54.483197
LOCATION:St Hilda's Priory Chapel\, or the Chapel of the Order of the Holy
  Paraclete
URL:https://www.achurchnearyou.com/church/19886/service-and-events/events/
 143603/
END:VEVENT
BEGIN:VEVENT
SUMMARY:Mid-day Office
DTSTART;TZID=Europe/London:20270304T121500
DTEND;TZID=Europe/London:20270304T123000
DTSTAMP:20260426T014636Z
UID:1436032027-03-04 12:15:00+00:00achurchnearyou
CATEGORIES:
DESCRIPTION:Mid-Day Office is one of the "little hours" of the Divine Offi
 ce. 
GEO:-0.641831;54.483197
LOCATION:St Hilda's Priory Chapel\, or the Chapel of the Order of the Holy
  Paraclete
URL:https://www.achurchnearyou.com/church/19886/service-and-events/events/
 143603/
END:VEVENT
BEGIN:VEVENT
SUMMARY:Mid-day Office
DTSTART;TZID=Europe/London:20270311T121500
DTEND;TZID=Europe/London:20270311T123000
DTSTAMP:20260426T014636Z
UID:1436032027-03-11 12:15:00+00:00achurchnearyou
CATEGORIES:
DESCRIPTION:Mid-Day Office is one of the "little hours" of the Divine Offi
 ce. 
GEO:-0.641831;54.483197
LOCATION:St Hilda's Priory Chapel\, or the Chapel of the Order of the Holy
  Paraclete
URL:https://www.achurchnearyou.com/church/19886/service-and-events/events/
 143603/
END:VEVENT
BEGIN:VEVENT
SUMMARY:Mid-day Office
DTSTART;TZID=Europe/London:20270318T121500
DTEND;TZID=Europe/London:20270318T123000
DTSTAMP:20260426T014636Z
UID:1436032027-03-18 12:15:00+00:00achurchnearyou
CATEGORIES:
DESCRIPTION:Mid-Day Office is one of the "little hours" of the Divine Offi
 ce. 
GEO:-0.641831;54.483197
LOCATION:St Hilda's Priory Chapel\, or the Chapel of the Order of the Holy
  Paraclete
URL:https://www.achurchnearyou.com/church/19886/service-and-events/events/
 143603/
END:VEVENT
BEGIN:VEVENT
SUMMARY:Mid-day Office
DTSTART;TZID=Europe/London:20270325T121500
DTEND;TZID=Europe/London:20270325T123000
DTSTAMP:20260426T014636Z
UID:1436032027-03-25 12:15:00+00:00achurchnearyou
CATEGORIES:
DESCRIPTION:Mid-Day Office is one of the "little hours" of the Divine Offi
 ce. 
GEO:-0.641831;54.483197
LOCATION:St Hilda's Priory Chapel\, or the Chapel of the Order of the Holy
  Paraclete
URL:https://www.achurchnearyou.com/church/19886/service-and-events/events/
 143603/
END:VEVENT
BEGIN:VEVENT
SUMMARY:Mid-day Office
DTSTART;TZID=Europe/London:20270401T121500
DTEND;TZID=Europe/London:20270401T123000
DTSTAMP:20260426T014636Z
UID:1436032027-04-01 12:15:00+01:00achurchnearyou
CATEGORIES:
DESCRIPTION:Mid-Day Office is one of the "little hours" of the Divine Offi
 ce. 
GEO:-0.641831;54.483197
LOCATION:St Hilda's Priory Chapel\, or the Chapel of the Order of the Holy
  Paraclete
URL:https://www.achurchnearyou.com/church/19886/service-and-events/events/
 143603/
END:VEVENT
BEGIN:VEVENT
SUMMARY:Mid-day Office
DTSTART;TZID=Europe/London:20270408T121500
DTEND;TZID=Europe/London:20270408T123000
DTSTAMP:20260426T014636Z
UID:1436032027-04-08 12:15:00+01:00achurchnearyou
CATEGORIES:
DESCRIPTION:Mid-Day Office is one of the "little hours" of the Divine Offi
 ce. 
GEO:-0.641831;54.483197
LOCATION:St Hilda's Priory Chapel\, or the Chapel of the Order of the Holy
  Paraclete
URL:https://www.achurchnearyou.com/church/19886/service-and-events/events/
 143603/
END:VEVENT
BEGIN:VEVENT
SUMMARY:Mid-day Office
DTSTART;TZID=Europe/London:20270415T121500
DTEND;TZID=Europe/London:20270415T123000
DTSTAMP:20260426T014636Z
UID:1436032027-04-15 12:15:00+01:00achurchnearyou
CATEGORIES:
DESCRIPTION:Mid-Day Office is one of the "little hours" of the Divine Offi
 ce. 
GEO:-0.641831;54.483197
LOCATION:St Hilda's Priory Chapel\, or the Chapel of the Order of the Holy
  Paraclete
URL:https://www.achurchnearyou.com/church/19886/service-and-events/events/
 143603/
END:VEVENT
BEGIN:VEVENT
SUMMARY:Mid-day Office
DTSTART;TZID=Europe/London:20270422T121500
DTEND;TZID=Europe/London:20270422T123000
DTSTAMP:20260426T014636Z
UID:1436032027-04-22 12:15:00+01:00achurchnearyou
CATEGORIES:
DESCRIPTION:Mid-Day Office is one of the "little hours" of the Divine Offi
 ce. 
GEO:-0.641831;54.483197
LOCATION:St Hilda's Priory Chapel\, or the Chapel of the Order of the Holy
  Paraclete
URL:https://www.achurchnearyou.com/church/19886/service-and-events/events/
 143603/
END:VEVENT
END:VCALENDAR
