BEGIN:VCALENDAR
VERSION:2.0
PRODID:-//achurchnearyou.com//eventfeed//EN
CALSCALE:GREGORIAN
METHOD:PUBLISH
X-WR-TIMEZONE:UTC
BEGIN:VEVENT
SUMMARY:All age Parish Communion
DTSTART:20251225T100000Z
DTEND:20251225T113000Z
DTSTAMP:20260422T173540Z
UID:12634892025-12-25 10:00:00+00:00achurchnearyou
CATEGORIES:
DESCRIPTION:A family service celebrating the birth of Christ with great jo
 y on Christmas morning.
GEO:-1.325717;51.395362
LOCATION:St John the Evangelist Newbury
URL:https://stg-stj.org.uk/christmas-2023/christmas-day-services/
END:VEVENT
END:VCALENDAR
