BEGIN:VCALENDAR
VERSION:2.0
PRODID:-//achurchnearyou.com//eventfeed//EN
CALSCALE:GREGORIAN
METHOD:PUBLISH
X-WR-TIMEZONE:UTC
BEGIN:VEVENT
SUMMARY:Holy Communion (Said)
DTSTART;TZID=Europe/London:20260426T083000
DTEND;TZID=Europe/London:20260426T085800
DTSTAMP:20260420T070847Z
UID:7648512026-04-26 08:30:00+01:00achurchnearyou
CATEGORIES:
DESCRIPTION:A quiet contemplative service to start the day.
GEO:-1.325717;51.395362
LOCATION:St John the Evangelist Newbury
URL:https://www.achurchnearyou.com/church/199/service-and-events/events/76
 4851/
END:VEVENT
BEGIN:VEVENT
SUMMARY:Holy Communion (Said)
DTSTART;TZID=Europe/London:20260503T083000
DTEND;TZID=Europe/London:20260503T085800
DTSTAMP:20260420T070847Z
UID:7648512026-05-03 08:30:00+01:00achurchnearyou
CATEGORIES:
DESCRIPTION:A quiet contemplative service to start the day.
GEO:-1.325717;51.395362
LOCATION:St John the Evangelist Newbury
URL:https://www.achurchnearyou.com/church/199/service-and-events/events/76
 4851/
END:VEVENT
BEGIN:VEVENT
SUMMARY:Holy Communion (Said)
DTSTART;TZID=Europe/London:20260510T083000
DTEND;TZID=Europe/London:20260510T085800
DTSTAMP:20260420T070847Z
UID:7648512026-05-10 08:30:00+01:00achurchnearyou
CATEGORIES:
DESCRIPTION:A quiet contemplative service to start the day.
GEO:-1.325717;51.395362
LOCATION:St John the Evangelist Newbury
URL:https://www.achurchnearyou.com/church/199/service-and-events/events/76
 4851/
END:VEVENT
BEGIN:VEVENT
SUMMARY:Holy Communion (Said)
DTSTART;TZID=Europe/London:20260517T083000
DTEND;TZID=Europe/London:20260517T085800
DTSTAMP:20260420T070847Z
UID:7648512026-05-17 08:30:00+01:00achurchnearyou
CATEGORIES:
DESCRIPTION:A quiet contemplative service to start the day.
GEO:-1.325717;51.395362
LOCATION:St John the Evangelist Newbury
URL:https://www.achurchnearyou.com/church/199/service-and-events/events/76
 4851/
END:VEVENT
BEGIN:VEVENT
SUMMARY:Holy Communion (Said)
DTSTART;TZID=Europe/London:20260524T083000
DTEND;TZID=Europe/London:20260524T085800
DTSTAMP:20260420T070847Z
UID:7648512026-05-24 08:30:00+01:00achurchnearyou
CATEGORIES:
DESCRIPTION:A quiet contemplative service to start the day.
GEO:-1.325717;51.395362
LOCATION:St John the Evangelist Newbury
URL:https://www.achurchnearyou.com/church/199/service-and-events/events/76
 4851/
END:VEVENT
BEGIN:VEVENT
SUMMARY:Holy Communion (Said)
DTSTART;TZID=Europe/London:20260531T083000
DTEND;TZID=Europe/London:20260531T085800
DTSTAMP:20260420T070847Z
UID:7648512026-05-31 08:30:00+01:00achurchnearyou
CATEGORIES:
DESCRIPTION:A quiet contemplative service to start the day.
GEO:-1.325717;51.395362
LOCATION:St John the Evangelist Newbury
URL:https://www.achurchnearyou.com/church/199/service-and-events/events/76
 4851/
END:VEVENT
BEGIN:VEVENT
SUMMARY:Holy Communion (Said)
DTSTART;TZID=Europe/London:20260607T083000
DTEND;TZID=Europe/London:20260607T085800
DTSTAMP:20260420T070847Z
UID:7648512026-06-07 08:30:00+01:00achurchnearyou
CATEGORIES:
DESCRIPTION:A quiet contemplative service to start the day.
GEO:-1.325717;51.395362
LOCATION:St John the Evangelist Newbury
URL:https://www.achurchnearyou.com/church/199/service-and-events/events/76
 4851/
END:VEVENT
BEGIN:VEVENT
SUMMARY:Holy Communion (Said)
DTSTART;TZID=Europe/London:20260614T083000
DTEND;TZID=Europe/London:20260614T085800
DTSTAMP:20260420T070847Z
UID:7648512026-06-14 08:30:00+01:00achurchnearyou
CATEGORIES:
DESCRIPTION:A quiet contemplative service to start the day.
GEO:-1.325717;51.395362
LOCATION:St John the Evangelist Newbury
URL:https://www.achurchnearyou.com/church/199/service-and-events/events/76
 4851/
END:VEVENT
BEGIN:VEVENT
SUMMARY:Holy Communion (Said)
DTSTART;TZID=Europe/London:20260621T083000
DTEND;TZID=Europe/London:20260621T085800
DTSTAMP:20260420T070847Z
UID:7648512026-06-21 08:30:00+01:00achurchnearyou
CATEGORIES:
DESCRIPTION:A quiet contemplative service to start the day.
GEO:-1.325717;51.395362
LOCATION:St John the Evangelist Newbury
URL:https://www.achurchnearyou.com/church/199/service-and-events/events/76
 4851/
END:VEVENT
BEGIN:VEVENT
SUMMARY:Holy Communion (Said)
DTSTART;TZID=Europe/London:20260628T083000
DTEND;TZID=Europe/London:20260628T085800
DTSTAMP:20260420T070847Z
UID:7648512026-06-28 08:30:00+01:00achurchnearyou
CATEGORIES:
DESCRIPTION:A quiet contemplative service to start the day.
GEO:-1.325717;51.395362
LOCATION:St John the Evangelist Newbury
URL:https://www.achurchnearyou.com/church/199/service-and-events/events/76
 4851/
END:VEVENT
BEGIN:VEVENT
SUMMARY:Holy Communion (Said)
DTSTART;TZID=Europe/London:20260705T083000
DTEND;TZID=Europe/London:20260705T085800
DTSTAMP:20260420T070847Z
UID:7648512026-07-05 08:30:00+01:00achurchnearyou
CATEGORIES:
DESCRIPTION:A quiet contemplative service to start the day.
GEO:-1.325717;51.395362
LOCATION:St John the Evangelist Newbury
URL:https://www.achurchnearyou.com/church/199/service-and-events/events/76
 4851/
END:VEVENT
BEGIN:VEVENT
SUMMARY:Holy Communion (Said)
DTSTART;TZID=Europe/London:20260712T083000
DTEND;TZID=Europe/London:20260712T085800
DTSTAMP:20260420T070847Z
UID:7648512026-07-12 08:30:00+01:00achurchnearyou
CATEGORIES:
DESCRIPTION:A quiet contemplative service to start the day.
GEO:-1.325717;51.395362
LOCATION:St John the Evangelist Newbury
URL:https://www.achurchnearyou.com/church/199/service-and-events/events/76
 4851/
END:VEVENT
BEGIN:VEVENT
SUMMARY:Holy Communion (Said)
DTSTART;TZID=Europe/London:20260719T083000
DTEND;TZID=Europe/London:20260719T085800
DTSTAMP:20260420T070847Z
UID:7648512026-07-19 08:30:00+01:00achurchnearyou
CATEGORIES:
DESCRIPTION:A quiet contemplative service to start the day.
GEO:-1.325717;51.395362
LOCATION:St John the Evangelist Newbury
URL:https://www.achurchnearyou.com/church/199/service-and-events/events/76
 4851/
END:VEVENT
BEGIN:VEVENT
SUMMARY:Holy Communion (Said)
DTSTART;TZID=Europe/London:20260726T083000
DTEND;TZID=Europe/London:20260726T085800
DTSTAMP:20260420T070847Z
UID:7648512026-07-26 08:30:00+01:00achurchnearyou
CATEGORIES:
DESCRIPTION:A quiet contemplative service to start the day.
GEO:-1.325717;51.395362
LOCATION:St John the Evangelist Newbury
URL:https://www.achurchnearyou.com/church/199/service-and-events/events/76
 4851/
END:VEVENT
BEGIN:VEVENT
SUMMARY:Holy Communion (Said)
DTSTART;TZID=Europe/London:20260802T083000
DTEND;TZID=Europe/London:20260802T085800
DTSTAMP:20260420T070847Z
UID:7648512026-08-02 08:30:00+01:00achurchnearyou
CATEGORIES:
DESCRIPTION:A quiet contemplative service to start the day.
GEO:-1.325717;51.395362
LOCATION:St John the Evangelist Newbury
URL:https://www.achurchnearyou.com/church/199/service-and-events/events/76
 4851/
END:VEVENT
BEGIN:VEVENT
SUMMARY:Holy Communion (Said)
DTSTART;TZID=Europe/London:20260809T083000
DTEND;TZID=Europe/London:20260809T085800
DTSTAMP:20260420T070847Z
UID:7648512026-08-09 08:30:00+01:00achurchnearyou
CATEGORIES:
DESCRIPTION:A quiet contemplative service to start the day.
GEO:-1.325717;51.395362
LOCATION:St John the Evangelist Newbury
URL:https://www.achurchnearyou.com/church/199/service-and-events/events/76
 4851/
END:VEVENT
BEGIN:VEVENT
SUMMARY:Holy Communion (Said)
DTSTART;TZID=Europe/London:20260816T083000
DTEND;TZID=Europe/London:20260816T085800
DTSTAMP:20260420T070847Z
UID:7648512026-08-16 08:30:00+01:00achurchnearyou
CATEGORIES:
DESCRIPTION:A quiet contemplative service to start the day.
GEO:-1.325717;51.395362
LOCATION:St John the Evangelist Newbury
URL:https://www.achurchnearyou.com/church/199/service-and-events/events/76
 4851/
END:VEVENT
BEGIN:VEVENT
SUMMARY:Holy Communion (Said)
DTSTART;TZID=Europe/London:20260823T083000
DTEND;TZID=Europe/London:20260823T085800
DTSTAMP:20260420T070847Z
UID:7648512026-08-23 08:30:00+01:00achurchnearyou
CATEGORIES:
DESCRIPTION:A quiet contemplative service to start the day.
GEO:-1.325717;51.395362
LOCATION:St John the Evangelist Newbury
URL:https://www.achurchnearyou.com/church/199/service-and-events/events/76
 4851/
END:VEVENT
BEGIN:VEVENT
SUMMARY:Holy Communion (Said)
DTSTART;TZID=Europe/London:20260830T083000
DTEND;TZID=Europe/London:20260830T085800
DTSTAMP:20260420T070847Z
UID:7648512026-08-30 08:30:00+01:00achurchnearyou
CATEGORIES:
DESCRIPTION:A quiet contemplative service to start the day.
GEO:-1.325717;51.395362
LOCATION:St John the Evangelist Newbury
URL:https://www.achurchnearyou.com/church/199/service-and-events/events/76
 4851/
END:VEVENT
BEGIN:VEVENT
SUMMARY:Holy Communion (Said)
DTSTART;TZID=Europe/London:20260906T083000
DTEND;TZID=Europe/London:20260906T085800
DTSTAMP:20260420T070847Z
UID:7648512026-09-06 08:30:00+01:00achurchnearyou
CATEGORIES:
DESCRIPTION:A quiet contemplative service to start the day.
GEO:-1.325717;51.395362
LOCATION:St John the Evangelist Newbury
URL:https://www.achurchnearyou.com/church/199/service-and-events/events/76
 4851/
END:VEVENT
BEGIN:VEVENT
SUMMARY:Holy Communion (Said)
DTSTART;TZID=Europe/London:20260913T083000
DTEND;TZID=Europe/London:20260913T085800
DTSTAMP:20260420T070847Z
UID:7648512026-09-13 08:30:00+01:00achurchnearyou
CATEGORIES:
DESCRIPTION:A quiet contemplative service to start the day.
GEO:-1.325717;51.395362
LOCATION:St John the Evangelist Newbury
URL:https://www.achurchnearyou.com/church/199/service-and-events/events/76
 4851/
END:VEVENT
BEGIN:VEVENT
SUMMARY:Holy Communion (Said)
DTSTART;TZID=Europe/London:20260920T083000
DTEND;TZID=Europe/London:20260920T085800
DTSTAMP:20260420T070847Z
UID:7648512026-09-20 08:30:00+01:00achurchnearyou
CATEGORIES:
DESCRIPTION:A quiet contemplative service to start the day.
GEO:-1.325717;51.395362
LOCATION:St John the Evangelist Newbury
URL:https://www.achurchnearyou.com/church/199/service-and-events/events/76
 4851/
END:VEVENT
BEGIN:VEVENT
SUMMARY:Holy Communion (Said)
DTSTART;TZID=Europe/London:20260927T083000
DTEND;TZID=Europe/London:20260927T085800
DTSTAMP:20260420T070847Z
UID:7648512026-09-27 08:30:00+01:00achurchnearyou
CATEGORIES:
DESCRIPTION:A quiet contemplative service to start the day.
GEO:-1.325717;51.395362
LOCATION:St John the Evangelist Newbury
URL:https://www.achurchnearyou.com/church/199/service-and-events/events/76
 4851/
END:VEVENT
BEGIN:VEVENT
SUMMARY:Holy Communion (Said)
DTSTART;TZID=Europe/London:20261004T083000
DTEND;TZID=Europe/London:20261004T085800
DTSTAMP:20260420T070847Z
UID:7648512026-10-04 08:30:00+01:00achurchnearyou
CATEGORIES:
DESCRIPTION:A quiet contemplative service to start the day.
GEO:-1.325717;51.395362
LOCATION:St John the Evangelist Newbury
URL:https://www.achurchnearyou.com/church/199/service-and-events/events/76
 4851/
END:VEVENT
BEGIN:VEVENT
SUMMARY:Holy Communion (Said)
DTSTART;TZID=Europe/London:20261011T083000
DTEND;TZID=Europe/London:20261011T085800
DTSTAMP:20260420T070847Z
UID:7648512026-10-11 08:30:00+01:00achurchnearyou
CATEGORIES:
DESCRIPTION:A quiet contemplative service to start the day.
GEO:-1.325717;51.395362
LOCATION:St John the Evangelist Newbury
URL:https://www.achurchnearyou.com/church/199/service-and-events/events/76
 4851/
END:VEVENT
BEGIN:VEVENT
SUMMARY:Holy Communion (Said)
DTSTART;TZID=Europe/London:20261018T083000
DTEND;TZID=Europe/London:20261018T085800
DTSTAMP:20260420T070847Z
UID:7648512026-10-18 08:30:00+01:00achurchnearyou
CATEGORIES:
DESCRIPTION:A quiet contemplative service to start the day.
GEO:-1.325717;51.395362
LOCATION:St John the Evangelist Newbury
URL:https://www.achurchnearyou.com/church/199/service-and-events/events/76
 4851/
END:VEVENT
BEGIN:VEVENT
SUMMARY:Holy Communion (Said)
DTSTART;TZID=Europe/London:20261025T083000
DTEND;TZID=Europe/London:20261025T085800
DTSTAMP:20260420T070847Z
UID:7648512026-10-25 08:30:00+00:00achurchnearyou
CATEGORIES:
DESCRIPTION:A quiet contemplative service to start the day.
GEO:-1.325717;51.395362
LOCATION:St John the Evangelist Newbury
URL:https://www.achurchnearyou.com/church/199/service-and-events/events/76
 4851/
END:VEVENT
BEGIN:VEVENT
SUMMARY:Holy Communion (Said)
DTSTART;TZID=Europe/London:20261101T083000
DTEND;TZID=Europe/London:20261101T085800
DTSTAMP:20260420T070847Z
UID:7648512026-11-01 08:30:00+00:00achurchnearyou
CATEGORIES:
DESCRIPTION:A quiet contemplative service to start the day.
GEO:-1.325717;51.395362
LOCATION:St John the Evangelist Newbury
URL:https://www.achurchnearyou.com/church/199/service-and-events/events/76
 4851/
END:VEVENT
BEGIN:VEVENT
SUMMARY:Holy Communion (Said)
DTSTART;TZID=Europe/London:20261108T083000
DTEND;TZID=Europe/London:20261108T085800
DTSTAMP:20260420T070847Z
UID:7648512026-11-08 08:30:00+00:00achurchnearyou
CATEGORIES:
DESCRIPTION:A quiet contemplative service to start the day.
GEO:-1.325717;51.395362
LOCATION:St John the Evangelist Newbury
URL:https://www.achurchnearyou.com/church/199/service-and-events/events/76
 4851/
END:VEVENT
BEGIN:VEVENT
SUMMARY:Holy Communion (Said)
DTSTART;TZID=Europe/London:20261115T083000
DTEND;TZID=Europe/London:20261115T085800
DTSTAMP:20260420T070847Z
UID:7648512026-11-15 08:30:00+00:00achurchnearyou
CATEGORIES:
DESCRIPTION:A quiet contemplative service to start the day.
GEO:-1.325717;51.395362
LOCATION:St John the Evangelist Newbury
URL:https://www.achurchnearyou.com/church/199/service-and-events/events/76
 4851/
END:VEVENT
BEGIN:VEVENT
SUMMARY:Holy Communion (Said)
DTSTART;TZID=Europe/London:20261122T083000
DTEND;TZID=Europe/London:20261122T085800
DTSTAMP:20260420T070847Z
UID:7648512026-11-22 08:30:00+00:00achurchnearyou
CATEGORIES:
DESCRIPTION:A quiet contemplative service to start the day.
GEO:-1.325717;51.395362
LOCATION:St John the Evangelist Newbury
URL:https://www.achurchnearyou.com/church/199/service-and-events/events/76
 4851/
END:VEVENT
BEGIN:VEVENT
SUMMARY:Holy Communion (Said)
DTSTART;TZID=Europe/London:20261129T083000
DTEND;TZID=Europe/London:20261129T085800
DTSTAMP:20260420T070847Z
UID:7648512026-11-29 08:30:00+00:00achurchnearyou
CATEGORIES:
DESCRIPTION:A quiet contemplative service to start the day.
GEO:-1.325717;51.395362
LOCATION:St John the Evangelist Newbury
URL:https://www.achurchnearyou.com/church/199/service-and-events/events/76
 4851/
END:VEVENT
BEGIN:VEVENT
SUMMARY:Holy Communion (Said)
DTSTART;TZID=Europe/London:20261206T083000
DTEND;TZID=Europe/London:20261206T085800
DTSTAMP:20260420T070847Z
UID:7648512026-12-06 08:30:00+00:00achurchnearyou
CATEGORIES:
DESCRIPTION:A quiet contemplative service to start the day.
GEO:-1.325717;51.395362
LOCATION:St John the Evangelist Newbury
URL:https://www.achurchnearyou.com/church/199/service-and-events/events/76
 4851/
END:VEVENT
BEGIN:VEVENT
SUMMARY:Holy Communion (Said)
DTSTART;TZID=Europe/London:20261213T083000
DTEND;TZID=Europe/London:20261213T085800
DTSTAMP:20260420T070847Z
UID:7648512026-12-13 08:30:00+00:00achurchnearyou
CATEGORIES:
DESCRIPTION:A quiet contemplative service to start the day.
GEO:-1.325717;51.395362
LOCATION:St John the Evangelist Newbury
URL:https://www.achurchnearyou.com/church/199/service-and-events/events/76
 4851/
END:VEVENT
BEGIN:VEVENT
SUMMARY:Holy Communion (Said)
DTSTART;TZID=Europe/London:20261220T083000
DTEND;TZID=Europe/London:20261220T085800
DTSTAMP:20260420T070847Z
UID:7648512026-12-20 08:30:00+00:00achurchnearyou
CATEGORIES:
DESCRIPTION:A quiet contemplative service to start the day.
GEO:-1.325717;51.395362
LOCATION:St John the Evangelist Newbury
URL:https://www.achurchnearyou.com/church/199/service-and-events/events/76
 4851/
END:VEVENT
BEGIN:VEVENT
SUMMARY:Holy Communion (Said)
DTSTART;TZID=Europe/London:20261227T083000
DTEND;TZID=Europe/London:20261227T085800
DTSTAMP:20260420T070847Z
UID:7648512026-12-27 08:30:00+00:00achurchnearyou
CATEGORIES:
DESCRIPTION:A quiet contemplative service to start the day.
GEO:-1.325717;51.395362
LOCATION:St John the Evangelist Newbury
URL:https://www.achurchnearyou.com/church/199/service-and-events/events/76
 4851/
END:VEVENT
BEGIN:VEVENT
SUMMARY:Holy Communion (Said)
DTSTART;TZID=Europe/London:20270103T083000
DTEND;TZID=Europe/London:20270103T085800
DTSTAMP:20260420T070847Z
UID:7648512027-01-03 08:30:00+00:00achurchnearyou
CATEGORIES:
DESCRIPTION:A quiet contemplative service to start the day.
GEO:-1.325717;51.395362
LOCATION:St John the Evangelist Newbury
URL:https://www.achurchnearyou.com/church/199/service-and-events/events/76
 4851/
END:VEVENT
BEGIN:VEVENT
SUMMARY:Holy Communion (Said)
DTSTART;TZID=Europe/London:20270110T083000
DTEND;TZID=Europe/London:20270110T085800
DTSTAMP:20260420T070847Z
UID:7648512027-01-10 08:30:00+00:00achurchnearyou
CATEGORIES:
DESCRIPTION:A quiet contemplative service to start the day.
GEO:-1.325717;51.395362
LOCATION:St John the Evangelist Newbury
URL:https://www.achurchnearyou.com/church/199/service-and-events/events/76
 4851/
END:VEVENT
BEGIN:VEVENT
SUMMARY:Holy Communion (Said)
DTSTART;TZID=Europe/London:20270117T083000
DTEND;TZID=Europe/London:20270117T085800
DTSTAMP:20260420T070847Z
UID:7648512027-01-17 08:30:00+00:00achurchnearyou
CATEGORIES:
DESCRIPTION:A quiet contemplative service to start the day.
GEO:-1.325717;51.395362
LOCATION:St John the Evangelist Newbury
URL:https://www.achurchnearyou.com/church/199/service-and-events/events/76
 4851/
END:VEVENT
BEGIN:VEVENT
SUMMARY:Holy Communion (Said)
DTSTART;TZID=Europe/London:20270124T083000
DTEND;TZID=Europe/London:20270124T085800
DTSTAMP:20260420T070847Z
UID:7648512027-01-24 08:30:00+00:00achurchnearyou
CATEGORIES:
DESCRIPTION:A quiet contemplative service to start the day.
GEO:-1.325717;51.395362
LOCATION:St John the Evangelist Newbury
URL:https://www.achurchnearyou.com/church/199/service-and-events/events/76
 4851/
END:VEVENT
BEGIN:VEVENT
SUMMARY:Holy Communion (Said)
DTSTART;TZID=Europe/London:20270131T083000
DTEND;TZID=Europe/London:20270131T085800
DTSTAMP:20260420T070847Z
UID:7648512027-01-31 08:30:00+00:00achurchnearyou
CATEGORIES:
DESCRIPTION:A quiet contemplative service to start the day.
GEO:-1.325717;51.395362
LOCATION:St John the Evangelist Newbury
URL:https://www.achurchnearyou.com/church/199/service-and-events/events/76
 4851/
END:VEVENT
BEGIN:VEVENT
SUMMARY:Holy Communion (Said)
DTSTART;TZID=Europe/London:20270207T083000
DTEND;TZID=Europe/London:20270207T085800
DTSTAMP:20260420T070847Z
UID:7648512027-02-07 08:30:00+00:00achurchnearyou
CATEGORIES:
DESCRIPTION:A quiet contemplative service to start the day.
GEO:-1.325717;51.395362
LOCATION:St John the Evangelist Newbury
URL:https://www.achurchnearyou.com/church/199/service-and-events/events/76
 4851/
END:VEVENT
BEGIN:VEVENT
SUMMARY:Holy Communion (Said)
DTSTART;TZID=Europe/London:20270214T083000
DTEND;TZID=Europe/London:20270214T085800
DTSTAMP:20260420T070847Z
UID:7648512027-02-14 08:30:00+00:00achurchnearyou
CATEGORIES:
DESCRIPTION:A quiet contemplative service to start the day.
GEO:-1.325717;51.395362
LOCATION:St John the Evangelist Newbury
URL:https://www.achurchnearyou.com/church/199/service-and-events/events/76
 4851/
END:VEVENT
BEGIN:VEVENT
SUMMARY:Holy Communion (Said)
DTSTART;TZID=Europe/London:20270221T083000
DTEND;TZID=Europe/London:20270221T085800
DTSTAMP:20260420T070847Z
UID:7648512027-02-21 08:30:00+00:00achurchnearyou
CATEGORIES:
DESCRIPTION:A quiet contemplative service to start the day.
GEO:-1.325717;51.395362
LOCATION:St John the Evangelist Newbury
URL:https://www.achurchnearyou.com/church/199/service-and-events/events/76
 4851/
END:VEVENT
BEGIN:VEVENT
SUMMARY:Holy Communion (Said)
DTSTART;TZID=Europe/London:20270228T083000
DTEND;TZID=Europe/London:20270228T085800
DTSTAMP:20260420T070847Z
UID:7648512027-02-28 08:30:00+00:00achurchnearyou
CATEGORIES:
DESCRIPTION:A quiet contemplative service to start the day.
GEO:-1.325717;51.395362
LOCATION:St John the Evangelist Newbury
URL:https://www.achurchnearyou.com/church/199/service-and-events/events/76
 4851/
END:VEVENT
BEGIN:VEVENT
SUMMARY:Holy Communion (Said)
DTSTART;TZID=Europe/London:20270307T083000
DTEND;TZID=Europe/London:20270307T085800
DTSTAMP:20260420T070847Z
UID:7648512027-03-07 08:30:00+00:00achurchnearyou
CATEGORIES:
DESCRIPTION:A quiet contemplative service to start the day.
GEO:-1.325717;51.395362
LOCATION:St John the Evangelist Newbury
URL:https://www.achurchnearyou.com/church/199/service-and-events/events/76
 4851/
END:VEVENT
BEGIN:VEVENT
SUMMARY:Holy Communion (Said)
DTSTART;TZID=Europe/London:20270314T083000
DTEND;TZID=Europe/London:20270314T085800
DTSTAMP:20260420T070847Z
UID:7648512027-03-14 08:30:00+00:00achurchnearyou
CATEGORIES:
DESCRIPTION:A quiet contemplative service to start the day.
GEO:-1.325717;51.395362
LOCATION:St John the Evangelist Newbury
URL:https://www.achurchnearyou.com/church/199/service-and-events/events/76
 4851/
END:VEVENT
BEGIN:VEVENT
SUMMARY:Holy Communion (Said)
DTSTART;TZID=Europe/London:20270321T083000
DTEND;TZID=Europe/London:20270321T085800
DTSTAMP:20260420T070847Z
UID:7648512027-03-21 08:30:00+00:00achurchnearyou
CATEGORIES:
DESCRIPTION:A quiet contemplative service to start the day.
GEO:-1.325717;51.395362
LOCATION:St John the Evangelist Newbury
URL:https://www.achurchnearyou.com/church/199/service-and-events/events/76
 4851/
END:VEVENT
BEGIN:VEVENT
SUMMARY:Holy Communion (Said)
DTSTART;TZID=Europe/London:20270328T083000
DTEND;TZID=Europe/London:20270328T085800
DTSTAMP:20260420T070847Z
UID:7648512027-03-28 08:30:00+01:00achurchnearyou
CATEGORIES:
DESCRIPTION:A quiet contemplative service to start the day.
GEO:-1.325717;51.395362
LOCATION:St John the Evangelist Newbury
URL:https://www.achurchnearyou.com/church/199/service-and-events/events/76
 4851/
END:VEVENT
BEGIN:VEVENT
SUMMARY:Holy Communion (Said)
DTSTART;TZID=Europe/London:20270404T083000
DTEND;TZID=Europe/London:20270404T085800
DTSTAMP:20260420T070847Z
UID:7648512027-04-04 08:30:00+01:00achurchnearyou
CATEGORIES:
DESCRIPTION:A quiet contemplative service to start the day.
GEO:-1.325717;51.395362
LOCATION:St John the Evangelist Newbury
URL:https://www.achurchnearyou.com/church/199/service-and-events/events/76
 4851/
END:VEVENT
BEGIN:VEVENT
SUMMARY:Holy Communion (Said)
DTSTART;TZID=Europe/London:20270411T083000
DTEND;TZID=Europe/London:20270411T085800
DTSTAMP:20260420T070847Z
UID:7648512027-04-11 08:30:00+01:00achurchnearyou
CATEGORIES:
DESCRIPTION:A quiet contemplative service to start the day.
GEO:-1.325717;51.395362
LOCATION:St John the Evangelist Newbury
URL:https://www.achurchnearyou.com/church/199/service-and-events/events/76
 4851/
END:VEVENT
BEGIN:VEVENT
SUMMARY:Holy Communion (Said)
DTSTART;TZID=Europe/London:20270418T083000
DTEND;TZID=Europe/London:20270418T085800
DTSTAMP:20260420T070847Z
UID:7648512027-04-18 08:30:00+01:00achurchnearyou
CATEGORIES:
DESCRIPTION:A quiet contemplative service to start the day.
GEO:-1.325717;51.395362
LOCATION:St John the Evangelist Newbury
URL:https://www.achurchnearyou.com/church/199/service-and-events/events/76
 4851/
END:VEVENT
END:VCALENDAR
