BEGIN:VCALENDAR
VERSION:2.0
PRODID:-//achurchnearyou.com//eventfeed//EN
CALSCALE:GREGORIAN
METHOD:PUBLISH
X-WR-TIMEZONE:UTC
BEGIN:VEVENT
SUMMARY:Christingle
DTSTART:20251207T100000Z
DTEND:20251207T110000Z
DTSTAMP:20260421T172156Z
UID:12602872025-12-07 10:00:00+00:00achurchnearyou
CATEGORIES:
DESCRIPTION:Come to our Family@Church Christingle Service
LOCATION:Pakenham\, St Mary
URL:https://www.achurchnearyou.com/church/1991/service-and-events/events/1
 260287/
END:VEVENT
END:VCALENDAR
