BEGIN:VCALENDAR
VERSION:2.0
PRODID:-//achurchnearyou.com//eventfeed//EN
CALSCALE:GREGORIAN
METHOD:PUBLISH
X-WR-TIMEZONE:UTC
BEGIN:VEVENT
SUMMARY:Family Festival Communion
DTSTART:20251225T093000Z
DTEND:20251225T103000Z
DTSTAMP:20260421T172339Z
UID:12603712025-12-25 09:30:00+00:00achurchnearyou
CATEGORIES:
DESCRIPTION:A short\, family friendly\, Christmas Day Communion\nAll are w
 elcome
LOCATION:Tostock\, St Andrew
URL:https://www.achurchnearyou.com/church/1991/service-and-events/events/1
 260371/
END:VEVENT
END:VCALENDAR
