BEGIN:VCALENDAR
VERSION:2.0
PRODID:-//achurchnearyou.com//eventfeed//EN
CALSCALE:GREGORIAN
METHOD:PUBLISH
X-WR-TIMEZONE:UTC
BEGIN:VEVENT
SUMMARY:Christmas Craft Evening
DTSTART:20251204T190000Z
DTEND:20251204T210000Z
DTSTAMP:20260420T094452Z
UID:12633962025-12-04 19:00:00+00:00achurchnearyou
CATEGORIES:
DESCRIPTION:Get into the festive spirit and join us for an evening of Chri
 stmas crafting! £10 per person - includes all materials\, mulled wine & m
 ince pies (non-alcoholic punch also available). Suitable for all ages and 
 crafting abilities. Please bring your own glue gun if you have one. Bookin
 g is essential: events.stlukescentre@gmail.com
GEO:-3.187435269355774;51.039017611607015
LOCATION:St Luke's Church Centre
URL:https://www.achurchnearyou.com/church/19919/service-and-events/events/
 1263396/
END:VEVENT
END:VCALENDAR
