BEGIN:VCALENDAR
VERSION:2.0
PRODID:-//achurchnearyou.com//eventfeed//EN
CALSCALE:GREGORIAN
METHOD:PUBLISH
X-WR-TIMEZONE:UTC
BEGIN:VEVENT
SUMMARY:GOOD FRIDAY FAMILY FUN
DTSTART:20260403T090000Z
DTEND:20260403T100000Z
DTSTAMP:20260420T035840Z
UID:12999452026-04-03 09:00:00+00:00achurchnearyou
CATEGORIES:
DESCRIPTION:Join us for an hour of Easter fun. \nBring the family for game
 s\, crafts and making Easter cakes.\nHear the Easter story and eat lots of
  Hot cross!
GEO:-3.187435269355774;51.039017611607015
LOCATION:St Luke's Church Centre
URL:https://www.achurchnearyou.com/church/19919/service-and-events/events/
 1299945/
END:VEVENT
END:VCALENDAR
