BEGIN:VCALENDAR
VERSION:2.0
PRODID:-//achurchnearyou.com//eventfeed//EN
CALSCALE:GREGORIAN
METHOD:PUBLISH
X-WR-TIMEZONE:UTC
BEGIN:VEVENT
SUMMARY:FRESH All-age Breakfast Service
DTSTART;TZID=Europe/London:20241020T102000
DTEND;TZID=Europe/London:20241020T113000
DTSTAMP:20260419T222613Z
UID:7921822024-10-20 10:20:00+01:00achurchnearyou
CATEGORIES:
DESCRIPTION:FRESH takes place on the third Sunday of each month. A relaxed
 \, friendly 60-minute service of worship\, a talk\, interactive craft\, di
 scussion and prayer. We gather from 10.20am for breakfast\, and the servic
 e starts at 10.40am. The service is ‘intentionally intergenerational’\
 , which basically means all ages stay together in the service and you can 
 involve yourself as little or as much as you like with the activities.\nLo
 oking forward to seeing you there!
GEO:-3.187435269355774;51.039017611607015
LOCATION:St Luke's Church Centre
URL:https://www.achurchnearyou.com/church/19919/service-and-events/events/
 792182/
END:VEVENT
BEGIN:VEVENT
SUMMARY:FRESH All-age Breakfast Service
DTSTART;TZID=Europe/London:20241117T102000
DTEND;TZID=Europe/London:20241117T113000
DTSTAMP:20260419T222613Z
UID:7921822024-11-17 10:20:00+00:00achurchnearyou
CATEGORIES:
DESCRIPTION:FRESH takes place on the third Sunday of each month. A relaxed
 \, friendly 60-minute service of worship\, a talk\, interactive craft\, di
 scussion and prayer. We gather from 10.20am for breakfast\, and the servic
 e starts at 10.40am. The service is ‘intentionally intergenerational’\
 , which basically means all ages stay together in the service and you can 
 involve yourself as little or as much as you like with the activities.\nLo
 oking forward to seeing you there!
GEO:-3.187435269355774;51.039017611607015
LOCATION:St Luke's Church Centre
URL:https://www.achurchnearyou.com/church/19919/service-and-events/events/
 792182/
END:VEVENT
BEGIN:VEVENT
SUMMARY:FRESH All-age Breakfast Service
DTSTART;TZID=Europe/London:20241215T102000
DTEND;TZID=Europe/London:20241215T113000
DTSTAMP:20260419T222613Z
UID:7921822024-12-15 10:20:00+00:00achurchnearyou
CATEGORIES:
DESCRIPTION:FRESH takes place on the third Sunday of each month. A relaxed
 \, friendly 60-minute service of worship\, a talk\, interactive craft\, di
 scussion and prayer. We gather from 10.20am for breakfast\, and the servic
 e starts at 10.40am. The service is ‘intentionally intergenerational’\
 , which basically means all ages stay together in the service and you can 
 involve yourself as little or as much as you like with the activities.\nLo
 oking forward to seeing you there!
GEO:-3.187435269355774;51.039017611607015
LOCATION:St Luke's Church Centre
URL:https://www.achurchnearyou.com/church/19919/service-and-events/events/
 792182/
END:VEVENT
BEGIN:VEVENT
SUMMARY:FRESH All-age Breakfast Service
DTSTART;TZID=Europe/London:20250119T102000
DTEND;TZID=Europe/London:20250119T113000
DTSTAMP:20260419T222613Z
UID:7921822025-01-19 10:20:00+00:00achurchnearyou
CATEGORIES:
DESCRIPTION:FRESH takes place on the third Sunday of each month. A relaxed
 \, friendly 60-minute service of worship\, a talk\, interactive craft\, di
 scussion and prayer. We gather from 10.20am for breakfast\, and the servic
 e starts at 10.40am. The service is ‘intentionally intergenerational’\
 , which basically means all ages stay together in the service and you can 
 involve yourself as little or as much as you like with the activities.\nLo
 oking forward to seeing you there!
GEO:-3.187435269355774;51.039017611607015
LOCATION:St Luke's Church Centre
URL:https://www.achurchnearyou.com/church/19919/service-and-events/events/
 792182/
END:VEVENT
BEGIN:VEVENT
SUMMARY:FRESH All-age Breakfast Service
DTSTART;TZID=Europe/London:20250216T102000
DTEND;TZID=Europe/London:20250216T113000
DTSTAMP:20260419T222613Z
UID:7921822025-02-16 10:20:00+00:00achurchnearyou
CATEGORIES:
DESCRIPTION:FRESH takes place on the third Sunday of each month. A relaxed
 \, friendly 60-minute service of worship\, a talk\, interactive craft\, di
 scussion and prayer. We gather from 10.20am for breakfast\, and the servic
 e starts at 10.40am. The service is ‘intentionally intergenerational’\
 , which basically means all ages stay together in the service and you can 
 involve yourself as little or as much as you like with the activities.\nLo
 oking forward to seeing you there!
GEO:-3.187435269355774;51.039017611607015
LOCATION:St Luke's Church Centre
URL:https://www.achurchnearyou.com/church/19919/service-and-events/events/
 792182/
END:VEVENT
BEGIN:VEVENT
SUMMARY:FRESH All-age Breakfast Service
DTSTART;TZID=Europe/London:20250316T102000
DTEND;TZID=Europe/London:20250316T113000
DTSTAMP:20260419T222613Z
UID:7921822025-03-16 10:20:00+00:00achurchnearyou
CATEGORIES:
DESCRIPTION:FRESH takes place on the third Sunday of each month. A relaxed
 \, friendly 60-minute service of worship\, a talk\, interactive craft\, di
 scussion and prayer. We gather from 10.20am for breakfast\, and the servic
 e starts at 10.40am. The service is ‘intentionally intergenerational’\
 , which basically means all ages stay together in the service and you can 
 involve yourself as little or as much as you like with the activities.\nLo
 oking forward to seeing you there!
GEO:-3.187435269355774;51.039017611607015
LOCATION:St Luke's Church Centre
URL:https://www.achurchnearyou.com/church/19919/service-and-events/events/
 792182/
END:VEVENT
BEGIN:VEVENT
SUMMARY:FRESH All-age Breakfast Service
DTSTART;TZID=Europe/London:20250420T102000
DTEND;TZID=Europe/London:20250420T113000
DTSTAMP:20260419T222613Z
UID:7921822025-04-20 10:20:00+01:00achurchnearyou
CATEGORIES:
DESCRIPTION:FRESH takes place on the third Sunday of each month. A relaxed
 \, friendly 60-minute service of worship\, a talk\, interactive craft\, di
 scussion and prayer. We gather from 10.20am for breakfast\, and the servic
 e starts at 10.40am. The service is ‘intentionally intergenerational’\
 , which basically means all ages stay together in the service and you can 
 involve yourself as little or as much as you like with the activities.\nLo
 oking forward to seeing you there!
GEO:-3.187435269355774;51.039017611607015
LOCATION:St Luke's Church Centre
URL:https://www.achurchnearyou.com/church/19919/service-and-events/events/
 792182/
END:VEVENT
BEGIN:VEVENT
SUMMARY:FRESH All-age Breakfast Service
DTSTART;TZID=Europe/London:20250518T102000
DTEND;TZID=Europe/London:20250518T113000
DTSTAMP:20260419T222613Z
UID:7921822025-05-18 10:20:00+01:00achurchnearyou
CATEGORIES:
DESCRIPTION:FRESH takes place on the third Sunday of each month. A relaxed
 \, friendly 60-minute service of worship\, a talk\, interactive craft\, di
 scussion and prayer. We gather from 10.20am for breakfast\, and the servic
 e starts at 10.40am. The service is ‘intentionally intergenerational’\
 , which basically means all ages stay together in the service and you can 
 involve yourself as little or as much as you like with the activities.\nLo
 oking forward to seeing you there!
GEO:-3.187435269355774;51.039017611607015
LOCATION:St Luke's Church Centre
URL:https://www.achurchnearyou.com/church/19919/service-and-events/events/
 792182/
END:VEVENT
BEGIN:VEVENT
SUMMARY:FRESH All-age Breakfast Service
DTSTART;TZID=Europe/London:20250615T102000
DTEND;TZID=Europe/London:20250615T113000
DTSTAMP:20260419T222613Z
UID:7921822025-06-15 10:20:00+01:00achurchnearyou
CATEGORIES:
DESCRIPTION:FRESH takes place on the third Sunday of each month. A relaxed
 \, friendly 60-minute service of worship\, a talk\, interactive craft\, di
 scussion and prayer. We gather from 10.20am for breakfast\, and the servic
 e starts at 10.40am. The service is ‘intentionally intergenerational’\
 , which basically means all ages stay together in the service and you can 
 involve yourself as little or as much as you like with the activities.\nLo
 oking forward to seeing you there!
GEO:-3.187435269355774;51.039017611607015
LOCATION:St Luke's Church Centre
URL:https://www.achurchnearyou.com/church/19919/service-and-events/events/
 792182/
END:VEVENT
BEGIN:VEVENT
SUMMARY:FRESH All-age Breakfast Service
DTSTART;TZID=Europe/London:20250720T102000
DTEND;TZID=Europe/London:20250720T113000
DTSTAMP:20260419T222613Z
UID:7921822025-07-20 10:20:00+01:00achurchnearyou
CATEGORIES:
DESCRIPTION:FRESH takes place on the third Sunday of each month. A relaxed
 \, friendly 60-minute service of worship\, a talk\, interactive craft\, di
 scussion and prayer. We gather from 10.20am for breakfast\, and the servic
 e starts at 10.40am. The service is ‘intentionally intergenerational’\
 , which basically means all ages stay together in the service and you can 
 involve yourself as little or as much as you like with the activities.\nLo
 oking forward to seeing you there!
GEO:-3.187435269355774;51.039017611607015
LOCATION:St Luke's Church Centre
URL:https://www.achurchnearyou.com/church/19919/service-and-events/events/
 792182/
END:VEVENT
BEGIN:VEVENT
SUMMARY:FRESH All-age Breakfast Service
DTSTART;TZID=Europe/London:20250817T102000
DTEND;TZID=Europe/London:20250817T113000
DTSTAMP:20260419T222613Z
UID:7921822025-08-17 10:20:00+01:00achurchnearyou
CATEGORIES:
DESCRIPTION:FRESH takes place on the third Sunday of each month. A relaxed
 \, friendly 60-minute service of worship\, a talk\, interactive craft\, di
 scussion and prayer. We gather from 10.20am for breakfast\, and the servic
 e starts at 10.40am. The service is ‘intentionally intergenerational’\
 , which basically means all ages stay together in the service and you can 
 involve yourself as little or as much as you like with the activities.\nLo
 oking forward to seeing you there!
GEO:-3.187435269355774;51.039017611607015
LOCATION:St Luke's Church Centre
URL:https://www.achurchnearyou.com/church/19919/service-and-events/events/
 792182/
END:VEVENT
BEGIN:VEVENT
SUMMARY:FRESH All-age Breakfast Service
DTSTART;TZID=Europe/London:20250921T102000
DTEND;TZID=Europe/London:20250921T113000
DTSTAMP:20260419T222613Z
UID:7921822025-09-21 10:20:00+01:00achurchnearyou
CATEGORIES:
DESCRIPTION:FRESH takes place on the third Sunday of each month. A relaxed
 \, friendly 60-minute service of worship\, a talk\, interactive craft\, di
 scussion and prayer. We gather from 10.20am for breakfast\, and the servic
 e starts at 10.40am. The service is ‘intentionally intergenerational’\
 , which basically means all ages stay together in the service and you can 
 involve yourself as little or as much as you like with the activities.\nLo
 oking forward to seeing you there!
GEO:-3.187435269355774;51.039017611607015
LOCATION:St Luke's Church Centre
URL:https://www.achurchnearyou.com/church/19919/service-and-events/events/
 792182/
END:VEVENT
BEGIN:VEVENT
SUMMARY:FRESH All-age Breakfast Service
DTSTART;TZID=Europe/London:20251019T102000
DTEND;TZID=Europe/London:20251019T113000
DTSTAMP:20260419T222613Z
UID:7921822025-10-19 10:20:00+01:00achurchnearyou
CATEGORIES:
DESCRIPTION:FRESH takes place on the third Sunday of each month. A relaxed
 \, friendly 60-minute service of worship\, a talk\, interactive craft\, di
 scussion and prayer. We gather from 10.20am for breakfast\, and the servic
 e starts at 10.40am. The service is ‘intentionally intergenerational’\
 , which basically means all ages stay together in the service and you can 
 involve yourself as little or as much as you like with the activities.\nLo
 oking forward to seeing you there!
GEO:-3.187435269355774;51.039017611607015
LOCATION:St Luke's Church Centre
URL:https://www.achurchnearyou.com/church/19919/service-and-events/events/
 792182/
END:VEVENT
BEGIN:VEVENT
SUMMARY:FRESH All-age Breakfast Service
DTSTART;TZID=Europe/London:20251116T102000
DTEND;TZID=Europe/London:20251116T113000
DTSTAMP:20260419T222613Z
UID:7921822025-11-16 10:20:00+00:00achurchnearyou
CATEGORIES:
DESCRIPTION:FRESH takes place on the third Sunday of each month. A relaxed
 \, friendly 60-minute service of worship\, a talk\, interactive craft\, di
 scussion and prayer. We gather from 10.20am for breakfast\, and the servic
 e starts at 10.40am. The service is ‘intentionally intergenerational’\
 , which basically means all ages stay together in the service and you can 
 involve yourself as little or as much as you like with the activities.\nLo
 oking forward to seeing you there!
GEO:-3.187435269355774;51.039017611607015
LOCATION:St Luke's Church Centre
URL:https://www.achurchnearyou.com/church/19919/service-and-events/events/
 792182/
END:VEVENT
BEGIN:VEVENT
SUMMARY:FRESH All-age Breakfast Service
DTSTART;TZID=Europe/London:20251221T102000
DTEND;TZID=Europe/London:20251221T113000
DTSTAMP:20260419T222613Z
UID:7921822025-12-21 10:20:00+00:00achurchnearyou
CATEGORIES:
DESCRIPTION:FRESH takes place on the third Sunday of each month. A relaxed
 \, friendly 60-minute service of worship\, a talk\, interactive craft\, di
 scussion and prayer. We gather from 10.20am for breakfast\, and the servic
 e starts at 10.40am. The service is ‘intentionally intergenerational’\
 , which basically means all ages stay together in the service and you can 
 involve yourself as little or as much as you like with the activities.\nLo
 oking forward to seeing you there!
GEO:-3.187435269355774;51.039017611607015
LOCATION:St Luke's Church Centre
URL:https://www.achurchnearyou.com/church/19919/service-and-events/events/
 792182/
END:VEVENT
BEGIN:VEVENT
SUMMARY:FRESH All-age Breakfast Service
DTSTART;TZID=Europe/London:20260118T102000
DTEND;TZID=Europe/London:20260118T113000
DTSTAMP:20260419T222613Z
UID:7921822026-01-18 10:20:00+00:00achurchnearyou
CATEGORIES:
DESCRIPTION:FRESH takes place on the third Sunday of each month. A relaxed
 \, friendly 60-minute service of worship\, a talk\, interactive craft\, di
 scussion and prayer. We gather from 10.20am for breakfast\, and the servic
 e starts at 10.40am. The service is ‘intentionally intergenerational’\
 , which basically means all ages stay together in the service and you can 
 involve yourself as little or as much as you like with the activities.\nLo
 oking forward to seeing you there!
GEO:-3.187435269355774;51.039017611607015
LOCATION:St Luke's Church Centre
URL:https://www.achurchnearyou.com/church/19919/service-and-events/events/
 792182/
END:VEVENT
BEGIN:VEVENT
SUMMARY:FRESH All-age Breakfast Service
DTSTART;TZID=Europe/London:20260215T102000
DTEND;TZID=Europe/London:20260215T113000
DTSTAMP:20260419T222613Z
UID:7921822026-02-15 10:20:00+00:00achurchnearyou
CATEGORIES:
DESCRIPTION:FRESH takes place on the third Sunday of each month. A relaxed
 \, friendly 60-minute service of worship\, a talk\, interactive craft\, di
 scussion and prayer. We gather from 10.20am for breakfast\, and the servic
 e starts at 10.40am. The service is ‘intentionally intergenerational’\
 , which basically means all ages stay together in the service and you can 
 involve yourself as little or as much as you like with the activities.\nLo
 oking forward to seeing you there!
GEO:-3.187435269355774;51.039017611607015
LOCATION:St Luke's Church Centre
URL:https://www.achurchnearyou.com/church/19919/service-and-events/events/
 792182/
END:VEVENT
BEGIN:VEVENT
SUMMARY:FRESH All-age Breakfast Service
DTSTART;TZID=Europe/London:20260315T102000
DTEND;TZID=Europe/London:20260315T113000
DTSTAMP:20260419T222613Z
UID:7921822026-03-15 10:20:00+00:00achurchnearyou
CATEGORIES:
DESCRIPTION:FRESH takes place on the third Sunday of each month. A relaxed
 \, friendly 60-minute service of worship\, a talk\, interactive craft\, di
 scussion and prayer. We gather from 10.20am for breakfast\, and the servic
 e starts at 10.40am. The service is ‘intentionally intergenerational’\
 , which basically means all ages stay together in the service and you can 
 involve yourself as little or as much as you like with the activities.\nLo
 oking forward to seeing you there!
GEO:-3.187435269355774;51.039017611607015
LOCATION:St Luke's Church Centre
URL:https://www.achurchnearyou.com/church/19919/service-and-events/events/
 792182/
END:VEVENT
BEGIN:VEVENT
SUMMARY:FRESH All-age Breakfast Service
DTSTART;TZID=Europe/London:20260419T102000
DTEND;TZID=Europe/London:20260419T113000
DTSTAMP:20260419T222613Z
UID:7921822026-04-19 10:20:00+01:00achurchnearyou
CATEGORIES:
DESCRIPTION:FRESH takes place on the third Sunday of each month. A relaxed
 \, friendly 60-minute service of worship\, a talk\, interactive craft\, di
 scussion and prayer. We gather from 10.20am for breakfast\, and the servic
 e starts at 10.40am. The service is ‘intentionally intergenerational’\
 , which basically means all ages stay together in the service and you can 
 involve yourself as little or as much as you like with the activities.\nLo
 oking forward to seeing you there!
GEO:-3.187435269355774;51.039017611607015
LOCATION:St Luke's Church Centre
URL:https://www.achurchnearyou.com/church/19919/service-and-events/events/
 792182/
END:VEVENT
BEGIN:VEVENT
SUMMARY:FRESH All-age Breakfast Service
DTSTART;TZID=Europe/London:20260517T102000
DTEND;TZID=Europe/London:20260517T113000
DTSTAMP:20260419T222613Z
UID:7921822026-05-17 10:20:00+01:00achurchnearyou
CATEGORIES:
DESCRIPTION:FRESH takes place on the third Sunday of each month. A relaxed
 \, friendly 60-minute service of worship\, a talk\, interactive craft\, di
 scussion and prayer. We gather from 10.20am for breakfast\, and the servic
 e starts at 10.40am. The service is ‘intentionally intergenerational’\
 , which basically means all ages stay together in the service and you can 
 involve yourself as little or as much as you like with the activities.\nLo
 oking forward to seeing you there!
GEO:-3.187435269355774;51.039017611607015
LOCATION:St Luke's Church Centre
URL:https://www.achurchnearyou.com/church/19919/service-and-events/events/
 792182/
END:VEVENT
BEGIN:VEVENT
SUMMARY:FRESH All-age Breakfast Service
DTSTART;TZID=Europe/London:20260621T102000
DTEND;TZID=Europe/London:20260621T113000
DTSTAMP:20260419T222613Z
UID:7921822026-06-21 10:20:00+01:00achurchnearyou
CATEGORIES:
DESCRIPTION:FRESH takes place on the third Sunday of each month. A relaxed
 \, friendly 60-minute service of worship\, a talk\, interactive craft\, di
 scussion and prayer. We gather from 10.20am for breakfast\, and the servic
 e starts at 10.40am. The service is ‘intentionally intergenerational’\
 , which basically means all ages stay together in the service and you can 
 involve yourself as little or as much as you like with the activities.\nLo
 oking forward to seeing you there!
GEO:-3.187435269355774;51.039017611607015
LOCATION:St Luke's Church Centre
URL:https://www.achurchnearyou.com/church/19919/service-and-events/events/
 792182/
END:VEVENT
BEGIN:VEVENT
SUMMARY:FRESH All-age Breakfast Service
DTSTART;TZID=Europe/London:20260719T102000
DTEND;TZID=Europe/London:20260719T113000
DTSTAMP:20260419T222613Z
UID:7921822026-07-19 10:20:00+01:00achurchnearyou
CATEGORIES:
DESCRIPTION:FRESH takes place on the third Sunday of each month. A relaxed
 \, friendly 60-minute service of worship\, a talk\, interactive craft\, di
 scussion and prayer. We gather from 10.20am for breakfast\, and the servic
 e starts at 10.40am. The service is ‘intentionally intergenerational’\
 , which basically means all ages stay together in the service and you can 
 involve yourself as little or as much as you like with the activities.\nLo
 oking forward to seeing you there!
GEO:-3.187435269355774;51.039017611607015
LOCATION:St Luke's Church Centre
URL:https://www.achurchnearyou.com/church/19919/service-and-events/events/
 792182/
END:VEVENT
BEGIN:VEVENT
SUMMARY:FRESH All-age Breakfast Service
DTSTART;TZID=Europe/London:20260816T102000
DTEND;TZID=Europe/London:20260816T113000
DTSTAMP:20260419T222613Z
UID:7921822026-08-16 10:20:00+01:00achurchnearyou
CATEGORIES:
DESCRIPTION:FRESH takes place on the third Sunday of each month. A relaxed
 \, friendly 60-minute service of worship\, a talk\, interactive craft\, di
 scussion and prayer. We gather from 10.20am for breakfast\, and the servic
 e starts at 10.40am. The service is ‘intentionally intergenerational’\
 , which basically means all ages stay together in the service and you can 
 involve yourself as little or as much as you like with the activities.\nLo
 oking forward to seeing you there!
GEO:-3.187435269355774;51.039017611607015
LOCATION:St Luke's Church Centre
URL:https://www.achurchnearyou.com/church/19919/service-and-events/events/
 792182/
END:VEVENT
BEGIN:VEVENT
SUMMARY:FRESH All-age Breakfast Service
DTSTART;TZID=Europe/London:20260920T102000
DTEND;TZID=Europe/London:20260920T113000
DTSTAMP:20260419T222613Z
UID:7921822026-09-20 10:20:00+01:00achurchnearyou
CATEGORIES:
DESCRIPTION:FRESH takes place on the third Sunday of each month. A relaxed
 \, friendly 60-minute service of worship\, a talk\, interactive craft\, di
 scussion and prayer. We gather from 10.20am for breakfast\, and the servic
 e starts at 10.40am. The service is ‘intentionally intergenerational’\
 , which basically means all ages stay together in the service and you can 
 involve yourself as little or as much as you like with the activities.\nLo
 oking forward to seeing you there!
GEO:-3.187435269355774;51.039017611607015
LOCATION:St Luke's Church Centre
URL:https://www.achurchnearyou.com/church/19919/service-and-events/events/
 792182/
END:VEVENT
BEGIN:VEVENT
SUMMARY:FRESH All-age Breakfast Service
DTSTART;TZID=Europe/London:20261018T102000
DTEND;TZID=Europe/London:20261018T113000
DTSTAMP:20260419T222613Z
UID:7921822026-10-18 10:20:00+01:00achurchnearyou
CATEGORIES:
DESCRIPTION:FRESH takes place on the third Sunday of each month. A relaxed
 \, friendly 60-minute service of worship\, a talk\, interactive craft\, di
 scussion and prayer. We gather from 10.20am for breakfast\, and the servic
 e starts at 10.40am. The service is ‘intentionally intergenerational’\
 , which basically means all ages stay together in the service and you can 
 involve yourself as little or as much as you like with the activities.\nLo
 oking forward to seeing you there!
GEO:-3.187435269355774;51.039017611607015
LOCATION:St Luke's Church Centre
URL:https://www.achurchnearyou.com/church/19919/service-and-events/events/
 792182/
END:VEVENT
BEGIN:VEVENT
SUMMARY:FRESH All-age Breakfast Service
DTSTART;TZID=Europe/London:20261115T102000
DTEND;TZID=Europe/London:20261115T113000
DTSTAMP:20260419T222613Z
UID:7921822026-11-15 10:20:00+00:00achurchnearyou
CATEGORIES:
DESCRIPTION:FRESH takes place on the third Sunday of each month. A relaxed
 \, friendly 60-minute service of worship\, a talk\, interactive craft\, di
 scussion and prayer. We gather from 10.20am for breakfast\, and the servic
 e starts at 10.40am. The service is ‘intentionally intergenerational’\
 , which basically means all ages stay together in the service and you can 
 involve yourself as little or as much as you like with the activities.\nLo
 oking forward to seeing you there!
GEO:-3.187435269355774;51.039017611607015
LOCATION:St Luke's Church Centre
URL:https://www.achurchnearyou.com/church/19919/service-and-events/events/
 792182/
END:VEVENT
BEGIN:VEVENT
SUMMARY:FRESH All-age Breakfast Service
DTSTART;TZID=Europe/London:20261220T102000
DTEND;TZID=Europe/London:20261220T113000
DTSTAMP:20260419T222613Z
UID:7921822026-12-20 10:20:00+00:00achurchnearyou
CATEGORIES:
DESCRIPTION:FRESH takes place on the third Sunday of each month. A relaxed
 \, friendly 60-minute service of worship\, a talk\, interactive craft\, di
 scussion and prayer. We gather from 10.20am for breakfast\, and the servic
 e starts at 10.40am. The service is ‘intentionally intergenerational’\
 , which basically means all ages stay together in the service and you can 
 involve yourself as little or as much as you like with the activities.\nLo
 oking forward to seeing you there!
GEO:-3.187435269355774;51.039017611607015
LOCATION:St Luke's Church Centre
URL:https://www.achurchnearyou.com/church/19919/service-and-events/events/
 792182/
END:VEVENT
BEGIN:VEVENT
SUMMARY:FRESH All-age Breakfast Service
DTSTART;TZID=Europe/London:20270117T102000
DTEND;TZID=Europe/London:20270117T113000
DTSTAMP:20260419T222613Z
UID:7921822027-01-17 10:20:00+00:00achurchnearyou
CATEGORIES:
DESCRIPTION:FRESH takes place on the third Sunday of each month. A relaxed
 \, friendly 60-minute service of worship\, a talk\, interactive craft\, di
 scussion and prayer. We gather from 10.20am for breakfast\, and the servic
 e starts at 10.40am. The service is ‘intentionally intergenerational’\
 , which basically means all ages stay together in the service and you can 
 involve yourself as little or as much as you like with the activities.\nLo
 oking forward to seeing you there!
GEO:-3.187435269355774;51.039017611607015
LOCATION:St Luke's Church Centre
URL:https://www.achurchnearyou.com/church/19919/service-and-events/events/
 792182/
END:VEVENT
BEGIN:VEVENT
SUMMARY:FRESH All-age Breakfast Service
DTSTART;TZID=Europe/London:20270221T102000
DTEND;TZID=Europe/London:20270221T113000
DTSTAMP:20260419T222613Z
UID:7921822027-02-21 10:20:00+00:00achurchnearyou
CATEGORIES:
DESCRIPTION:FRESH takes place on the third Sunday of each month. A relaxed
 \, friendly 60-minute service of worship\, a talk\, interactive craft\, di
 scussion and prayer. We gather from 10.20am for breakfast\, and the servic
 e starts at 10.40am. The service is ‘intentionally intergenerational’\
 , which basically means all ages stay together in the service and you can 
 involve yourself as little or as much as you like with the activities.\nLo
 oking forward to seeing you there!
GEO:-3.187435269355774;51.039017611607015
LOCATION:St Luke's Church Centre
URL:https://www.achurchnearyou.com/church/19919/service-and-events/events/
 792182/
END:VEVENT
BEGIN:VEVENT
SUMMARY:FRESH All-age Breakfast Service
DTSTART;TZID=Europe/London:20270321T102000
DTEND;TZID=Europe/London:20270321T113000
DTSTAMP:20260419T222613Z
UID:7921822027-03-21 10:20:00+00:00achurchnearyou
CATEGORIES:
DESCRIPTION:FRESH takes place on the third Sunday of each month. A relaxed
 \, friendly 60-minute service of worship\, a talk\, interactive craft\, di
 scussion and prayer. We gather from 10.20am for breakfast\, and the servic
 e starts at 10.40am. The service is ‘intentionally intergenerational’\
 , which basically means all ages stay together in the service and you can 
 involve yourself as little or as much as you like with the activities.\nLo
 oking forward to seeing you there!
GEO:-3.187435269355774;51.039017611607015
LOCATION:St Luke's Church Centre
URL:https://www.achurchnearyou.com/church/19919/service-and-events/events/
 792182/
END:VEVENT
BEGIN:VEVENT
SUMMARY:FRESH All-age Breakfast Service
DTSTART;TZID=Europe/London:20270418T102000
DTEND;TZID=Europe/London:20270418T113000
DTSTAMP:20260419T222613Z
UID:7921822027-04-18 10:20:00+01:00achurchnearyou
CATEGORIES:
DESCRIPTION:FRESH takes place on the third Sunday of each month. A relaxed
 \, friendly 60-minute service of worship\, a talk\, interactive craft\, di
 scussion and prayer. We gather from 10.20am for breakfast\, and the servic
 e starts at 10.40am. The service is ‘intentionally intergenerational’\
 , which basically means all ages stay together in the service and you can 
 involve yourself as little or as much as you like with the activities.\nLo
 oking forward to seeing you there!
GEO:-3.187435269355774;51.039017611607015
LOCATION:St Luke's Church Centre
URL:https://www.achurchnearyou.com/church/19919/service-and-events/events/
 792182/
END:VEVENT
END:VCALENDAR
