BEGIN:VCALENDAR
VERSION:2.0
PRODID:-//achurchnearyou.com//eventfeed//EN
CALSCALE:GREGORIAN
METHOD:PUBLISH
X-WR-TIMEZONE:UTC
BEGIN:VEVENT
SUMMARY:Holy Communion
DTSTART;TZID=Europe/London:20260405T090000
DTEND;TZID=Europe/London:20260405T094500
DTSTAMP:20260424T111639Z
UID:2505821775376000.0achurchnearyou
CATEGORIES:
DESCRIPTION:
GEO:-0.250309;52.47669
LOCATION:St Giles
URL:https://www.achurchnearyou.com/church/19924/service-and-events/events/
 250582/
END:VEVENT
BEGIN:VEVENT
SUMMARY:Holy Communion
DTSTART;TZID=Europe/London:20260419T090000
DTEND;TZID=Europe/London:20260419T094500
DTSTAMP:20260424T111639Z
UID:2505821776585600.0achurchnearyou
CATEGORIES:
DESCRIPTION:
GEO:-0.250309;52.47669
LOCATION:St Giles
URL:https://www.achurchnearyou.com/church/19924/service-and-events/events/
 250582/
END:VEVENT
BEGIN:VEVENT
SUMMARY:Holy Communion
DTSTART;TZID=Europe/London:20260419T090000
DTEND;TZID=Europe/London:20260419T094500
DTSTAMP:20260424T111639Z
UID:2505841776585600.0achurchnearyou
CATEGORIES:
DESCRIPTION:
GEO:-0.250309;52.47669
LOCATION:St Giles
URL:https://www.achurchnearyou.com/church/19924/service-and-events/events/
 250584/
END:VEVENT
BEGIN:VEVENT
SUMMARY:Holy Communion
DTSTART;TZID=Europe/London:20260503T090000
DTEND;TZID=Europe/London:20260503T094500
DTSTAMP:20260424T111639Z
UID:2505821777795200.0achurchnearyou
CATEGORIES:
DESCRIPTION:
GEO:-0.250309;52.47669
LOCATION:St Giles
URL:https://www.achurchnearyou.com/church/19924/service-and-events/events/
 250582/
END:VEVENT
BEGIN:VEVENT
SUMMARY:Holy Communion
DTSTART;TZID=Europe/London:20260517T090000
DTEND;TZID=Europe/London:20260517T094500
DTSTAMP:20260424T111639Z
UID:2505821779004800.0achurchnearyou
CATEGORIES:
DESCRIPTION:
GEO:-0.250309;52.47669
LOCATION:St Giles
URL:https://www.achurchnearyou.com/church/19924/service-and-events/events/
 250582/
END:VEVENT
BEGIN:VEVENT
SUMMARY:Holy Communion
DTSTART;TZID=Europe/London:20260517T090000
DTEND;TZID=Europe/London:20260517T094500
DTSTAMP:20260424T111639Z
UID:2505841779004800.0achurchnearyou
CATEGORIES:
DESCRIPTION:
GEO:-0.250309;52.47669
LOCATION:St Giles
URL:https://www.achurchnearyou.com/church/19924/service-and-events/events/
 250584/
END:VEVENT
BEGIN:VEVENT
SUMMARY:Holy Communion
DTSTART;TZID=Europe/London:20260607T090000
DTEND;TZID=Europe/London:20260607T094500
DTSTAMP:20260424T111639Z
UID:2505821780819200.0achurchnearyou
CATEGORIES:
DESCRIPTION:
GEO:-0.250309;52.47669
LOCATION:St Giles
URL:https://www.achurchnearyou.com/church/19924/service-and-events/events/
 250582/
END:VEVENT
BEGIN:VEVENT
SUMMARY:Holy Communion
DTSTART;TZID=Europe/London:20260621T090000
DTEND;TZID=Europe/London:20260621T094500
DTSTAMP:20260424T111639Z
UID:2505821782028800.0achurchnearyou
CATEGORIES:
DESCRIPTION:
GEO:-0.250309;52.47669
LOCATION:St Giles
URL:https://www.achurchnearyou.com/church/19924/service-and-events/events/
 250582/
END:VEVENT
BEGIN:VEVENT
SUMMARY:Holy Communion
DTSTART;TZID=Europe/London:20260621T090000
DTEND;TZID=Europe/London:20260621T094500
DTSTAMP:20260424T111639Z
UID:2505841782028800.0achurchnearyou
CATEGORIES:
DESCRIPTION:
GEO:-0.250309;52.47669
LOCATION:St Giles
URL:https://www.achurchnearyou.com/church/19924/service-and-events/events/
 250584/
END:VEVENT
BEGIN:VEVENT
SUMMARY:Holy Communion
DTSTART;TZID=Europe/London:20260705T090000
DTEND;TZID=Europe/London:20260705T094500
DTSTAMP:20260424T111639Z
UID:2505821783238400.0achurchnearyou
CATEGORIES:
DESCRIPTION:
GEO:-0.250309;52.47669
LOCATION:St Giles
URL:https://www.achurchnearyou.com/church/19924/service-and-events/events/
 250582/
END:VEVENT
BEGIN:VEVENT
SUMMARY:Holy Communion
DTSTART;TZID=Europe/London:20260719T090000
DTEND;TZID=Europe/London:20260719T094500
DTSTAMP:20260424T111639Z
UID:2505821784448000.0achurchnearyou
CATEGORIES:
DESCRIPTION:
GEO:-0.250309;52.47669
LOCATION:St Giles
URL:https://www.achurchnearyou.com/church/19924/service-and-events/events/
 250582/
END:VEVENT
BEGIN:VEVENT
SUMMARY:Holy Communion
DTSTART;TZID=Europe/London:20260719T090000
DTEND;TZID=Europe/London:20260719T094500
DTSTAMP:20260424T111639Z
UID:2505841784448000.0achurchnearyou
CATEGORIES:
DESCRIPTION:
GEO:-0.250309;52.47669
LOCATION:St Giles
URL:https://www.achurchnearyou.com/church/19924/service-and-events/events/
 250584/
END:VEVENT
BEGIN:VEVENT
SUMMARY:Holy Communion
DTSTART;TZID=Europe/London:20260802T090000
DTEND;TZID=Europe/London:20260802T094500
DTSTAMP:20260424T111639Z
UID:2505821785657600.0achurchnearyou
CATEGORIES:
DESCRIPTION:
GEO:-0.250309;52.47669
LOCATION:St Giles
URL:https://www.achurchnearyou.com/church/19924/service-and-events/events/
 250582/
END:VEVENT
BEGIN:VEVENT
SUMMARY:Holy Communion
DTSTART;TZID=Europe/London:20260816T090000
DTEND;TZID=Europe/London:20260816T094500
DTSTAMP:20260424T111639Z
UID:2505821786867200.0achurchnearyou
CATEGORIES:
DESCRIPTION:
GEO:-0.250309;52.47669
LOCATION:St Giles
URL:https://www.achurchnearyou.com/church/19924/service-and-events/events/
 250582/
END:VEVENT
BEGIN:VEVENT
SUMMARY:Holy Communion
DTSTART;TZID=Europe/London:20260816T090000
DTEND;TZID=Europe/London:20260816T094500
DTSTAMP:20260424T111639Z
UID:2505841786867200.0achurchnearyou
CATEGORIES:
DESCRIPTION:
GEO:-0.250309;52.47669
LOCATION:St Giles
URL:https://www.achurchnearyou.com/church/19924/service-and-events/events/
 250584/
END:VEVENT
BEGIN:VEVENT
SUMMARY:Holy Communion
DTSTART;TZID=Europe/London:20260906T090000
DTEND;TZID=Europe/London:20260906T094500
DTSTAMP:20260424T111639Z
UID:2505821788681600.0achurchnearyou
CATEGORIES:
DESCRIPTION:
GEO:-0.250309;52.47669
LOCATION:St Giles
URL:https://www.achurchnearyou.com/church/19924/service-and-events/events/
 250582/
END:VEVENT
BEGIN:VEVENT
SUMMARY:Holy Communion
DTSTART;TZID=Europe/London:20260920T090000
DTEND;TZID=Europe/London:20260920T094500
DTSTAMP:20260424T111639Z
UID:2505821789891200.0achurchnearyou
CATEGORIES:
DESCRIPTION:
GEO:-0.250309;52.47669
LOCATION:St Giles
URL:https://www.achurchnearyou.com/church/19924/service-and-events/events/
 250582/
END:VEVENT
BEGIN:VEVENT
SUMMARY:Holy Communion
DTSTART;TZID=Europe/London:20260920T090000
DTEND;TZID=Europe/London:20260920T094500
DTSTAMP:20260424T111639Z
UID:2505841789891200.0achurchnearyou
CATEGORIES:
DESCRIPTION:
GEO:-0.250309;52.47669
LOCATION:St Giles
URL:https://www.achurchnearyou.com/church/19924/service-and-events/events/
 250584/
END:VEVENT
END:VCALENDAR
