BEGIN:VCALENDAR
VERSION:2.0
PRODID:-//achurchnearyou.com//eventfeed//EN
CALSCALE:GREGORIAN
METHOD:PUBLISH
X-WR-TIMEZONE:UTC
BEGIN:VEVENT
SUMMARY:Lighting of the New Fire and Exultet
DTSTART:20260405T045000Z
DTEND:20260405T053000Z
DTSTAMP:20260419T150344Z
UID:11841582026-04-05 04:50:00+00:00achurchnearyou
CATEGORIES:
DESCRIPTION:Gather at dawn outdoors in the beauty of Westerham churchyard 
 as we make the Paschal Proclamation once more\, lighting the new flame and
  blessing the Easter Candle before bringing the Light back into the buildi
 ng and singing the Church's ancient song of praise.
LOCATION:Westerham Parish Church
URL:https://www.achurchnearyou.com/church/19936/service-and-events/events/
 1184158/
END:VEVENT
END:VCALENDAR
