BEGIN:VCALENDAR
VERSION:2.0
PRODID:-//achurchnearyou.com//eventfeed//EN
CALSCALE:GREGORIAN
METHOD:PUBLISH
X-WR-TIMEZONE:UTC
BEGIN:VEVENT
SUMMARY:Ash Wednesday - 18th February 2026 - morning service cancelled
DTSTART:20260218T180000Z
DTEND:20260218T190000Z
DTSTAMP:20260419T164130Z
UID:12901732026-02-18 18:00:00+00:00achurchnearyou
CATEGORIES:
DESCRIPTION:With apologies\, the service at 10am has been cancelled due to
  illness. There will be a service at Crockham Hill at 6pm. Everybody's wel
 come.
URL:https://www.achurchnearyou.com/church/19936/service-and-events/events/
 1290173/
END:VEVENT
END:VCALENDAR
