BEGIN:VCALENDAR
VERSION:2.0
PRODID:-//achurchnearyou.com//eventfeed//EN
CALSCALE:GREGORIAN
METHOD:PUBLISH
X-WR-TIMEZONE:UTC
BEGIN:VEVENT
SUMMARY:Holy Communion at St David's Church
DTSTART;TZID=Europe/London:20250713T100000
DTEND;TZID=Europe/London:20250713T110000
DTSTAMP:20260425T234115Z
UID:7372882025-07-13 10:00:00+01:00achurchnearyou
CATEGORIES:
DESCRIPTION:Service of Holy Communion with hymns
LOCATION:St David's Church
URL:https://www.kingsthorpechurches.co.uk
END:VEVENT
BEGIN:VEVENT
SUMMARY:Holy Communion at St David's Church
DTSTART;TZID=Europe/London:20250803T100000
DTEND;TZID=Europe/London:20250803T110000
DTSTAMP:20260425T234115Z
UID:7372882025-08-03 10:00:00+01:00achurchnearyou
CATEGORIES:
DESCRIPTION:Service of Holy Communion with hymns
LOCATION:St David's Church
URL:https://www.kingsthorpechurches.co.uk
END:VEVENT
BEGIN:VEVENT
SUMMARY:Holy Communion at St David's Church
DTSTART;TZID=Europe/London:20250810T100000
DTEND;TZID=Europe/London:20250810T110000
DTSTAMP:20260425T234115Z
UID:7372882025-08-10 10:00:00+01:00achurchnearyou
CATEGORIES:
DESCRIPTION:Service of Holy Communion with hymns
LOCATION:St David's Church
URL:https://www.kingsthorpechurches.co.uk
END:VEVENT
BEGIN:VEVENT
SUMMARY:Holy Communion at St David's Church
DTSTART;TZID=Europe/London:20250817T100000
DTEND;TZID=Europe/London:20250817T110000
DTSTAMP:20260425T234115Z
UID:7372882025-08-17 10:00:00+01:00achurchnearyou
CATEGORIES:
DESCRIPTION:Service of Holy Communion with hymns
LOCATION:St David's Church
URL:https://www.kingsthorpechurches.co.uk
END:VEVENT
END:VCALENDAR
