BEGIN:VCALENDAR
VERSION:2.0
PRODID:-//achurchnearyou.com//eventfeed//EN
CALSCALE:GREGORIAN
METHOD:PUBLISH
X-WR-TIMEZONE:UTC
BEGIN:VEVENT
SUMMARY:Good Friday service of reflection
DTSTART:20250418T130000Z
DTEND:20250418T140000Z
DTSTAMP:20260424T131154Z
UID:11880462025-04-18 13:00:00+00:00achurchnearyou
CATEGORIES:
DESCRIPTION:A service of reflection on the ordeal of Jesus at His trial an
 d crucifixion\, and the rays of hope that will come at the resurrection.
GEO:0.975654;52.060503
LOCATION:St Mary's\, Aldham\, Suffolk
URL:https://www.achurchnearyou.com/church/2030/service-and-events/events/1
 188046/
END:VEVENT
END:VCALENDAR
