BEGIN:VCALENDAR
VERSION:2.0
PRODID:-//achurchnearyou.com//eventfeed//EN
CALSCALE:GREGORIAN
METHOD:PUBLISH
X-WR-TIMEZONE:UTC
BEGIN:VEVENT
SUMMARY:Epiphany
DTSTART:20260104T103000Z
DTEND:20260104T114500Z
DTSTAMP:20260424T071150Z
UID:12762922026-01-04 10:30:00+00:00achurchnearyou
CATEGORIES:
DESCRIPTION:We hold a wide range of services over the Christmas season to 
 celebrate the birth of Jesus Christ our Saviour. We also welcome children 
 from local schools and their families and friends to celebrate this season
  through their own services.\n\nBut the season is not over: we are told th
 at the Magi (Wise Men) arrived after Jesus' birth and this is celebrated a
 t Epiphany on the day after Twelfth Night. At our Festival Service you are
  welcome to join us in bringing the wise men to the crib.
GEO:1.178724;52.036399
LOCATION:All Hallows Church\, Ipswich
URL:http://allhallowschurchipswich.myfreesites.net/
END:VEVENT
END:VCALENDAR
