BEGIN:VCALENDAR
VERSION:2.0
PRODID:-//achurchnearyou.com//eventfeed//EN
CALSCALE:GREGORIAN
METHOD:PUBLISH
X-WR-TIMEZONE:UTC
BEGIN:VEVENT
SUMMARY:Enjoying Nature at Martlesham Wilds
DTSTART:20260228T140000Z
DTEND:20260228T160000Z
DTSTAMP:20260423T203801Z
UID:12802282026-02-28 14:00:00+00:00achurchnearyou
CATEGORIES:
DESCRIPTION:Meet at St Mary's Church Martlesham in the car park off Church
  Lane IP12 4PQ\, for a guided walk of about 2 miles taking roughly 2 hours
  round this new Suffolk Wildlife Trust nature reserve (https://www.suffolk
 wildlifetrust.org/martleshamwilds). \nEveryone of any age is welcome\, tho
 ugh there are some steps and we ask that children are accompanied\, please
 . Wrap up warm\, and wear good walking shoes/boots as it may be muddy! \nI
 t's a great opportunity to enjoy fresh air\, spot birds on the water and i
 n the fields and hedges\, and even see some early signs of spring\, perhap
 s! Bring binoculars if you have them. \nAfterwards there's an option of a 
 cuppa or even a mini pud at the Red Lion in Martlesham (cost for that is a
 bout £7.50). Lifts from All Hallows Church may be available.
LOCATION:RSPB Martlesham Wilds
URL:https://allhallowsipswich.co.uk/eco-church/
END:VEVENT
END:VCALENDAR
