BEGIN:VCALENDAR
VERSION:2.0
PRODID:-//achurchnearyou.com//eventfeed//EN
CALSCALE:GREGORIAN
METHOD:PUBLISH
X-WR-TIMEZONE:UTC
BEGIN:VEVENT
SUMMARY:All-Age Service
DTSTART:20260315T103000Z
DTEND:20260315T120000Z
DTSTAMP:20260423T074212Z
UID:13029362026-03-15 10:30:00+00:00achurchnearyou
CATEGORIES:
DESCRIPTION:On one Sunday a month the morning Eucharist service takes on a
  lighter touch which may appeal more to younger people. As always everyone
  is welcome and Communion will be offered as usual.\nThis month we will ho
 ld our All-Age service on Mothering Sunday when we remember Mary\, Mother 
 of Jesus\, and celebrate motherhood.
GEO:1.178724;52.036399
LOCATION:All Hallows Church\, Ipswich
URL:https://allhallowsipswich.co.uk/
END:VEVENT
END:VCALENDAR
