BEGIN:VCALENDAR
VERSION:2.0
PRODID:-//achurchnearyou.com//eventfeed//EN
CALSCALE:GREGORIAN
METHOD:PUBLISH
X-WR-TIMEZONE:UTC
BEGIN:VEVENT
SUMMARY:Kingdom Come
DTSTART:20260531T173000Z
DTEND:20260531T190000Z
DTSTAMP:20260423T203343Z
UID:13241412026-05-31 17:30:00+00:00achurchnearyou
CATEGORIES:
DESCRIPTION:No agenda just Jesus. An evening of Prayer and Worship
GEO:1.198815;52.041615
LOCATION:St Augustine's
URL:https://www.achurchnearyou.com/church/2048/service-and-events/events/1
 324141/
END:VEVENT
END:VCALENDAR
