BEGIN:VCALENDAR
VERSION:2.0
PRODID:-//achurchnearyou.com//eventfeed//EN
CALSCALE:GREGORIAN
METHOD:PUBLISH
X-WR-TIMEZONE:UTC
BEGIN:VEVENT
SUMMARY:Christingle
DTSTART:20251214T110000Z
DTEND:20251214T120000Z
DTSTAMP:20260422T145005Z
UID:11127122025-12-14 11:00:00+00:00achurchnearyou
CATEGORIES:
DESCRIPTION:The annual 'Christingle' Service
GEO:0.949182;52.195715
LOCATION:Onehouse\, St John the Baptist
URL:https://www.achurchnearyou.com/church/2079/service-and-events/events/1
 112712/
END:VEVENT
END:VCALENDAR
