BEGIN:VCALENDAR
VERSION:2.0
PRODID:-//achurchnearyou.com//eventfeed//EN
CALSCALE:GREGORIAN
METHOD:PUBLISH
X-WR-TIMEZONE:UTC
BEGIN:VEVENT
SUMMARY:Crib with Carols
DTSTART:20251224T150000Z
DTEND:20251224T154500Z
DTSTAMP:20260422T144805Z
UID:9996502025-12-24 15:00:00+00:00achurchnearyou
CATEGORIES:
DESCRIPTION:Christmas Eve for all the family
GEO:0.949182;52.195715
LOCATION:Onehouse\, St John the Baptist
URL:https://www.achurchnearyou.com/church/2079/service-and-events/events/9
 99650/
END:VEVENT
END:VCALENDAR
