BEGIN:VCALENDAR
VERSION:2.0
PRODID:-//achurchnearyou.com//eventfeed//EN
CALSCALE:GREGORIAN
METHOD:PUBLISH
X-WR-TIMEZONE:UTC
BEGIN:VEVENT
SUMMARY:Compline on Zoom
DTSTART;TZID=Europe/London:20260402T190000
DTEND;TZID=Europe/London:20260402T193000
DTSTAMP:20260421T044739Z
UID:9261821775152800.0achurchnearyou
CATEGORIES:
DESCRIPTION:Traditional night prayer with reflection\nPlease e-mail us (Se
 e Get in Touch Banner) for the code to access this event.
LOCATION:on Zoom
URL:https://www.achurchnearyou.com/church/15006/service-and-events/events/
 926182/
END:VEVENT
BEGIN:VEVENT
SUMMARY:Good Friday Walk of Witness
DTSTART;TZID=Europe/London:20260403T140000
DTEND;TZID=Europe/London:20260403T153000
DTSTAMP:20260421T044739Z
UID:13158051775221200.0achurchnearyou
CATEGORIES:
DESCRIPTION:Good Friday walk from Fotherby Church to Fotherby Top\, follow
 ing the Stations of the Cross and carrying a wooden cross\, starting at 2 
 pm at Fotherby Church. Please wear suitable footwear. Dog friendly.
LOCATION:St Mary's Church\, Fotherby
URL:https://www.achurchnearyou.com/church/15006/service-and-events/events/
 1315805/
END:VEVENT
BEGIN:VEVENT
SUMMARY:Easter Sunday Service
DTSTART;TZID=Europe/London:20260405T093000
DTEND;TZID=Europe/London:20260405T103000
DTSTAMP:20260421T044739Z
UID:13158451775377800.0achurchnearyou
CATEGORIES:
DESCRIPTION:Come and join us on this joyful day to celebrate the Risen Lor
 d with Mother Karen at 9.30 am at St Mary's Church\, Covenham
LOCATION:St Mary's\, Covenham St Mary
URL:https://www.achurchnearyou.com/church/15006/service-and-events/events/
 1315845/
END:VEVENT
BEGIN:VEVENT
SUMMARY:Compline on Zoom
DTSTART;TZID=Europe/London:20260409T190000
DTEND;TZID=Europe/London:20260409T193000
DTSTAMP:20260421T044739Z
UID:9261821775757600.0achurchnearyou
CATEGORIES:
DESCRIPTION:Traditional night prayer with reflection\nPlease e-mail us (Se
 e Get in Touch Banner) for the code to access this event.
LOCATION:on Zoom
URL:https://www.achurchnearyou.com/church/15006/service-and-events/events/
 926182/
END:VEVENT
BEGIN:VEVENT
SUMMARY:Compline on Zoom
DTSTART;TZID=Europe/London:20260416T190000
DTEND;TZID=Europe/London:20260416T193000
DTSTAMP:20260421T044739Z
UID:9261821776362400.0achurchnearyou
CATEGORIES:
DESCRIPTION:Traditional night prayer with reflection\nPlease e-mail us (Se
 e Get in Touch Banner) for the code to access this event.
LOCATION:on Zoom
URL:https://www.achurchnearyou.com/church/15006/service-and-events/events/
 926182/
END:VEVENT
BEGIN:VEVENT
SUMMARY:Compline on Zoom
DTSTART;TZID=Europe/London:20260423T190000
DTEND;TZID=Europe/London:20260423T193000
DTSTAMP:20260421T044739Z
UID:9261821776967200.0achurchnearyou
CATEGORIES:
DESCRIPTION:Traditional night prayer with reflection\nPlease e-mail us (Se
 e Get in Touch Banner) for the code to access this event.
LOCATION:on Zoom
URL:https://www.achurchnearyou.com/church/15006/service-and-events/events/
 926182/
END:VEVENT
BEGIN:VEVENT
SUMMARY:Compline on Zoom
DTSTART;TZID=Europe/London:20260430T190000
DTEND;TZID=Europe/London:20260430T193000
DTSTAMP:20260421T044739Z
UID:9261821777572000.0achurchnearyou
CATEGORIES:
DESCRIPTION:Traditional night prayer with reflection\nPlease e-mail us (Se
 e Get in Touch Banner) for the code to access this event.
LOCATION:on Zoom
URL:https://www.achurchnearyou.com/church/15006/service-and-events/events/
 926182/
END:VEVENT
BEGIN:VEVENT
SUMMARY:Compline on Zoom
DTSTART;TZID=Europe/London:20260507T190000
DTEND;TZID=Europe/London:20260507T193000
DTSTAMP:20260421T044739Z
UID:9261821778176800.0achurchnearyou
CATEGORIES:
DESCRIPTION:Traditional night prayer with reflection\nPlease e-mail us (Se
 e Get in Touch Banner) for the code to access this event.
LOCATION:on Zoom
URL:https://www.achurchnearyou.com/church/15006/service-and-events/events/
 926182/
END:VEVENT
BEGIN:VEVENT
SUMMARY:Compline on Zoom
DTSTART;TZID=Europe/London:20260514T190000
DTEND;TZID=Europe/London:20260514T193000
DTSTAMP:20260421T044739Z
UID:9261821778781600.0achurchnearyou
CATEGORIES:
DESCRIPTION:Traditional night prayer with reflection\nPlease e-mail us (Se
 e Get in Touch Banner) for the code to access this event.
LOCATION:on Zoom
URL:https://www.achurchnearyou.com/church/15006/service-and-events/events/
 926182/
END:VEVENT
BEGIN:VEVENT
SUMMARY:Deanery Study/Prayer Group
DTSTART;TZID=Europe/London:20260519T100000
DTEND;TZID=Europe/London:20260519T111500
DTSTAMP:20260421T044739Z
UID:13240321779181200.0achurchnearyou
CATEGORIES:
DESCRIPTION:A study and prayer group will meet monthly\, on the third Tues
 day of the month\, beginning in May.  The study part of the sessions will 
 follow the Church of England’s “PILGRIM” resource. This resource ena
 bles an exploration of the Christian faith\, through contemplation and dis
 cussion.   For the prayer part of the sessions\, if you have any needs you
  wish the group to include in their prayers\, please indicate these to ste
 phen.woodcockmbe@gmail.com\nAll are welcome to attend whenever they can. S
 essions will begin at 10 am with tea/coffee and biscuits\, and end by appr
 oximately 11.15 am.\n19 May		Grimoldby St Edith’s Church			       LN11 8
 SW\n16 June		Ludborough St Mary’s Church		               DN36 5SG\n21 Ju
 ly			Legbourne Community Centre		        LN11 8LW\n18 August		Trinity Cent
 re Louth				        LN11 8DJ\n15 September 	Gt Carlton St John the Baptist
  Church	LN11 8JY
LOCATION:See text for locations
URL:https://www.achurchnearyou.com/church/15006/service-and-events/events/
 1324032/
END:VEVENT
BEGIN:VEVENT
SUMMARY:Compline on Zoom
DTSTART;TZID=Europe/London:20260521T190000
DTEND;TZID=Europe/London:20260521T193000
DTSTAMP:20260421T044739Z
UID:9261821779386400.0achurchnearyou
CATEGORIES:
DESCRIPTION:Traditional night prayer with reflection\nPlease e-mail us (Se
 e Get in Touch Banner) for the code to access this event.
LOCATION:on Zoom
URL:https://www.achurchnearyou.com/church/15006/service-and-events/events/
 926182/
END:VEVENT
BEGIN:VEVENT
SUMMARY:Compline on Zoom
DTSTART;TZID=Europe/London:20260528T190000
DTEND;TZID=Europe/London:20260528T193000
DTSTAMP:20260421T044739Z
UID:9261821779991200.0achurchnearyou
CATEGORIES:
DESCRIPTION:Traditional night prayer with reflection\nPlease e-mail us (Se
 e Get in Touch Banner) for the code to access this event.
LOCATION:on Zoom
URL:https://www.achurchnearyou.com/church/15006/service-and-events/events/
 926182/
END:VEVENT
END:VCALENDAR
